{"text_format":"1","workbook":"xlsx","n_sheets":25,"sheets":["作成シート","冒険現在値","戦闘現在値","所持金","冒険結果","キャラクターシート","テキストシート","装備","その他の所持品","プロフィール","能力値","状態","冒険者職業レベル","習得呪文","冒険者技能","一般技能","追加成長点","エラー","ラベル","固定値","武器表","鎧表","盾表","指輪腕輪","計算シート"],"not_rendered":{"charts":0,"images":2,"macros":1,"external_links":0,"defined_names":69,"comments":0,"pivot_tables":0},"unopened":[],"bounds":{"document_bytes":16777216,"sheet_cells":100000,"rows_first":2000,"rows_last":500,"rows_between":2000,"halvings":0,"cell_chars":16384,"cell_head_chars":4096},"cells_cut":0,"cells_raw":0,"read":"whole","date_system":"1900"}

{"sheet":"作成シート","index":0,"n_rows":140,"n_cols":4,"rows_kept":140,"cut":false,"hidden":false,"merged":[]}
[null,"初期因果点",3,"絞り込み"]
[null,"初期冒険者レベル",1]
[null,"名前","何か書いてください"]
[null,"種族","只人"]
[null,"年齢","不明"]
[null,"性別","不明"]
[null,"経歴／出自の出目(2d6)",7]
[null,"経歴／来歴の出目(2d6)",7]
[null,"経歴／邂逅の出目(2d6)",7]
[null,"等級","白磁等級"]
[null,"身体的特徴","何か書いてください"]
[null,"身体的特徴／髪","何か書いてください"]
[null,"身体的特徴／瞳","何か書いてください"]
[null,"冒険者になった動機の1回目の出目(1d6で1,2-3,4-5,6)","3,4"]
[null,"冒険者になった動機の2回目の出目(1d6)",4]
[null,"設定","何か書いてください"]
[null,"信仰","なし"]
[null,"状態／2D6(1回目)",5]
[null,"状態／2D6(2回目)",7]
[null,"状態／2D6(3回目)",9]
[null,"状態タイプ","固定値"]
[null,"体力点(ランダム)"]
[null,"魂魄点(ランダム)"]
[null,"技量点(ランダム)"]
[null,"知力点(ランダム)"]
[null,"集中度(ランダム)"]
[null,"持久度(ランダム)"]
[null,"反射度(ランダム)"]
[null,"能力値タイプ","固定値"]
[null,"能力値ボーナス","技量点"]
[null,"生命力基本値","状態／2D6(1回目)"]
[null,"移動力基本値","状態／2D6(2回目)"]
[null,"呪文使用回数基本値","状態／2D6(3回目)"]
[null,"冒険者職業レベル出自ボーナス","なし"]
[null,"技能出自ボーナス(1)","なし"]
[null,"技能出自ボーナス(2)","なし"]
[null,"技能来歴ボーナス","なし"]
[null,"所持冒険者職業レベル(1)","なし","冒険者職業絞り込みなし"]
[null,"所持冒険者職業レベル(2)","なし","冒険者職業絞り込みなし"]
[null,"所持冒険者職業レベル(3)","なし","冒険者職業絞り込みなし"]
[null,"所持冒険者職業レベル(4)","なし","冒険者職業絞り込みなし"]
[null,"所持冒険者職業レベル(5)","なし","冒険者職業絞り込みなし"]
[null,"追加成長点",0]
[null,"習得呪文(1)","なし","種別絞り込みなし"]
[null,"習得呪文(2)","なし","種別絞り込みなし"]
[null,"習得呪文(3)","なし","種別絞り込みなし"]
[null,"習得呪文(4)","なし","種別絞り込みなし"]
[null,"習得呪文(5)","なし","種別絞り込みなし"]
[null,"習得呪文(6)","なし","種別絞り込みなし"]
[null,"習得呪文(7)","なし","種別絞り込みなし"]
[null,"習得呪文(8)","なし","種別絞り込みなし"]
[null,"習得呪文(9)","なし","種別絞り込みなし"]
[null,"習得呪文(10)","なし","種別絞り込みなし"]
[null,"習得技能(1)","なし","技能絞り込みなし"]
[null,"習得技能(2)","なし","技能絞り込みなし"]
[null,"習得技能(3)","なし","技能絞り込みなし"]
[null,"習得技能(4)","なし","技能絞り込みなし"]
[null,"習得技能(5)","なし","技能絞り込みなし"]
[null,"習得技能(6)","なし","技能絞り込みなし"]
[null,"習得技能(7)","なし","技能絞り込みなし"]
[null,"習得技能(8)","なし","技能絞り込みなし"]
[null,"習得技能(9)","なし","技能絞り込みなし"]
[null,"習得技能(10)","なし","技能絞り込みなし"]
[null,"習得技能(11)","なし","技能絞り込みなし"]
[null,"習得技能(12)","なし","技能絞り込みなし"]
[null,"習得技能(13)","なし","技能絞り込みなし"]
[null,"習得技能(14)","なし","技能絞り込みなし"]
[null,"習得技能(15)","なし","技能絞り込みなし"]
[null,"習得技能(16)","なし","技能絞り込みなし"]
[null,"習得技能(17)","なし","技能絞り込みなし"]
[null,"習得技能(18)","なし","技能絞り込みなし"]
[null,"習得技能(19)","なし","技能絞り込みなし"]
[null,"習得技能(20)","なし","技能絞り込みなし"]
[null,"習得技能(21)","なし","技能絞り込みなし"]
[null,"習得技能(22)","なし","技能絞り込みなし"]
[null,"習得技能(23)","なし","技能絞り込みなし"]
[null,"習得技能(24)","なし","技能絞り込みなし"]
[null,"武器(1)","なし","武器種別絞り込みなし"]
[null,"武器(1)の使用近接職","なし"]
[null,"武器(1)の入手手段","購入"]
[null,"武器(1)の魔法レベル","なし"]
[null,"武器(2)","なし","武器種別絞り込みなし"]
[null,"武器(2)の使用近接職","なし"]
[null,"武器(2)の入手手段","購入"]
[null,"武器(2)の魔法レベル","なし"]
[null,"武器(3)","なし","武器種別絞り込みなし"]
[null,"武器(3)の使用近接職","なし"]
[null,"武器(3)の入手手段","購入"]
[null,"武器(3)の魔法レベル","なし"]
[null,"武器(4)","なし","武器種別絞り込みなし"]
[null,"武器(4)の使用近接職","なし"]
[null,"武器(4)の入手手段","購入"]
[null,"武器(4)の魔法レベル","なし"]
[null,"武器(5)","なし","武器種別絞り込みなし"]
[null,"武器(5)の使用近接職","なし"]
[null,"武器(5)の入手手段","購入"]
[null,"武器(5)の魔法レベル","なし"]
[null,"武器(6)","なし","武器種別絞り込みなし"]
[null,"武器(6)の使用近接職","なし"]
[null,"武器(6)の入手手段","購入"]
[null,"武器(6)の魔法レベル","なし"]
[null,"鎧","なし","鎧種別絞り込みなし"]
[null,"回避近接職","なし"]
[null,"鎧の入手手段","購入"]
[null,"鎧の魔法レベル","なし"]
[null,"盾(1)","なし","盾種別絞り込みなし"]
[null,"盾(1)受け近接職","なし"]
[null,"盾(1)の入手手段","購入"]
[null,"盾(1)の魔法レベル","なし"]
[null,"盾(2)","なし","盾種別絞り込みなし"]
[null,"盾(2)受け近接職","なし"]
[null,"盾(2)の入手手段","購入"]
[null,"盾(2)の魔法レベル","なし"]
[null,"盾(3)","なし","盾種別絞り込みなし"]
[null,"盾(3)受け近接職","なし"]
[null,"盾(3)の入手手段","購入"]
[null,"盾(3)の魔法レベル","なし"]
[null,"指輪or腕輪(右)","なし"]
[null,"指輪or腕輪(右)の入手手段","購入"]
[null,"指輪or腕輪(左)","なし"]
[null,"指輪or腕輪(左)の入手手段","購入"]
[null,"その他の所持品(1)","冒険者ツール(鈎縄10m、楔10個、小槌、火口箱、背負い袋、携帯用食器、水袋、白墨、小刀、松明(6本))"]
[null,"その他の所持品(2)","携帯食：21"]
[null,"その他の所持品(3)","衣類"]
[null,"その他の所持品(4)","なし"]
[null,"その他の所持品(5)","なし"]
[null,"その他の所持品(6)","なし"]
[null,"その他の所持品(7)","なし"]
[null,"その他の所持品(8)","なし"]
[null,"その他の所持品(9)","なし"]
[null,"その他の所持品：購入品(1)","なし"]
[null,"その他の所持品：購入品(2)","なし"]
[null,"その他の所持品：購入品(3)","なし"]
[null,"その他の所持品：購入品(4)","なし"]
[null,"その他の所持品：購入品(5)","なし"]
[null,"その他の所持品：購入品(6)","なし"]
[null,"その他の所持品：購入品(7)","なし"]
[null,"その他の所持品：購入品(8)","なし"]
[null,"その他の所持品：購入品(9)","なし"]
[null,"騎乗","なし"]

{"sheet":"冒険現在値","index":1,"n_rows":54,"n_cols":38,"rows_kept":54,"cut":false,"hidden":false,"merged":[]}
[]
[null,"体力抵抗",{"$f":"VLOOKUP(B2,能力値!$C$32:$D$69,2,FALSE)","v":6},null,"水泳",{"$f":"VLOOKUP(E2,能力値!$C$32:$D$69,2,FALSE)","v":6},null,"隠密",{"$f":"VLOOKUP(H2,能力値!$C$32:$D$69,2,FALSE)","v":5},null,"観察(10分)",{"$f":"VLOOKUP(K2,能力値!$C$32:$D$69,2,FALSE)","v":5},null,"免疫強化",{"$f":"VLOOKUP(N2,冒険者技能!$C$3:$K$67,9,FALSE)","v":0},null,"◆メモ欄\n\n\n\n\n\n\n"]
[null,"魂魄抵抗",{"$f":"VLOOKUP(B3,能力値!$C$32:$D$69,2,FALSE)","v":5},null,"登攀(技量)",{"$f":"VLOOKUP(E3,能力値!$C$32:$D$69,2,FALSE)","v":5},null,"隠密行軍",{"$f":"VLOOKUP(H3,能力値!$C$32:$D$69,2,FALSE)","v":7},null,"詳細観察(1時間)",{"$f":"VLOOKUP(K3,能力値!$C$32:$D$69,2,FALSE)","v":7},null,"呪文抵抗",{"$f":"VLOOKUP(N3,冒険者技能!$C$3:$K$67,9,FALSE)","v":0},null,null,null,null,null,null,null,null,null,null,null,null,null,null,null,null,null,null,null,null,null,null,0]
[null,"知力抵抗",{"$f":"VLOOKUP(B4,能力値!$C$32:$D$69,2,FALSE)","v":6},null,"軽業",{"$f":"VLOOKUP(E4,能力値!$C$32:$D$69,2,FALSE)","v":5},null,"咄嗟隠密",{"$f":"VLOOKUP(H4,能力値!$C$32:$D$69,2,FALSE)","v":5},null,"咄嗟観察(30秒)",{"$f":"VLOOKUP(K4,能力値!$C$32:$D$69,2,FALSE)","v":5},null,"荷重行動",{"$f":"VLOOKUP(N4,冒険者技能!$C$3:$K$67,9,FALSE)","v":1}]
[null,"呪文抵抗",{"$f":"VLOOKUP(B5,能力値!$C$32:$D$69,2,FALSE)","v":5},null,"跳躍",{"$f":"VLOOKUP(E5,能力値!$C$32:$D$69,2,FALSE)","v":5},null,"直感",{"$f":"VLOOKUP(H5,能力値!$C$32:$D$83,2,FALSE)","v":4},null,"第六感",{"$f":"VLOOKUP(K5,能力値!$C$32:$D$69,2,FALSE)","v":5},null,"体術",{"$f":"VLOOKUP(N5,冒険者技能!$C$3:$K$67,9,FALSE)","v":0}]
[null,null,null,null,null,null,null,null,null,null,null,null,null,"応急手当",{"$f":"VLOOKUP(N6,冒険者技能!$C$3:$K$67,9,FALSE)","v":0}]
[null,"怪力(集中)",{"$f":"VLOOKUP(B7,能力値!$C$32:$D$69,2,FALSE)","v":6},null,"応急手当",{"$f":"VLOOKUP(E7,能力値!$C$32:$D$69,2,FALSE)","v":5},null,"怪物知識",{"$f":"VLOOKUP(H7,能力値!$C$32:$D$69,2,FALSE)","v":5},null,"長距離移動",{"$f":"VLOOKUP(K7,能力値!$C$32:$D$69,2,FALSE)","v":9},null,"手仕事",{"$f":"VLOOKUP(N7,冒険者技能!$C$3:$K$67,9,FALSE)","v":0}]
[null,"怪力(持久)",{"$f":"VLOOKUP(B8,能力値!$C$32:$D$69,2,FALSE)","v":8},null,"手仕事(10分)",{"$f":"VLOOKUP(E8,能力値!$C$32:$D$69,2,FALSE)","v":5},null,"博識",{"$f":"VLOOKUP(H8,能力値!$C$32:$D$69,2,FALSE)","v":5},null,"短距離走",{"$f":"VLOOKUP(K8,能力値!$C$32:$D$69,2,FALSE)","v":6},null,"隠密",{"$f":"VLOOKUP(N8,冒険者技能!$C$3:$K$67,9,FALSE)","v":0}]
[null,"脱出",{"$f":"VLOOKUP(B9,能力値!$C$32:$D$69,2,FALSE)","v":6},null,"手仕事(1時間)",{"$f":"VLOOKUP(E9,能力値!$C$32:$D$69,2,FALSE)","v":7},null,"魔法知識",{"$f":"VLOOKUP(H9,能力値!$C$32:$D$69,2,FALSE)","v":5},null,"野草採取(1時間)",{"$f":"VLOOKUP(K9,能力値!$C$32:$D$69,2,FALSE)","v":7},null,"怪物知識",{"$f":"VLOOKUP(N9,冒険者技能!$C$3:$K$67,9,FALSE)","v":0}]
[null,"登攀（筋力)",{"$f":"VLOOKUP(B10,能力値!$C$32:$D$69,2,FALSE)","v":8},null,"手仕事(30秒)",{"$f":"VLOOKUP(E10,能力値!$C$32:$D$69,2,FALSE)","v":5},null,"文献調査",{"$f":"VLOOKUP(H10,能力値!$C$32:$D$69,2,FALSE)","v":7},null,"野獣発見(1時間)",{"$f":"VLOOKUP(K10,能力値!$C$32:$D$69,2,FALSE)","v":7},null,"観察",{"$f":"VLOOKUP(N10,冒険者技能!$C$3:$K$67,9,FALSE)","v":0}]
[null,null,null,null,null,null,null,null,null,null,null,null,null,"第六感",{"$f":"VLOOKUP(N11,冒険者技能!$C$3:$K$67,9,FALSE)","v":0}]
[null,"体力集中",{"$f":"能力値!J10","v":"５"},null,"魂魄集中",{"$f":"能力値!K10","v":"４"},null,"技量集中",{"$f":"能力値!L10","v":"５"},null,"知力集中",{"$f":"能力値!M10","v":"５"},null,"沈着冷静",{"$f":"VLOOKUP(N12,一般技能!$B$3:$I$47,8,FALSE)","v":0}]
[null,"体力持久",{"$f":"能力値!J11","v":"７"},null,"魂魄持久",{"$f":"能力値!K11","v":"６"},null,"技量持久",{"$f":"能力値!L11","v":"７"},null,"知力持久",{"$f":"能力値!M11","v":"７"},null,"博識",{"$f":"VLOOKUP(N13,一般技能!$B$3:$I$47,8,FALSE)","v":0}]
[null,"体力反射",{"$f":"能力値!J12","v":"５"},null,"魂魄反射",{"$f":"能力値!K12","v":"４"},null,"技量反射",{"$f":"能力値!L12","v":"５"},null,"知力反射",{"$f":"能力値!M12","v":"５"},null,"文献調査",{"$f":"VLOOKUP(N14,一般技能!$B$3:$I$47,8,FALSE)","v":0}]
[null,null,null,null,null,null,null,null,null,null,null,null,null,"長距離移動",{"$f":"VLOOKUP(N15,一般技能!$B$3:$I$47,8,FALSE)","v":1}]
[null,{"$f":"状態!$D$60","v":"街道移動距離（１時間／10分） 効力値：～９：3360／630　１０～１４：4200／840　１５～１９：5040／840　２０～２４：5880／1050　２５～３０：6720／1260　"}]
[null,{"$f":"状態!D78","v":"荒野移動距離（１時間／10分） 効力値：～９：1260／210　１０～１４：1470／420　１５～１９：1680／420　２０～２４：2100／420　２５～３０：2310／420　"}]
[null,{"$f":"状態!D96","v":"警戒移動距離（１時間／10分） 効力値：～９：420／63　１０～１４：630／84　１５～１９：630／105　２０～２４：840／126　２５～３０：840／126　"}]
[null,{"$f":"状態!D115","v":""}]
[null,{"$f":"状態!D133","v":""}]
[]
[null,{"$f":"テキストシート!B16","v":"◆消耗　"}]
[null,{"$f":"テキストシート!B17","v":"　 1　　□□□□□　　全判定－２ "},null,null,null,null,null,"交渉：説得",{"$f":"VLOOKUP(H23,能力値!$C$32:$D$79,2,FALSE)","v":5},null,"◆現在因果点",null,{"$f":"I37+作成シート!C1","v":3},"◆食料",{"$f":"COUNTIF(作成シート!$C$122:$C$139,\"携帯食：21\")*21+COUNTIF(作成シート!$C$122:$C$139,\"携帯食：3\")*3+COUNTIF(作成シート!$C$122:$C$139,\"携帯食\")-C43+F43-戦闘現在値!C44+戦闘現在値!F44","v":21}]
[null,{"$f":"テキストシート!B18","v":"　 2　　□□□□　　　全判定－３　移動力半減 "},null,null,null,null,null,"交渉：誘惑",{"$f":"VLOOKUP(H24,能力値!$C$32:$D$79,2,FALSE)","v":4},null,"◆経過戦闘ラウンド",null,{"$f":"戦闘現在値!L22","v":0},"◆水袋",{"$f":"COUNTIF(作成シート!$C$122:$C$139,固定値!BT3)*1+COUNTIF(作成シート!$C$122:$C$139,\"水袋\")-C44+F44-戦闘現在値!C45+戦闘現在値!F45","v":1}]
[null,{"$f":"テキストシート!B19","v":"　 3　　□□□　　　　全判定－４　移動力と生命力半減  "},null,null,null,null,null,"交渉：脅迫",{"$f":"VLOOKUP(H25,能力値!$C$32:$D$79,2,FALSE)","v":7},null,"◆消耗合計",null,{"$f":"戦闘現在値!L23","v":0},"◆松明",{"$f":"COUNTIF(作成シート!$C$122:$C$139,固定値!BT3)*6+COUNTIF(作成シート!$C$122:$C$139,\"松明：6\")*6-C45+F45-戦闘現在値!C46+戦闘現在値!F46","v":6}]
[null,{"$f":"テキストシート!B20","v":"　 4　　□□　　　　　気絶　移動不可　生命力半減   "},null,null,null,null,null,"交渉：言いくるめ",{"$f":"VLOOKUP(H26,能力値!$C$32:$D$79,2,FALSE)","v":5},null,"◆継戦合計",null,{"$f":"戦闘現在値!L24","v":0},"◆油",{"$f":"COUNTIF(作成シート!$C$122:$C$139,\"油\")-C46+F46-戦闘現在値!C47+戦闘現在値!F47","v":0}]
[null,{"$f":"テキストシート!B21","v":"　 5　　□　　　　　　死亡   "},null,null,null,null,null,"瞑想",{"$f":"VLOOKUP(H27,能力値!$C$32:$D$83,2,FALSE)","v":7},null,"◆生命力",null,{"$f":"戦闘現在値!L25","v":14},"◆手当道具",{"$f":"COUNTIF(作成シート!$C$122:$C$139,\"手当道具：5\")*5+COUNTIF(作成シート!$C$122:$C$139,\"手当道具\")-C47+F47-戦闘現在値!C48+戦闘現在値!F48","v":0}]
[null,null,null,null,null,null,null,"祈祷",{"$f":"VLOOKUP(H28,能力値!$C$32:$D$83,2,FALSE)","v":6},null,"◆生命力x2",null,{"$f":"戦闘現在値!L26","v":28}]
[null,{"$f":"テキストシート!B23","v":"◆継戦カウンター "},null,null,null,null,null,null,null,null,"◆移動力",null,{"$f":"戦闘現在値!L27","v":21}]
[null,{"$f":"テキストシート!B24","v":"□□□□○　5　□□○□□10　○□□○□15　○□○□○20　"},null,null,null,null,null,null,null,null,"◆負傷数",null,{"$f":"戦闘現在値!L28","v":0}]
[null,{"$f":"テキストシート!B25","v":"○○○○○25　○○○○○30　○○○○○35　○○○○○40　"},null,null,null,null,null,null,null,null,"◆残り呪文使用回数",null,{"$f":"戦闘現在値!L30","v":1}]
[null,"※毎ラウンド消耗時は、手動で追加消耗を増やす。カウンター回復で消耗が回復した分も手動で追加消耗を増やす。",null,null,null,null,null,null,null,null,"◆所持金",null,{"$f":"所持金!B1","v":100}]
[null,{"$f":"戦闘現在値!B32","v":"◆呪文使用回数"},null,null,null,null,null,null,null,null,"◆状態",null,{"$f":"戦闘現在値!L32","v":"健康"}]
[null,{"$f":"戦闘現在値!B33","v":"□"}]
[]
[null,"◆追加継戦カウンター",null,null,"◆追加消耗",null,null,"◆因果点上昇値",null,null,"◆生命力減少",null,null,"◆負傷数",null,null,"◆呪文使用"]
[null,"現在値：",0,null,"現在値：",0,null,"現在値：",0,null,"現在値：",0,null,"合計：",0,null,"合計：",0]
[]
[null,"◆継戦カウンター回復",null,null,"◆消耗回復",null,null,null,null,null,"◆生命力回復",null,null,"◆負傷数回復",null,null,"◆呪文使用数回復"]
[null,"合計：",0,null,"合計：",0,null,null,null,null,"合計：",0,null,"合計：",0,null,"合計：",0]
[]
[null,"◆消耗品使用",null,null,"◆消耗品獲得"]
[null,"　◆食料",0,null,"　◆食料",0]
[null,"　◆水袋",0,null,"　◆水袋",0]
[null,"　◆松明",0,null,"　◆松明",0]
[null,"　◆油",0,null,"　◆油",0]
[null,"　◆手当道具",0,null,"　◆手当道具",0]
[null,"　◆石弾",0,null,"　◆石弾",0]
[null,"　◆矢",0,null,"　◆矢",0]
[null,"　◆太矢",0,null,"　◆太矢",0]
[null,"　◆投矢",0,null,"　◆投矢",0]
[null,"　◆弾丸",0,null,"　◆弾丸",0]
[null,"　◆火の秘薬",0,null,"　◆火の秘薬",0]
[null,"　◆石弾（店石）",0,null,"　◆石弾（店石）",0]

{"sheet":"戦闘現在値","index":2,"n_rows":55,"n_cols":18,"rows_kept":55,"cut":false,"hidden":false,"merged":[[9,1,9,12],[13,1,13,12],[18,1,18,12]]}
[]
[null,{"$f":"テキストシート!B35","v":"◆呪文 "}]
[null,{"$f":"テキストシート!B36","v":" 真言呪文：呪文行使基準値（知力集中）：【５】 "}]
[null,{"$f":"テキストシート!B37","v":" 奇跡／祖竜／精霊：呪文行使基準値（魂魄集中）：【４】 "}]
[null,{"$f":"テキストシート!B38","v":"呪文行使 真言：【0】　　奇跡：【0】　　祖竜：【0】　　精霊：【0】 "}]
[null,{"$f":"テキストシート!B39","v":" 真言呪文：呪文維持基準値（知力持久）：【７】 "}]
[null,{"$f":"テキストシート!B40","v":" 奇跡／祖竜／精霊：呪文行使基準値（魂魄持久）：【６】 "}]
[null,{"$f":"テキストシート!B41","v":"呪文維持 真言：【0】　　奇跡：【0】　　祖竜：【0】　　精霊：【0】 "}]
[null,{"$f":"テキストシート!B42","v":"呪文関連技能："}]
[null,{"$f":"テキストシート!B43","v":"◎習得呪文"}]
[null,{"$f":"テキストシート!B45","v":"◆攻撃"}]
[null,{"$f":"テキストシート!B46","v":"命中基準値（技量集中）：【５】 "}]
[null,{"$f":"テキストシート!B47","v":"近接：【5】　　弩弓：【5】　　投擲：【5】 "}]
[null,{"$f":"テキストシート!B49","v":""}]
[null,{"$f":"テキストシート!B50","v":"◎効力値\n-１４：無し　１５－１９：＋１D６　２０－２４：＋２D６　２５－２９：＋３D６　３０－３９：＋４D６　４０：＋５D６"}]
[null,{"$f":"テキストシート!B52","v":"◆防御 "}]
[null,{"$f":"テキストシート!B53","v":"回避基準値（技量反射）：【５】 "}]
[null,{"$f":"テキストシート!B54","v":""}]
[null,{"$f":"テキストシート!B55","v":""}]
[]
[null,{"$f":"テキストシート!B16","v":"◆消耗　"},null,null,null,null,null,null,null,null,"◆現在因果点",{"$f":"冒険現在値!M23","v":3},null,"◆石弾",{"$f":"COUNTIF(作成シート!$C$122:$C$139,固定値!DH2&\"：\"&固定値!DI2)*固定値!DI2+COUNTIF(作成シート!$C$122:$C$139,固定値!DH2)-C49+F49-冒険現在値!C48+冒険現在値!F48","v":0}]
[null,{"$f":"テキストシート!B17","v":"　 1　　□□□□□　　全判定－２ "},null,null,null,null,null,null,null,null,"◆経過戦闘ラウンド",{"$f":"I41","v":0},null,"◆矢",{"$f":"COUNTIF(作成シート!$C$122:$C$139,固定値!DH3&\"：\"&固定値!DI3)*固定値!DI3+COUNTIF(作成シート!$C$122:$C$139,固定値!DH3)-C50+F50-冒険現在値!C49+冒険現在値!F49","v":0}]
[null,{"$f":"テキストシート!B18","v":"　 2　　□□□□　　　全判定－３　移動力半減 "},null,null,null,null,null,null,null,null,"◆消耗合計",{"$f":"F38+冒険現在値!F37+L29-F41-冒険現在値!F40","v":0},null,"◆太矢",{"$f":"COUNTIF(作成シート!$C$122:$C$139,固定値!DH4&\"：\"&固定値!DI4)*固定値!DI4+COUNTIF(作成シート!$C$122:$C$139,固定値!DH4)-C51+F51-冒険現在値!C50+冒険現在値!F50","v":0}]
[null,{"$f":"テキストシート!B19","v":"　 3　　□□□　　　　全判定－４　移動力と生命力半減  "},null,null,null,null,null,null,null,null,"◆継戦合計",{"$f":"C38+I41+冒険現在値!C37-C41-冒険現在値!C40","v":0},null,"◆投矢",{"$f":"COUNTIF(作成シート!$C$122:$C$139,固定値!DH5&\"：\"&固定値!DI5)*固定値!DI5+COUNTIF(作成シート!$C$122:$C$139,固定値!DH5)-C52+F52-冒険現在値!C51+冒険現在値!F51","v":0}]
[null,{"$f":"テキストシート!B20","v":"　 4　　□□　　　　　気絶　移動不可　生命力半減   "},null,null,null,null,null,null,null,null,"◆生命力",{"$f":"IF(L23>冒険者職業レベル!E24-1,ROUNDUP(状態!F11/2,0),状態!F11)-L38-冒険現在値!L37+L41+冒険現在値!L40","v":14},null,"◆弾丸",{"$f":"COUNTIF(作成シート!$C$122:$C$139,固定値!DH6&\"：\"&固定値!DI6)*固定値!DI6+COUNTIF(作成シート!$C$122:$C$139,固定値!DH6)-C53+F53-冒険現在値!C52+冒険現在値!F52","v":0}]
[null,{"$f":"テキストシート!B21","v":"　 5　　□　　　　　　死亡   "},null,null,null,null,null,null,null,null,"◆生命力x2",{"$f":"L25*2","v":28},null,"◆火の秘薬",{"$f":"COUNTIF(作成シート!$C$122:$C$139,固定値!DH7&\"：\"&固定値!DI7)*固定値!DI7+COUNTIF(作成シート!$C$122:$C$139,固定値!DH7)-C54+F54-冒険現在値!C53+冒険現在値!F53","v":0}]
[null,null,null,null,null,null,null,null,null,null,"◆移動力",{"$f":"IF(L23>冒険者職業レベル!E22-1,IF(L23>冒険者職業レベル!E25-1,0,ROUNDUP(状態!F12/2,0)),状態!F12)+その他の所持品!C1+装備!S13+装備!AY1","v":21},null,"◆石弾（店石）",{"$f":"COUNTIF(作成シート!$C$122:$C$139,固定値!DH8&\"：\"&固定値!DI8)*固定値!DI8+COUNTIF(作成シート!$C$122:$C$139,固定値!DH8)-C55+F55-冒険現在値!C54+冒険現在値!F54","v":0}]
[null,{"$f":"テキストシート!B23","v":"◆継戦カウンター "},null,null,null,null,null,null,null,null,"◆負傷数",{"$f":"O38+冒険現在値!O37-O41-冒険現在値!O40","v":0},null,{"$f":"IF(L25>L28,\"\",\"マイラウンド追加消耗\")","v":""}]
[null,{"$f":"テキストシート!B24","v":"□□□□○　5　□□○□□10　○□□○□15　○□○□○20　"},null,null,null,null,null,null,null,null,"◆継戦による消耗",{"$f":"VLOOKUP(L24,固定値!$CZ$2:$DA$42,2,FALSE)","v":0}]
[null,{"$f":"テキストシート!B25","v":"○○○○○25　○○○○○30　○○○○○35　○○○○○40　"},null,null,null,null,null,null,null,null,"◆残り呪文使用回数",{"$f":"状態!F13-R38-冒険現在値!R37+R41+冒険現在値!R40","v":1}]
[null,"※毎ラウンド消耗時は、手動で追加消耗を増やす。カウンター回復で消耗が回復した分も手動で追加消耗を増やす。",null,null,null,null,null,null,null,null,"◆所持金",{"$f":"所持金!B1","v":100}]
[null,"◆呪文使用回数",null,null,"体力抵抗",{"$f":"VLOOKUP(E32,能力値!$C$32:$D$69,2,FALSE)","v":6},null,"挑発",{"$f":"VLOOKUP(H32,能力値!$C$32:$D$74,2,FALSE)","v":"-"},null,"◆状態",{"$f":"IF(L28>=L25,IF(L28>=L26,\"死亡\",\"毎ラウンド消耗\"),\"健康\")","v":"健康"}]
[null,{"$f":"IF(状態!F13>0,REPT(\"□\",戦闘現在値!L30),\"\")&IF(状態!F13>0,REPT(\"■\",状態!F13-戦闘現在値!L30),\"\")","v":"□"},null,null,"魂魄抵抗",{"$f":"VLOOKUP(E33,能力値!$C$32:$D$69,2,FALSE)","v":5},null,"移動妨害",{"$f":"VLOOKUP(H33,能力値!$C$32:$D$74,2,FALSE)","v":5}]
[null,null,null,null,"知力抵抗",{"$f":"VLOOKUP(E34,能力値!$C$32:$D$69,2,FALSE)","v":6},null,"移動妨害抵抗",{"$f":"VLOOKUP(H34,能力値!$C$32:$D$74,2,FALSE)","v":5}]
[null,null,null,null,"呪文抵抗",{"$f":"VLOOKUP(E35,能力値!$C$32:$D$69,2,FALSE)","v":5},null,"機先",{"$f":"VLOOKUP(H35,能力値!$C$32:$D$74,2,FALSE)","v":0}]
[]
[null,"◆追加継戦カウンター",null,null,"◆追加消耗",null,null,"◆因果点上昇値",null,null,"◆生命力減少",null,null,"◆負傷数",null,null,"◆呪文使用"]
[null,"現在値：",0,null,"現在値：",0,null,"現在値：",0,null,"現在値：",0,null,"合計：",0,null,"合計：",0]
[]
[null,"◆継戦カウンター回復",null,null,"◆消耗回復",null,null,"◆戦闘ラウンドカウンタ",null,null,"◆生命力回復",null,null,"◆負傷数回復",null,null,"◆呪文使用数回復"]
[null,"合計：",0,null,"合計：",0,null,"合計：",0,null,"合計：",0,null,"合計：",0,null,"合計：",0]
[]
[null,"◆消耗品使用",null,null,"◆消耗品獲得"]
[null,"　◆食料",0,null,"　◆食料",0]
[null,"　◆水袋",0,null,"　◆水袋",0]
[null,"　◆松明",0,null,"　◆松明",0]
[null,"　◆油",0,null,"　◆油",0]
[null,"　◆手当道具",0,null,"　◆手当道具",0]
[null,"　◆石弾",0,null,"　◆石弾",0]
[null,"　◆矢",0,null,"　◆矢",0]
[null,"　◆太矢",0,null,"　◆太矢",0]
[null,"　◆投矢",0,null,"　◆投矢",0]
[null,"　◆弾丸",0,null,"　◆弾丸",0]
[null,"　◆火の秘薬",0,null,"　◆火の秘薬",0]
[null,"　◆石弾（店石）",0,null,"　◆石弾（店石）",0]

{"sheet":"所持金","index":3,"n_rows":2,"n_cols":4,"rows_kept":2,"cut":false,"hidden":false,"merged":[]}
["◆所持金",{"$f":"SUM(所持金!C2:C256)-SUM(所持金!D2:D256)-SUM(装備!P3:P8)-装備!P13-SUM(装備!P17:P19)-その他の所持品!J1-装備!D21","v":100},"入金","出金"]
[null,"初期値",100]

{"sheet":"冒険結果","index":4,"n_rows":110,"n_cols":5,"rows_kept":110,"cut":false,"hidden":false,"merged":[]}
[null,null,"経験点","成長点"]
[null,"初期値",3000,null,"冒険結果"]
[null,"1回目の冒険"]
[null,"2回目の冒険"]
[null,"3回目の冒険"]
[null,"4回目の冒険"]
[null,"5回目の冒険"]
[null,"6回目の冒険"]
[null,"7回目の冒険"]
[null,"8回目の冒険"]
[null,"9回目の冒険"]
[null,"10回目の冒険"]
[null,"11回目の冒険"]
[null,"12回目の冒険"]
[null,"13回目の冒険"]
[null,"14回目の冒険"]
[null,"15回目の冒険"]
[null,"16回目の冒険"]
[null,"17回目の冒険"]
[null,"18回目の冒険"]
[null,"19回目の冒険"]
[null,"20回目の冒険"]
[null,"21回目の冒険"]
[null,"22回目の冒険"]
[null,"23回目の冒険"]
[null,"24回目の冒険"]
[null,"25回目の冒険"]
[null,"26回目の冒険"]
[null,"27回目の冒険"]
[null,"28回目の冒険"]
[null,"29回目の冒険"]
[null,"30回目の冒険"]
[null,"31回目の冒険"]
[null,"32回目の冒険"]
[null,"33回目の冒険"]
[null,"34回目の冒険"]
[null,"35回目の冒険"]
[null,"36回目の冒険"]
[null,"37回目の冒険"]
[null,"38回目の冒険"]
[null,"39回目の冒険"]
[null,"40回目の冒険"]
[null,"41回目の冒険"]
[null,"42回目の冒険"]
[null,"43回目の冒険"]
[null,"44回目の冒険"]
[null,"45回目の冒険"]
[null,"46回目の冒険"]
[null,"47回目の冒険"]
[null,"48回目の冒険"]
[null,"49回目の冒険"]
[null,"50回目の冒険"]
[null,"51回目の冒険"]
[null,"52回目の冒険"]
[null,"53回目の冒険"]
[null,"54回目の冒険"]
[null,"55回目の冒険"]
[null,"56回目の冒険"]
[null,"57回目の冒険"]
[null,"58回目の冒険"]
[null,"59回目の冒険"]
[null,"60回目の冒険"]
[null,"61回目の冒険"]
[null,"62回目の冒険"]
[null,"63回目の冒険"]
[null,"64回目の冒険"]
[null,"65回目の冒険"]
[null,"66回目の冒険"]
[null,"67回目の冒険"]
[null,"68回目の冒険"]
[null,"69回目の冒険"]
[null,"70回目の冒険"]
[null,"71回目の冒険"]
[null,"72回目の冒険"]
[null,"73回目の冒険"]
[null,"74回目の冒険"]
[null,"75回目の冒険"]
[null,"76回目の冒険"]
[null,"77回目の冒険"]
[null,"78回目の冒険"]
[null,"79回目の冒険"]
[null,"80回目の冒険"]
[null,"81回目の冒険"]
[null,"82回目の冒険"]
[null,"83回目の冒険"]
[null,"84回目の冒険"]
[null,"85回目の冒険"]
[null,"86回目の冒険"]
[null,"87回目の冒険"]
[null,"88回目の冒険"]
[null,"89回目の冒険"]
[null,"90回目の冒険"]
[null,"91回目の冒険"]
[null,"92回目の冒険"]
[null,"93回目の冒険"]
[null,"94回目の冒険"]
[null,"95回目の冒険"]
[null,"96回目の冒険"]
[null,"97回目の冒険"]
[null,"98回目の冒険"]
[null,"99回目の冒険"]
[null,"100回目の冒険"]
[null,"101回目の冒険"]
[null,"102回目の冒険"]
[null,"103回目の冒険"]
[null,"104回目の冒険"]
[null,"105回目の冒険"]
[null,"106回目の冒険"]
[null,"107回目の冒険"]
[null,"108回目の冒険"]

{"sheet":"キャラクターシート","index":5,"n_rows":0,"n_cols":0,"rows_kept":0,"cut":false,"hidden":false,"merged":[]}

{"sheet":"テキストシート","index":6,"n_rows":60,"n_cols":2,"rows_kept":60,"cut":false,"hidden":false,"merged":[[48,1,48,8],[49,1,49,8],[54,1,54,8],[59,1,59,8],[6,1,6,8],[30,1,30,8],[32,1,32,8],[42,1,42,8],[8,1,8,8],[41,1,41,8]]}
[null,{"$f":"\"────────────────ゴブリンスレイヤーTRPG冒険記録用紙──────────────────\"","v":"────────────────ゴブリンスレイヤーTRPG冒険記録用紙──────────────────"}]
[null,{"$f":"\"名前：【\"&プロフィール!C2&\"】　　種族：【\"&プロフィール!C3&\"】　　性別：【\"&プロフィール!C5&\"】　　年齢：【\"&プロフィール!C4&\"】\"","v":"名前：【何か書いてください】　　種族：【只人】　　性別：【不明】　　年齢：【不明】"}]
[null,{"$f":"\"経歴：【\"&プロフィール!C6&\"／\"&プロフィール!C7&\"／\"&プロフィール!C8&\"】　　等級：【\"&プロフィール!C9&\"】\"","v":"経歴：【農民／平穏／家族】　　等級：【白磁等級】"}]
[null,{"$f":"\"身体的特徴：【\"&プロフィール!C10&\"】\"","v":"身体的特徴：【何か書いてください】"}]
[null,{"$f":"\"経験点：【\"&冒険者職業レベル!D15&\"／\"&冒険者職業レベル!D13&\"】　　成長点【\"&冒険者職業レベル!D18&\"／\"&冒険者職業レベル!D16&\"】\"","v":"経験点：【3000／3000】　　成長点【10／10】"}]
[null,{"$f":"\"───────────────────────　 設定 　───────────────────────\"","v":"───────────────────────　 設定 　───────────────────────"}]
[null,{"$f":"\"【冒険者になった動機】\"&プロフィール!C13&CHAR(10)&プロフィール!C14","v":"【冒険者になった動機】腕試しのため\n何か書いてください"}]
[null,{"$f":"\"──────────────────────────────────────────────────\"","v":"──────────────────────────────────────────────────"}]
[null,{"$f":"能力値!B16&CHAR(10)&能力値!B17&CHAR(10)&能力値!B18&CHAR(10)&能力値!B19&CHAR(10)&能力値!B20&CHAR(10)&能力値!B21&CHAR(10)&能力値!B22&CHAR(10)&能力値!B23&CHAR(10)&能力値!B24&CHAR(10)&能力値!B25&CHAR(10)&能力値!B26&CHAR(10)&能力値!B27&CHAR(10)&能力値!B28","v":"　　　　┌───┬───┬───┬───┐\n　　　　│体力点│魂魄点│技量点│知力点│\n　　　　│　３　│　２　│　３　│　３　│\n┌───┼───┼───┼───┼───┤\n│集中度│　　　│　　　│　　　│　　　│\n│　２　│　５　│　４　│　５　│　５　│\n├───┼───┼───┼───┼───┤\n│持久度│　　　│　　　│　　　│　　　│\n│　４　│　７　│　６　│　７　│　７　│\n├───┼───┼───┼───┼───┤\n│反射度│　　　│　　　│　　　│　　　│\n│　２　│　５　│　４　│　５　│　５　│\n└───┴───┴───┴───┴───┘"}]
[]
[null,{"$f":"\"生命力：【\"&戦闘現在値!L25&\"】　 　 生命力2倍：【\"&戦闘現在値!L26&\"】　　　負傷点：【\"&戦闘現在値!L28&\"】 \"","v":"生命力：【14】　 　 生命力2倍：【28】　　　負傷点：【0】 "}]
[null,{"$f":"\"移動力：【\"&戦闘現在値!L27&\"】　　呪文使用回数：【\"&状態!F13&\"】　 \"&IF(状態!F13>0,REPT(\"□\",戦闘現在値!L30),\"\")&IF(状態!F13>0,REPT(\"■\",状態!F13-戦闘現在値!L30),\"\")","v":"移動力：【21】　　呪文使用回数：【1】　 □"}]
[null,{"$f":"\"呪文抵抗基準値（魂魄反射＋冒険者LV+呪文抵抗）：【\"&能力値!D35&\"】 \"","v":"呪文抵抗基準値（魂魄反射＋冒険者LV+呪文抵抗）：【5】 "}]
[null,{"$f":"\"因果点：【\"&戦闘現在値!L21&\"】\"","v":"因果点：【3】"}]
[]
[null,{"$f":"\"◆消耗　\"","v":"◆消耗　"}]
[null,{"$f":"\"　 1　　\"&IF(戦闘現在値!L23<冒険者職業レベル!E22,REPT(\"■\",戦闘現在値!L23)&REPT(\"□\",冒険者職業レベル!E22-戦闘現在値!L23),REPT(\"■\",冒険者職業レベル!D22))&\"　　全判定－２ \"","v":"　 1　　□□□□□　　全判定－２ "}]
[null,{"$f":"\"　 2　　\"&IF(戦闘現在値!L23<冒険者職業レベル!E22,REPT(\"□\",冒険者職業レベル!D23),IF(戦闘現在値!L23<冒険者職業レベル!E23,REPT(\"■\",戦闘現在値!L23-冒険者職業レベル!E22)&REPT(\"□\",冒険者職業レベル!E23-戦闘現在値!L23),REPT(\"■\",冒険者職業レベル!D23)))&\"　　　全判定－３　移動力半減 \"","v":"　 2　　□□□□　　　全判定－３　移動力半減 "}]
[null,{"$f":"\"　 3　　\"&IF(戦闘現在値!L23<冒険者職業レベル!E23,REPT(\"□\",冒険者職業レベル!D24),IF(戦闘現在値!L23<冒険者職業レベル!E24,REPT(\"■\",戦闘現在値!L23-冒険者職業レベル!E23)&REPT(\"□\",冒険者職業レベル!E24-戦闘現在値!L23),REPT(\"■\",冒険者職業レベル!D24)))&\"　　　　全判定－４　移動力と生命力半減  \"","v":"　 3　　□□□　　　　全判定－４　移動力と生命力半減  "}]
[null,{"$f":"\"　 4　　\"&IF(戦闘現在値!L23<冒険者職業レベル!E24,REPT(\"□\",冒険者職業レベル!D25),IF(戦闘現在値!L23<冒険者職業レベル!E25,REPT(\"■\",戦闘現在値!L23-冒険者職業レベル!E24)&REPT(\"□\",冒険者職業レベル!E25-戦闘現在値!L23),REPT(\"■\",冒険者職業レベル!D25)))&\"　　　　　気絶　移動不可　生命力半減   \"","v":"　 4　　□□　　　　　気絶　移動不可　生命力半減   "}]
[null,{"$f":"\"　 5　　\"&IF(戦闘現在値!L23<冒険者職業レベル!E25,REPT(\"□\",冒険者職業レベル!D26),IF(戦闘現在値!L23<冒険者職業レベル!E26,REPT(\"■\",戦闘現在値!L23-冒険者職業レベル!E25)&REPT(\"□\",冒険者職業レベル!E26-戦闘現在値!L23),REPT(\"■\",冒険者職業レベル!D26)))&\"　　　　　　死亡   \"","v":"　 5　　□　　　　　　死亡   "}]
[]
[null,{"$f":"\"◆継戦カウンター \"","v":"◆継戦カウンター "}]
[null,{"$f":"IF(戦闘現在値!L24>0,\"■\",\"□\")&IF(戦闘現在値!L24>1,\"■\",\"□\")&IF(戦闘現在値!L24>2,\"■\",\"□\")&IF(戦闘現在値!L24>3,\"■\",\"□\")&IF(戦闘現在値!L24>4,\"●\",\"○\")&\"　5　\"&IF(戦闘現在値!L24>5,\"■\",\"□\")&IF(戦闘現在値!L24>6,\"■\",\"□\")&IF(戦闘現在値!L24>7,\"●\",\"○\")&IF(戦闘現在値!L24>8,\"■\",\"□\")&IF(戦闘現在値!L24>9,\"■\",\"□\")&\"10　\"&IF(戦闘現在値!L24>10,\"●\",\"○\")&IF(戦闘現在値!L24>11,\"■\",\"□\")&IF(戦闘現在値!L24>12,\"■\",\"□\")&IF(戦闘現在値!L24>13,\"●\",\"○\")&IF(戦闘現在値!L24>14,\"■\",\"□\")&\"15　\"&IF(戦闘現在値!L24>15,\"●\",\"○\")&IF(戦闘現在値!L24>16,\"■\",\"□\")&IF(戦闘現在値!L24>17,\"●\",\"○\")&IF(戦闘現在値!L24>18,\"■\",\"□\")&IF(戦闘現在値!L24>19,\"●\",\"○\")&\"20　\"","v":"□□□□○　5　□□○□□10　○□□○□15　○□○□○20　"}]
[null,{"$f":"IF(戦闘現在値!L24>20,\"●\",\"○\")&IF(戦闘現在値!L24>21,\"●\",\"○\")&IF(戦闘現在値!L24>22,\"●\",\"○\")&IF(戦闘現在値!L24>23,\"●\",\"○\")&IF(戦闘現在値!L24>24,\"●\",\"○\")&\"25　\"&IF(戦闘現在値!L24>25,\"●\",\"○\")&IF(戦闘現在値!L24>26,\"●\",\"○\")&IF(戦闘現在値!L24>27,\"●\",\"○\")&IF(戦闘現在値!L24>28,\"●\",\"○\")&IF(戦闘現在値!L24>29,\"●\",\"○\")&\"30　\"&IF(戦闘現在値!L24>30,\"●\",\"○\")&IF(戦闘現在値!L24>31,\"●\",\"○\")&IF(戦闘現在値!L24>32,\"●\",\"○\")&IF(戦闘現在値!L24>33,\"●\",\"○\")&IF(戦闘現在値!L24>34,\"●\",\"○\")&\"35　\"&IF(戦闘現在値!L24>35,\"●\",\"○\")&IF(戦闘現在値!L24>36,\"●\",\"○\")&IF(戦闘現在値!L24>37,\"●\",\"○\")&IF(戦闘現在値!L24>38,\"●\",\"○\")&IF(戦闘現在値!L24>39,\"●\",\"○\")&\"40　\"","v":"○○○○○25　○○○○○30　○○○○○35　○○○○○40　"}]
[null,"※○１つにつき１点消耗 "]
[]
[null,{"$f":"\"◆冒険者レベル：【\"&冒険者職業レベル!D19&\"】\"","v":"◆冒険者レベル：【1】"}]
[null,{"$f":"\" 職業レベル：\"&冒険者職業レベル!C34&冒険者職業レベル!C35&冒険者職業レベル!C36&冒険者職業レベル!C37&冒険者職業レベル!C38&冒険者職業レベル!C39&冒険者職業レベル!C40&冒険者職業レベル!C41","v":" 職業レベル："}]
[]
[null,{"$f":"\"◆冒険者技能　　　　　　初歩　／　習熟　　／　熟達　　／　達人　　／　伝説　　／　効果 \"&冒険者技能!N1","v":"◆冒険者技能　　　　　　初歩　／　習熟　　／　熟達　　／　達人　　／　伝説　　／　効果 \n【荷重行動】　　　　　　　●　　　　　○　　　　　○　　　　　○　　 　　○　 ／\n【武器：投擲武器】　　　　●　　　　　○　　　　　○　　　　　○　　 　　○　 ／"}]
[]
[null,{"$f":"\"◆一般技能　　　　　　　初歩　／　　習熟　／　　熟達　／　効果 \"&一般技能!K1","v":"◆一般技能　　　　　　　初歩　／　　習熟　／　　熟達　／　効果 \n【長距離移動】　　　　　　●　　　　　○　　　　　○　 ／"}]
[]
[null,"◆呪文 "]
[null,{"$f":"\" 真言呪文：呪文行使基準値（知力集中）：【\"&能力値!M10&\"】 \"","v":" 真言呪文：呪文行使基準値（知力集中）：【５】 "}]
[null,{"$f":"\" 奇跡／祖竜／精霊：呪文行使基準値（魂魄集中）：【\"&能力値!K10&\"】 \"","v":" 奇跡／祖竜／精霊：呪文行使基準値（魂魄集中）：【４】 "}]
[null,{"$f":"\"呪文行使 真言：【\"&IF(冒険者職業レベル!E7>0,能力値!M10+冒険者職業レベル!E7&IF(装備!AV1>0,\"+\"&装備!AV1&\"(武器)\",\"\")&IF(その他の所持品!F1>0,\"+\"&その他の所持品!F1&\"(道具)\",\"\"),0)&\"】　　奇跡：【\"&IF(冒険者職業レベル!E8>0,能力値!K10+冒険者職業レベル!E8&IF(装備!AW1>0,\"+\"&装備!AW1&\"(武器)\",\"\")&IF(その他の所持品!G1>0,\"+\"&その他の所持品!G1&\"(道具)\",\"\"),0)&\"】　　祖竜：【\"&IF(冒険者職業レベル!E9>0,能力値!K10+冒険者職業レベル!E9&IF(装備!BB1>0,\"+\"&装備!BB1&\"(武器)\",\"\")&IF(その他の所持品!H1>0,\"+\"&その他の所持品!H1&\"(道具)\",\"\"),0)&\"】　　精霊：【\"&IF(冒険者職業レベル!E10>0,能力値!K10+冒険者職業レベル!E10&IF(装備!BC1>0,\"+\"&装備!BC1&\"(武器)\",\"\")&IF(その他の所持品!I1>0,\"+\"&その他の所持品!I1&\"(道具)\",\"\"),0)&\"】 \"","v":"呪文行使 真言：【0】　　奇跡：【0】　　祖竜：【0】　　精霊：【0】 "}]
[null,{"$f":"\" 真言呪文：呪文維持基準値（知力持久）：【\"&能力値!M11&\"】 \"","v":" 真言呪文：呪文維持基準値（知力持久）：【７】 "}]
[null,{"$f":"\" 奇跡／祖竜／精霊：呪文行使基準値（魂魄持久）：【\"&能力値!K11&\"】 \"","v":" 奇跡／祖竜／精霊：呪文行使基準値（魂魄持久）：【６】 "}]
[null,{"$f":"\"呪文維持 真言：【\"&IF(冒険者職業レベル!E7>0,能力値!M11+冒険者職業レベル!E7,0)&\"】　　奇跡：【\"&IF(冒険者職業レベル!E8>0,能力値!K11+冒険者職業レベル!E8,0)&\"】　　祖竜：【\"&IF(冒険者職業レベル!E9>0,能力値!K11+冒険者職業レベル!E9,0)&\"】　　精霊：【\"&IF(冒険者職業レベル!E10>0,能力値!K11+冒険者職業レベル!E10,0)&\"】 \"","v":"呪文維持 真言：【0】　　奇跡：【0】　　祖竜：【0】　　精霊：【0】 "}]
[null,{"$f":"\"呪文関連技能：\"&冒険者技能!Q1","v":"呪文関連技能："}]
[null,{"$f":"\"◎習得呪文\"&習得呪文!H1","v":"◎習得呪文"}]
[]
[null,{"$f":"\"◆攻撃\"","v":"◆攻撃"}]
[null,{"$f":"\"命中基準値（技量集中）：【\"&能力値!L10&\"】 \"","v":"命中基準値（技量集中）：【５】 "}]
[null,{"$f":"\"近接：【\"&MAX(冒険者職業レベル!E3,冒険者職業レベル!E4,冒険者職業レベル!E6)+能力値!L10&\"】　　弩弓：【\"&能力値!L10+MAX(冒険者職業レベル!E5,冒険者職業レベル!E6)&\"】　　投擲：【\"&能力値!L10+MAX(冒険者職業レベル!E5,冒険者職業レベル!E6,冒険者職業レベル!E4)&\"】 \"","v":"近接：【5】　　弩弓：【5】　　投擲：【5】 "}]
[]
[null,{"$f":"装備!V1","v":""}]
[null,{"$f":"\"◎効力値\"&CHAR(10)&\"-１４：無し　１５－１９：＋１D６　２０－２４：＋２D６　２５－２９：＋３D６　３０－３９：＋４D６　４０：＋５D６\"","v":"◎効力値\n-１４：無し　１５－１９：＋１D６　２０－２４：＋２D６　２５－２９：＋３D６　３０－３９：＋４D６　４０：＋５D６"}]
[]
[null,{"$f":"\"◆防御 \"","v":"◆防御 "}]
[null,{"$f":"\"回避基準値（技量反射）：【\"&能力値!L12&\"】 \"","v":"回避基準値（技量反射）：【５】 "}]
[null,{"$f":"IF(MAX(冒険者職業レベル!E3,冒険者職業レベル!E4,冒険者職業レベル!E6)=0,\"\",\"【\"&VLOOKUP(MAX(冒険者職業レベル!E3,冒険者職業レベル!E4,冒険者職業レベル!E6),冒険者職業レベル!$O$3:$P$5,2,FALSE)&\"：\"&MAX(冒険者職業レベル!E3,冒険者職業レベル!E4,冒険者職業レベル!E6)&\"】\")&IF(冒険者技能!K29>0,\" 【体術：\"&冒険者技能!K29&\"】\",\"\")&IF(冒険者技能!K17>0,\" 【受け流し：\"&冒険者技能!K17&\"】\",\"\")","v":""}]
[null,{"$f":"装備!V13&装備!V16","v":""}]
[]
[null,{"$f":"\"◆所持金 \"","v":"◆所持金 "}]
[null,{"$f":"\"銀貨：\"&所持金!B1","v":"銀貨：100"}]
[]
[null,{"$f":"\"◆その他の所持品 \"&CHAR(10)&\"移動力修正【\"&SUM(その他の所持品!C3:C19)&\"】\"&その他の所持品!K1","v":"◆その他の所持品 \n移動力修正【0】\n冒険者ツール(鈎縄10m、楔10個、小槌、火口箱、背負い袋、携帯用食器、水袋、白墨、小刀、松明(6本))\n携帯食：21\n衣類"}]

{"sheet":"装備","index":7,"n_rows":24,"n_cols":63,"rows_kept":24,"cut":false,"hidden":false,"merged":[]}
["◆攻撃",null,null,null,null,null,null,null,null,null,null,null,null,null,null,null,null,null,null,null,null,{"$f":"V3&V4&V5&V6&V7&V8","v":""},{"$f":"W3&W4&W5","v":""},null,null,null,null,null,null,null,null,{"$f":"AF3&AF4&AF5","v":""},{"$f":"AG3&AG4&AG5","v":""},null,null,null,null,null,null,null,null,null,null,null,null,null,null,{"$f":"MAX(AV3:AV8)","v":-1},{"$f":"MAX(AW3:AW8)","v":-1},{"$f":"SUM(AX3:AX8)","v":0},{"$f":"SUM(AY3:AY8)","v":0},{"$f":"MAX(AZ3:AZ8)","v":0},{"$f":"MAX(BA3:BA8)","v":0},{"$f":"MAX(BB3:BB8)","v":-1},{"$f":"MAX(BC3:BC8)","v":-1}]
[null,"使用近接職","クラスレベル","技能ボーナス","腕輪ダメージボーナス","武器","用途","重量","持手","属性","威力","命中修正","射程","効果","入手手段","価格","受け流し","強打・斬","強打・殴","刺突",null,null,null,"威力ダイス","威力修正","斬","殴","刺","最大","最大属性",null,null,null,"表示用名称","竜の末裔ボーナス","隠密性修正","水泳修正","神官or竜司祭Lv1装甲","神官or竜司祭Lv5装甲","野伏Lv1隠密","野伏Lv1回避","交渉：誘惑","神官(戦女神)：交渉：誘惑","登攀修正","最終隠密修正","跳躍修正","最終交渉：誘惑","真言呪文行使判定修正","奇跡行使判定修正","回避修正","移動修正","第六感判定","体術判定","祖霊術行使判定修正","精霊術行使判定修正","鉄の拳","発勁","技能表示","魔法の修正","価格倍率","価格修正値","魔法レベル","表示名"]
[null,{"$f":"作成シート!C79","v":"なし"},{"$f":"IF(B3=\"なし\",0,VLOOKUP(B3,冒険者職業レベル!$C$3:$E$6,3,FALSE))","v":0},{"$f":"IF(G3=\"-\",0,VLOOKUP(G3,冒険者技能!$C$37:$K$45,9,FALSE))","v":0},{"$f":"IF(G3=\"-\",0,VLOOKUP(G3,冒険者技能!$C$37:$Q$45,15,FALSE))","v":0},{"$f":"作成シート!C78","v":"なし"},{"$f":"VLOOKUP(F3,武器表!$B$2:$K$978,2,FALSE)","v":"-"},{"$f":"VLOOKUP(F3,武器表!$B$2:$K$978,3,FALSE)","v":"-"},{"$f":"VLOOKUP(F3,武器表!$B$2:$K$978,4,FALSE)","v":"-"},{"$f":"VLOOKUP(F3,武器表!$B$2:$K$978,5,FALSE)","v":"-"},{"$f":"VLOOKUP(F3,武器表!$B$2:$K$978,6,FALSE)","v":"-"},{"$f":"VLOOKUP(F3,武器表!$B$2:$K$978,7,FALSE)+BG3","v":0},{"$f":"VLOOKUP(F3,武器表!$B$2:$K$978,8,FALSE)","v":"-"},{"$f":"VLOOKUP(F3,武器表!$B$2:$K$978,9,FALSE)&IF(G3=\"武器：格闘武器\",IF(冒険者技能!$K$36>0,冒険者技能!$Q$36,\"\"),\"\")","v":"-"},{"$f":"作成シート!C80","v":"購入"},{"$f":"IF(O3=\"購入\",VLOOKUP(F3,武器表!$B$2:$K$978,10,FALSE)*BH3+BI3,0)","v":0},{"$f":"VLOOKUP(F3,武器表!$B$2:$L$978,11,FALSE)","v":-1},{"$f":"VLOOKUP($F3,武器表!$B$2:$Q$978,12,FALSE)","v":-1},{"$f":"VLOOKUP($F3,武器表!$B$2:$Q$978,13,FALSE)","v":-1},{"$f":"VLOOKUP($F3,武器表!$B$2:$Q$978,14,FALSE)","v":-1},null,{"$f":"IF(F3=\"なし\",\"\",\"◎武器：【\"&BK3&\"】\"&CHAR(10)&\"用途／属性：【\"&G3&H3&I3&\"／\"&J3&\" 】　　命中値合計：【\"&能力値!$L$10+C3+D3+L3+E3&\"】\"&CHAR(10)&\"ダメージ：\"&X3&IF(C3+Y3+BD3>0,\"+\"&C3+Y3+BD3,\"\")&IF(BE3=\"\",\"\",\"+\"&BE3)&IF(C3>0,CHAR(10)&\"クラス：\"&B3&C3,\"\")&IF(D3>0,CHAR(10)&\"技能：\"&G3&D3,\"\")&CHAR(10)&\"効果：\"&N3&IF(N3=\"\",\"\",IF(AC3>0,\"、\",\"\"))&IF(AC3>0,\" 追加効果値：\"&AC3,\"\"))&IF(E3>0,\" 腕輪指輪+\"&E3,\"\")&IF(冒険者技能!K22>0,IF(COUNTIF(N3,\"*斬落*\")>0,\" 斬り落とし攻撃可能\",\"\"),\"\")","v":""},{"$f":"IF(F3=\"なし\",\"\",CHAR(10)&AH3&REPT(\"　\",8-LEN(AH3))&AE3&REPT(\"　\",6-LEN(AE3))&C3+D3+能力値!$L$10&REPT(\"　\",5-LEN(C3+D3+能力値!$L$10))&L3&REPT(\" \",5-LEN(L3))&C3+D3+能力値!$L$10+L3&\"  \"&K3&REPT(\" \",8-LEN(K3))&C3&\"   \"&IF(BF3=\"\",\"-----\",BF3)&\" \"&X3&\"+\"&C3+Y3+BD3&IF(BE3=\"\",\"\",\"+\"&BE3)&\" \"&M3)","v":""},{"$f":"VLOOKUP(F3,武器表!$B$2:$Q$978,15,FALSE)","v":"-"},{"$f":"VLOOKUP(F3,武器表!$B$2:$Q$978,16,FALSE)+E3+BG3","v":0},{"$f":"IF(R3>-1,IF(冒険者技能!$U$19>-1,R3+冒険者技能!$U$19,-1),-1)","v":-1},{"$f":"IF(S3>-1,IF(冒険者技能!$U$20>-1,冒険者技能!$U$20+S3,-1),-1)","v":-1},{"$f":"IF(T3>-1,IF(冒険者技能!$U$26>-1,冒険者技能!$U$26*T3,-1),-1)","v":-1},{"$f":"MAX(Z3:AB3)","v":-1},{"$f":"IF(AC3<0,\"\",IF(Z3=AC3,\"斬\",IF(AC3=AA3,\"殴\",\"刺\")))","v":""},{"$f":"SUBSTITUTE(SUBSTITUTE(SUBSTITUTE(G3,\"武器：\",\"\"),\"手\",\"\"),\"武器\",\"\")","v":"-"},{"$f":"IF(F3=\"なし\",\"\",CHAR(10)&I3&\"/\"&CHAR(10)&J3)","v":""},{"$f":"IF(F3=\"なし\",\"\",CHAR(10)&LEFT(N3,32)&IF(N3=\"\",\"\",IF(AC3>0,\"、\",\"\"))&IF(AC3>0,\"追加効果値：\"&AC3,\"\"))","v":""},{"$f":"LEFT(BK3,8)","v":"なし"},null,null,null,null,null,null,null,null,null,null,null,null,null,{"$f":"VLOOKUP($F3,武器表!$B$2:$W$978,17,FALSE)","v":-1},{"$f":"VLOOKUP($F3,武器表!$B$2:$W$978,18,FALSE)","v":-1},{"$f":"VLOOKUP($F3,武器表!$B$2:$W$978,19,FALSE)","v":0},{"$f":"VLOOKUP($F3,武器表!$B$2:$W$978,20,FALSE)","v":0},{"$f":"VLOOKUP($F3,武器表!$B$2:$W$978,21,FALSE)","v":0},{"$f":"VLOOKUP($F3,武器表!$B$2:$W$978,22,FALSE)","v":0},{"$f":"VLOOKUP($F3,武器表!$B$2:$Y$978,23,FALSE)","v":-1},{"$f":"VLOOKUP($F3,武器表!$B$2:$Y$978,24,FALSE)","v":-1},{"$f":"IF(COUNTIF(F3,\"*素手攻撃*\")>0,IF(冒険者技能!$K$32>0,冒険者技能!$U$32,0),0)","v":0},{"$f":"IF(G3=\"武器：格闘武器\",IF(冒険者技能!$K$36>0,冒険者技能!$U$36,\"\"),\"\")","v":""},{"$f":"IF(BD3>0,\"+\"&BD3,\"\")&IF(BE3=\"\",\"\",\"+\"&BE3)","v":""},{"$f":"VLOOKUP(BJ3,固定値!$EL$2:$EO$6,2,FALSE)","v":0},{"$f":"VLOOKUP(BJ3,固定値!$EL$2:$EO$6,3,FALSE)","v":1},{"$f":"VLOOKUP(BJ3,固定値!$EL$2:$EO$6,4,FALSE)","v":0},{"$f":"作成シート!C81","v":"なし"},{"$f":"IF(BG3<1,F3,\"魔法の\"&F3&BJ3)","v":"なし"}]
[null,{"$f":"作成シート!C83","v":"なし"},{"$f":"IF(B4=\"なし\",0,VLOOKUP(B4,冒険者職業レベル!$C$3:$E$6,3,FALSE))","v":0},{"$f":"IF(G4=\"-\",0,VLOOKUP(G4,冒険者技能!$C$37:$K$45,9,FALSE))","v":0},{"$f":"IF(G4=\"-\",0,VLOOKUP(G4,冒険者技能!$C$37:$Q$45,15,FALSE))","v":0},{"$f":"作成シート!C82","v":"なし"},{"$f":"VLOOKUP(F4,武器表!$B$2:$K$978,2,FALSE)","v":"-"},{"$f":"VLOOKUP(F4,武器表!$B$2:$K$978,3,FALSE)","v":"-"},{"$f":"VLOOKUP(F4,武器表!$B$2:$K$978,4,FALSE)","v":"-"},{"$f":"VLOOKUP(F4,武器表!$B$2:$K$978,5,FALSE)","v":"-"},{"$f":"VLOOKUP(F4,武器表!$B$2:$K$978,6,FALSE)","v":"-"},{"$f":"VLOOKUP(F4,武器表!$B$2:$K$978,7,FALSE)+BG4","v":0},{"$f":"VLOOKUP(F4,武器表!$B$2:$K$978,8,FALSE)","v":"-"},{"$f":"VLOOKUP(F4,武器表!$B$2:$K$978,9,FALSE)&IF(G4=\"武器：格闘武器\",IF(冒険者技能!$K$36>0,\"【発勁】使用可能1点消耗するごとに、威力へのボーナスに追加で+1(最大で\"&能力値!D6&\"まで)\",\"\"),\"\")","v":"-"},{"$f":"作成シート!C84","v":"購入"},{"$f":"IF(O4=\"購入\",VLOOKUP(F4,武器表!$B$2:$K$978,10,FALSE)*BH4+BI4,0)","v":0},{"$f":"VLOOKUP(F4,武器表!$B$2:$L$978,11,FALSE)","v":-1},{"$f":"VLOOKUP($F4,武器表!$B$2:$Q$978,12,FALSE)","v":-1},{"$f":"VLOOKUP($F4,武器表!$B$2:$Q$978,13,FALSE)","v":-1},{"$f":"VLOOKUP($F4,武器表!$B$2:$Q$978,14,FALSE)","v":-1},null,{"$f":"IF(F4=\"なし\",\"\",CHAR(10)&CHAR(10)&\"◎武器：【\"&BK4&\"】\"&CHAR(10)&\"用途／属性：【\"&G4&H4&I4&\"／\"&J4&\" 】　　命中値合計：【\"&能力値!$L$10+C4+D4+L4+E4&\"】\"&CHAR(10)&\"ダメージ：\"&X4&IF(C4+Y4+BD4>0,\"+\"&C4+Y4+BD4,\"\")&IF(BE4=\"\",\"\",\"+\"&BE4)&IF(C4>0,CHAR(10)&\"クラス：\"&B4&C4,\"\")&IF(D4>0,CHAR(10)&\"技能：\"&G4&D4,\"\")&CHAR(10)&\"効果：\"&N4&IF(N4=\"\",\"\",IF(AC4>0,\"、\",\"\"))&IF(AC4>0,\" 追加効果値：\"&AC4,\"\"))&IF(E4>0,\" 腕輪指輪+\"&E4,\"\")&IF(冒険者技能!K23>0,IF(COUNTIF(N4,\"*斬落*\")>0,\" 斬り落とし攻撃可能\",\"\"),\"\")","v":""},{"$f":"IF(F4=\"なし\",\"\",CHAR(10)&AH4&REPT(\"　\",8-LEN(AH4))&AE4&REPT(\"　\",6-LEN(AE4))&C4+D4+能力値!$L$10&REPT(\"　\",5-LEN(C4+D4+能力値!$L$10))&L4&REPT(\" \",5-LEN(L4))&C4+D4+能力値!$L$10+L4&\"  \"&K4&REPT(\" \",8-LEN(K4))&C4&\"   \"&IF(BF4=\"\",\"-----\",BF4)&\" \"&X4&\"+\"&C4+Y4+BD4&IF(BE4=\"\",\"\",\"+\"&BE4)&\" \"&M4)","v":""},{"$f":"VLOOKUP(F4,武器表!$B$2:$Q$978,15,FALSE)","v":"-"},{"$f":"VLOOKUP(F4,武器表!$B$2:$Q$978,16,FALSE)+E4+BG4","v":0},{"$f":"IF(R4>-1,IF(冒険者技能!$U$19>-1,R4+冒険者技能!$U$19,-1),-1)","v":-1},{"$f":"IF(S4>-1,IF(冒険者技能!$U$20>-1,冒険者技能!$U$20+S4,-1),-1)","v":-1},{"$f":"IF(T4>-1,IF(冒険者技能!$U$26>-1,冒険者技能!$U$26*T4,-1),-1)","v":-1},{"$f":"MAX(Z4:AB4)","v":-1},{"$f":"IF(AC4<0,\"\",IF(Z4=AC4,\"斬\",IF(AC4=AA4,\"殴\",\"刺\")))","v":""},{"$f":"SUBSTITUTE(SUBSTITUTE(SUBSTITUTE(G4,\"武器：\",\"\"),\"手\",\"\"),\"武器\",\"\")","v":"-"},{"$f":"IF(F4=\"なし\",\"\",CHAR(10)&I4&\"/\"&CHAR(10)&J4)","v":""},"",{"$f":"LEFT(F4,6)","v":"なし"},null,null,null,null,null,null,null,null,null,null,null,null,null,{"$f":"VLOOKUP($F4,武器表!$B$2:$W$978,17,FALSE)","v":-1},{"$f":"VLOOKUP($F4,武器表!$B$2:$W$978,18,FALSE)","v":-1},{"$f":"VLOOKUP($F4,武器表!$B$2:$W$978,19,FALSE)","v":0},{"$f":"VLOOKUP($F4,武器表!$B$2:$W$978,20,FALSE)","v":0},{"$f":"VLOOKUP($F4,武器表!$B$2:$W$978,21,FALSE)","v":0},{"$f":"VLOOKUP($F4,武器表!$B$2:$W$978,22,FALSE)","v":0},{"$f":"VLOOKUP($F4,武器表!$B$2:$Y$978,23,FALSE)","v":-1},{"$f":"VLOOKUP($F4,武器表!$B$2:$Y$978,24,FALSE)","v":-1},{"$f":"IF(COUNTIF(F4,\"*素手攻撃*\")>0,IF(冒険者技能!$K$32>0,冒険者技能!$U$32,0),0)","v":0},{"$f":"IF(G4=\"武器：格闘武器\",IF(冒険者技能!$K$36>0,冒険者技能!$U$36,\"\"),\"\")","v":""},{"$f":"IF(BD4>0,\"+\"&BD4,\"\")&IF(BE4=\"\",\"\",\"+\"&BE4)","v":""},{"$f":"VLOOKUP(BJ4,固定値!$EL$2:$EO$6,2,FALSE)","v":0},{"$f":"VLOOKUP(BJ4,固定値!$EL$2:$EO$6,3,FALSE)","v":1},{"$f":"VLOOKUP(BJ4,固定値!$EL$2:$EO$6,4,FALSE)","v":0},{"$f":"作成シート!C85","v":"なし"},"なし"]
[null,{"$f":"作成シート!C87","v":"なし"},{"$f":"IF(B5=\"なし\",0,VLOOKUP(B5,冒険者職業レベル!$C$3:$E$6,3,FALSE))","v":0},{"$f":"IF(G5=\"-\",0,VLOOKUP(G5,冒険者技能!$C$37:$K$45,9,FALSE))","v":0},{"$f":"IF(G5=\"-\",0,VLOOKUP(G5,冒険者技能!$C$37:$Q$45,15,FALSE))","v":0},{"$f":"作成シート!C86","v":"なし"},{"$f":"VLOOKUP(F5,武器表!$B$2:$K$978,2,FALSE)","v":"-"},{"$f":"VLOOKUP(F5,武器表!$B$2:$K$978,3,FALSE)","v":"-"},{"$f":"VLOOKUP(F5,武器表!$B$2:$K$978,4,FALSE)","v":"-"},{"$f":"VLOOKUP(F5,武器表!$B$2:$K$978,5,FALSE)","v":"-"},{"$f":"VLOOKUP(F5,武器表!$B$2:$K$978,6,FALSE)","v":"-"},{"$f":"VLOOKUP(F5,武器表!$B$2:$K$978,7,FALSE)+BG5","v":0},{"$f":"VLOOKUP(F5,武器表!$B$2:$K$978,8,FALSE)","v":"-"},{"$f":"VLOOKUP(F5,武器表!$B$2:$K$978,9,FALSE)&IF(G5=\"武器：格闘武器\",IF(冒険者技能!$K$36>0,\"【発勁】使用可能1点消耗するごとに、威力へのボーナスに追加で+1(最大で\"&能力値!D7&\"まで)\",\"\"),\"\")","v":"-"},{"$f":"作成シート!C88","v":"購入"},{"$f":"IF(O5=\"購入\",VLOOKUP(F5,武器表!$B$2:$K$978,10,FALSE)*BH5+BI5,0)","v":0},{"$f":"VLOOKUP(F5,武器表!$B$2:$L$978,11,FALSE)","v":-1},{"$f":"VLOOKUP($F5,武器表!$B$2:$Q$978,12,FALSE)","v":-1},{"$f":"VLOOKUP($F5,武器表!$B$2:$Q$978,13,FALSE)","v":-1},{"$f":"VLOOKUP($F5,武器表!$B$2:$Q$978,14,FALSE)","v":-1},null,{"$f":"IF(F5=\"なし\",\"\",CHAR(10)&CHAR(10)&\"◎武器：【\"&BK5&\"】\"&CHAR(10)&\"用途／属性：【\"&G5&H5&I5&\"／\"&J5&\" 】　　命中値合計：【\"&能力値!$L$10+C5+D5+L5+E5&\"】\"&CHAR(10)&\"ダメージ：\"&X5&IF(C5+Y5+BD5>0,\"+\"&C5+Y5+BD5,\"\")&IF(BE5=\"\",\"\",\"+\"&BE5)&IF(C5>0,CHAR(10)&\"クラス：\"&B5&C5,\"\")&IF(D5>0,CHAR(10)&\"技能：\"&G5&D5,\"\")&CHAR(10)&\"効果：\"&N5&IF(N5=\"\",\"\",IF(AC5>0,\"、\",\"\"))&IF(AC5>0,\" 追加効果値：\"&AC5,\"\"))&IF(E5>0,\" 腕輪指輪+\"&E5,\"\")&IF(冒険者技能!K24>0,IF(COUNTIF(N5,\"*斬落*\")>0,\" 斬り落とし攻撃可能\",\"\"),\"\")","v":""},{"$f":"IF(F5=\"なし\",\"\",CHAR(10)&AH5&REPT(\"　\",8-LEN(AH5))&AE5&REPT(\"　\",6-LEN(AE5))&C5+D5+能力値!$L$10&REPT(\"　\",5-LEN(C5+D5+能力値!$L$10))&L5&REPT(\" \",5-LEN(L5))&C5+D5+能力値!$L$10+L5&\"  \"&K5&REPT(\" \",8-LEN(K5))&C5&\"   \"&IF(BF5=\"\",\"-----\",BF5)&\" \"&X5&\"+\"&C5+Y5+BD5&IF(BE5=\"\",\"\",\"+\"&BE5)&\" \"&M5)","v":""},{"$f":"VLOOKUP(F5,武器表!$B$2:$Q$978,15,FALSE)","v":"-"},{"$f":"VLOOKUP(F5,武器表!$B$2:$Q$978,16,FALSE)+E5+BG5","v":0},{"$f":"IF(R5>-1,IF(冒険者技能!$U$19>-1,R5+冒険者技能!$U$19,-1),-1)","v":-1},{"$f":"IF(S5>-1,IF(冒険者技能!$U$20>-1,冒険者技能!$U$20+S5,-1),-1)","v":-1},{"$f":"IF(T5>-1,IF(冒険者技能!$U$26>-1,冒険者技能!$U$26*T5,-1),-1)","v":-1},-1,"","-","","",{"$f":"LEFT(F5,6)","v":"なし"},null,null,null,null,null,null,null,null,null,null,null,null,null,{"$f":"VLOOKUP($F5,武器表!$B$2:$W$978,17,FALSE)","v":-1},{"$f":"VLOOKUP($F5,武器表!$B$2:$W$978,18,FALSE)","v":-1},{"$f":"VLOOKUP($F5,武器表!$B$2:$W$978,19,FALSE)","v":0},{"$f":"VLOOKUP($F5,武器表!$B$2:$W$978,20,FALSE)","v":0},{"$f":"VLOOKUP($F5,武器表!$B$2:$W$978,21,FALSE)","v":0},{"$f":"VLOOKUP($F5,武器表!$B$2:$W$978,22,FALSE)","v":0},{"$f":"VLOOKUP($F5,武器表!$B$2:$Y$978,23,FALSE)","v":-1},{"$f":"VLOOKUP($F5,武器表!$B$2:$Y$978,24,FALSE)","v":-1},{"$f":"IF(COUNTIF(F5,\"*素手攻撃*\")>0,IF(冒険者技能!$K$32>0,冒険者技能!$U$32,0),0)","v":0},{"$f":"IF(G5=\"武器：格闘武器\",IF(冒険者技能!$K$36>0,冒険者技能!$U$36,\"\"),\"\")","v":""},"",{"$f":"VLOOKUP(BJ5,固定値!$EL$2:$EO$6,2,FALSE)","v":0},{"$f":"VLOOKUP(BJ5,固定値!$EL$2:$EO$6,3,FALSE)","v":1},{"$f":"VLOOKUP(BJ5,固定値!$EL$2:$EO$6,4,FALSE)","v":0},{"$f":"作成シート!C89","v":"なし"},"なし"]
[null,{"$f":"作成シート!C91","v":"なし"},{"$f":"IF(B6=\"なし\",0,VLOOKUP(B6,冒険者職業レベル!$C$3:$E$6,3,FALSE))","v":0},{"$f":"IF(G6=\"-\",0,VLOOKUP(G6,冒険者技能!$C$37:$K$45,9,FALSE))","v":0},{"$f":"IF(G6=\"-\",0,VLOOKUP(G6,冒険者技能!$C$37:$Q$45,15,FALSE))","v":0},{"$f":"作成シート!C90","v":"なし"},{"$f":"VLOOKUP(F6,武器表!$B$2:$K$978,2,FALSE)","v":"-"},{"$f":"VLOOKUP(F6,武器表!$B$2:$K$978,3,FALSE)","v":"-"},{"$f":"VLOOKUP(F6,武器表!$B$2:$K$978,4,FALSE)","v":"-"},{"$f":"VLOOKUP(F6,武器表!$B$2:$K$978,5,FALSE)","v":"-"},{"$f":"VLOOKUP(F6,武器表!$B$2:$K$978,6,FALSE)","v":"-"},{"$f":"VLOOKUP(F6,武器表!$B$2:$K$978,7,FALSE)+BG6","v":0},{"$f":"VLOOKUP(F6,武器表!$B$2:$K$978,8,FALSE)","v":"-"},{"$f":"VLOOKUP(F6,武器表!$B$2:$K$978,9,FALSE)&IF(G6=\"武器：格闘武器\",IF(冒険者技能!$K$36>0,\"【発勁】使用可能1点消耗するごとに、威力へのボーナスに追加で+1(最大で\"&能力値!D8&\"まで)\",\"\"),\"\")","v":"-"},{"$f":"作成シート!C92","v":"購入"},{"$f":"IF(O6=\"購入\",VLOOKUP(F6,武器表!$B$2:$K$978,10,FALSE)*BH6+BI6,0)","v":0},{"$f":"VLOOKUP(F6,武器表!$B$2:$L$978,11,FALSE)","v":-1},{"$f":"VLOOKUP($F6,武器表!$B$2:$Q$978,12,FALSE)","v":-1},{"$f":"VLOOKUP($F6,武器表!$B$2:$Q$978,13,FALSE)","v":-1},{"$f":"VLOOKUP($F6,武器表!$B$2:$Q$978,14,FALSE)","v":-1},null,{"$f":"IF(F6=\"なし\",\"\",CHAR(10)&CHAR(10)&\"◎武器：【\"&BK6&\"】\"&CHAR(10)&\"用途／属性：【\"&G6&H6&I6&\"／\"&J6&\" 】　　命中値合計：【\"&能力値!$L$10+C6+D6+L6+E6&\"】\"&CHAR(10)&\"ダメージ：\"&X6&IF(C6+Y6+BD6>0,\"+\"&C6+Y6+BD6,\"\")&IF(BE6=\"\",\"\",\"+\"&BE6)&IF(C6>0,CHAR(10)&\"クラス：\"&B6&C6,\"\")&IF(D6>0,CHAR(10)&\"技能：\"&G6&D6,\"\")&CHAR(10)&\"効果：\"&N6&IF(N6=\"\",\"\",IF(AC6>0,\"、\",\"\"))&IF(AC6>0,\" 追加効果値：\"&AC6,\"\"))&IF(E6>0,\" 腕輪指輪+\"&E6,\"\")&IF(冒険者技能!K25>0,IF(COUNTIF(N6,\"*斬落*\")>0,\" 斬り落とし攻撃可能\",\"\"),\"\")","v":""},{"$f":"IF(F6=\"なし\",\"\",CHAR(10)&AH6&REPT(\"　\",8-LEN(AH6))&AE6&REPT(\"　\",6-LEN(AE6))&C6+D6+能力値!$L$10&REPT(\"　\",5-LEN(C6+D6+能力値!$L$10))&L6&REPT(\" \",5-LEN(L6))&C6+D6+能力値!$L$10+L6&\"  \"&K6&REPT(\" \",8-LEN(K6))&C6&\"   \"&IF(BF6=\"\",\"-----\",BF6)&\" \"&X6&\"+\"&C6+Y6+BD6&IF(BE6=\"\",\"\",\"+\"&BE6)&\" \"&M6)","v":""},{"$f":"VLOOKUP(F6,武器表!$B$2:$Q$978,15,FALSE)","v":"-"},{"$f":"VLOOKUP(F6,武器表!$B$2:$Q$978,16,FALSE)+E6+BG6","v":0},{"$f":"IF(R6>-1,IF(冒険者技能!$U$19>-1,R6+冒険者技能!$U$19,-1),-1)","v":-1},{"$f":"IF(S6>-1,IF(冒険者技能!$U$20>-1,冒険者技能!$U$20+S6,-1),-1)","v":-1},{"$f":"IF(T6>-1,IF(冒険者技能!$U$26>-1,冒険者技能!$U$26*T6,-1),-1)","v":-1},-1,"","-","","","なし",null,null,null,null,null,null,null,null,null,null,null,null,null,{"$f":"VLOOKUP($F6,武器表!$B$2:$W$978,17,FALSE)","v":-1},{"$f":"VLOOKUP($F6,武器表!$B$2:$W$978,18,FALSE)","v":-1},{"$f":"VLOOKUP($F6,武器表!$B$2:$W$978,19,FALSE)","v":0},{"$f":"VLOOKUP($F6,武器表!$B$2:$W$978,20,FALSE)","v":0},{"$f":"VLOOKUP($F6,武器表!$B$2:$W$978,21,FALSE)","v":0},{"$f":"VLOOKUP($F6,武器表!$B$2:$W$978,22,FALSE)","v":0},{"$f":"VLOOKUP($F6,武器表!$B$2:$Y$978,23,FALSE)","v":-1},{"$f":"VLOOKUP($F6,武器表!$B$2:$Y$978,24,FALSE)","v":-1},{"$f":"IF(COUNTIF(F6,\"*素手攻撃*\")>0,IF(冒険者技能!$K$32>0,冒険者技能!$U$32,0),0)","v":0},{"$f":"IF(G6=\"武器：格闘武器\",IF(冒険者技能!$K$36>0,冒険者技能!$U$36,\"\"),\"\")","v":""},"",{"$f":"VLOOKUP(BJ6,固定値!$EL$2:$EO$6,2,FALSE)","v":0},{"$f":"VLOOKUP(BJ6,固定値!$EL$2:$EO$6,3,FALSE)","v":1},{"$f":"VLOOKUP(BJ6,固定値!$EL$2:$EO$6,4,FALSE)","v":0},{"$f":"作成シート!C93","v":"なし"},"なし"]
[null,{"$f":"作成シート!C95","v":"なし"},{"$f":"IF(B7=\"なし\",0,VLOOKUP(B7,冒険者職業レベル!$C$3:$E$6,3,FALSE))","v":0},{"$f":"IF(G7=\"-\",0,VLOOKUP(G7,冒険者技能!$C$37:$K$45,9,FALSE))","v":0},{"$f":"IF(G7=\"-\",0,VLOOKUP(G7,冒険者技能!$C$37:$Q$45,15,FALSE))","v":0},{"$f":"作成シート!C94","v":"なし"},{"$f":"VLOOKUP(F7,武器表!$B$2:$K$978,2,FALSE)","v":"-"},{"$f":"VLOOKUP(F7,武器表!$B$2:$K$978,3,FALSE)","v":"-"},{"$f":"VLOOKUP(F7,武器表!$B$2:$K$978,4,FALSE)","v":"-"},{"$f":"VLOOKUP(F7,武器表!$B$2:$K$978,5,FALSE)","v":"-"},{"$f":"VLOOKUP(F7,武器表!$B$2:$K$978,6,FALSE)","v":"-"},{"$f":"VLOOKUP(F7,武器表!$B$2:$K$978,7,FALSE)+BG7","v":0},{"$f":"VLOOKUP(F7,武器表!$B$2:$K$978,8,FALSE)","v":"-"},{"$f":"VLOOKUP(F7,武器表!$B$2:$K$978,9,FALSE)&IF(G7=\"武器：格闘武器\",IF(冒険者技能!$K$36>0,\"【発勁】使用可能1点消耗するごとに、威力へのボーナスに追加で+1(最大で\"&能力値!D9&\"まで)\",\"\"),\"\")","v":"-"},{"$f":"作成シート!C96","v":"購入"},{"$f":"IF(O7=\"購入\",VLOOKUP(F7,武器表!$B$2:$K$978,10,FALSE)*BH7+BI7,0)","v":0},{"$f":"VLOOKUP(F7,武器表!$B$2:$L$978,11,FALSE)","v":-1},{"$f":"VLOOKUP($F7,武器表!$B$2:$Q$978,12,FALSE)","v":-1},{"$f":"VLOOKUP($F7,武器表!$B$2:$Q$978,13,FALSE)","v":-1},{"$f":"VLOOKUP($F7,武器表!$B$2:$Q$978,14,FALSE)","v":-1},null,{"$f":"IF(F7=\"なし\",\"\",CHAR(10)&CHAR(10)&\"◎武器：【\"&BK7&\"】\"&CHAR(10)&\"用途／属性：【\"&G7&H7&I7&\"／\"&J7&\" 】　　命中値合計：【\"&能力値!$L$10+C7+D7+L7+E7&\"】\"&CHAR(10)&\"ダメージ：\"&X7&IF(C7+Y7+BD7>0,\"+\"&C7+Y7+BD7,\"\")&IF(BE7=\"\",\"\",\"+\"&BE7)&IF(C7>0,CHAR(10)&\"クラス：\"&B7&C7,\"\")&IF(D7>0,CHAR(10)&\"技能：\"&G7&D7,\"\")&CHAR(10)&\"効果：\"&N7&IF(N7=\"\",\"\",IF(AC7>0,\"、\",\"\"))&IF(AC7>0,\" 追加効果値：\"&AC7,\"\"))&IF(E7>0,\" 腕輪指輪+\"&E7,\"\")&IF(冒険者技能!K26>0,IF(COUNTIF(N7,\"*斬落*\")>0,\" 斬り落とし攻撃可能\",\"\"),\"\")","v":""},{"$f":"IF(F7=\"なし\",\"\",CHAR(10)&AH7&REPT(\"　\",8-LEN(AH7))&AE7&REPT(\"　\",6-LEN(AE7))&C7+D7+能力値!$L$10&REPT(\"　\",5-LEN(C7+D7+能力値!$L$10))&L7&REPT(\" \",5-LEN(L7))&C7+D7+能力値!$L$10+L7&\"  \"&K7&REPT(\" \",8-LEN(K7))&C7&\"   \"&IF(BF7=\"\",\"-----\",BF7)&\" \"&X7&\"+\"&C7+Y7+BD7&IF(BE7=\"\",\"\",\"+\"&BE7)&\" \"&M7)","v":""},{"$f":"VLOOKUP(F7,武器表!$B$2:$Q$978,15,FALSE)","v":"-"},{"$f":"VLOOKUP(F7,武器表!$B$2:$Q$978,16,FALSE)+E7+BG7","v":0},{"$f":"IF(R7>-1,IF(冒険者技能!$U$19>-1,R7+冒険者技能!$U$19,-1),-1)","v":-1},{"$f":"IF(S7>-1,IF(冒険者技能!$U$20>-1,冒険者技能!$U$20+S7,-1),-1)","v":-1},{"$f":"IF(T7>-1,IF(冒険者技能!$U$26>-1,冒険者技能!$U$26*T7,-1),-1)","v":-1},-1,"","-","","","なし",null,null,null,null,null,null,null,null,null,null,null,null,null,{"$f":"VLOOKUP($F7,武器表!$B$2:$W$978,17,FALSE)","v":-1},{"$f":"VLOOKUP($F7,武器表!$B$2:$W$978,18,FALSE)","v":-1},{"$f":"VLOOKUP($F7,武器表!$B$2:$W$978,19,FALSE)","v":0},{"$f":"VLOOKUP($F7,武器表!$B$2:$W$978,20,FALSE)","v":0},{"$f":"VLOOKUP($F7,武器表!$B$2:$W$978,21,FALSE)","v":0},{"$f":"VLOOKUP($F7,武器表!$B$2:$W$978,22,FALSE)","v":0},{"$f":"VLOOKUP($F7,武器表!$B$2:$Y$978,23,FALSE)","v":-1},{"$f":"VLOOKUP($F7,武器表!$B$2:$Y$978,24,FALSE)","v":-1},{"$f":"IF(COUNTIF(F7,\"*素手攻撃*\")>0,IF(冒険者技能!$K$32>0,冒険者技能!$U$32,0),0)","v":0},{"$f":"IF(G7=\"武器：格闘武器\",IF(冒険者技能!$K$36>0,冒険者技能!$U$36,\"\"),\"\")","v":""},"",{"$f":"VLOOKUP(BJ7,固定値!$EL$2:$EO$6,2,FALSE)","v":0},{"$f":"VLOOKUP(BJ7,固定値!$EL$2:$EO$6,3,FALSE)","v":1},{"$f":"VLOOKUP(BJ7,固定値!$EL$2:$EO$6,4,FALSE)","v":0},{"$f":"作成シート!C97","v":"なし"},"なし"]
[null,{"$f":"作成シート!C99","v":"なし"},{"$f":"IF(B8=\"なし\",0,VLOOKUP(B8,冒険者職業レベル!$C$3:$E$6,3,FALSE))","v":0},{"$f":"IF(G8=\"-\",0,VLOOKUP(G8,冒険者技能!$C$37:$K$45,9,FALSE))","v":0},{"$f":"IF(G8=\"-\",0,VLOOKUP(G8,冒険者技能!$C$37:$Q$45,15,FALSE))","v":0},{"$f":"作成シート!C98","v":"なし"},{"$f":"VLOOKUP(F8,武器表!$B$2:$K$978,2,FALSE)","v":"-"},{"$f":"VLOOKUP(F8,武器表!$B$2:$K$978,3,FALSE)","v":"-"},{"$f":"VLOOKUP(F8,武器表!$B$2:$K$978,4,FALSE)","v":"-"},{"$f":"VLOOKUP(F8,武器表!$B$2:$K$978,5,FALSE)","v":"-"},{"$f":"VLOOKUP(F8,武器表!$B$2:$K$978,6,FALSE)","v":"-"},{"$f":"VLOOKUP(F8,武器表!$B$2:$K$978,7,FALSE)+BG8","v":0},{"$f":"VLOOKUP(F8,武器表!$B$2:$K$978,8,FALSE)","v":"-"},{"$f":"VLOOKUP(F8,武器表!$B$2:$K$978,9,FALSE)&IF(G8=\"武器：格闘武器\",IF(冒険者技能!$K$36>0,\"【発勁】使用可能1点消耗するごとに、威力へのボーナスに追加で+1(最大で\"&能力値!D10&\"まで)\",\"\"),\"\")","v":"-"},{"$f":"作成シート!C100","v":"購入"},{"$f":"IF(O8=\"購入\",VLOOKUP(F8,武器表!$B$2:$K$978,10,FALSE)*BH8+BI8,0)","v":0},{"$f":"VLOOKUP(F8,武器表!$B$2:$L$978,11,FALSE)","v":-1},{"$f":"VLOOKUP($F8,武器表!$B$2:$Q$978,12,FALSE)","v":-1},{"$f":"VLOOKUP($F8,武器表!$B$2:$Q$978,13,FALSE)","v":-1},{"$f":"VLOOKUP($F8,武器表!$B$2:$Q$978,14,FALSE)","v":-1},null,{"$f":"IF(F8=\"なし\",\"\",CHAR(10)&CHAR(10)&\"◎武器：【\"&BK8&\"】\"&CHAR(10)&\"用途／属性：【\"&G8&H8&I8&\"／\"&J8&\" 】　　命中値合計：【\"&能力値!$L$10+C8+D8+L8+E8&\"】\"&CHAR(10)&\"ダメージ：\"&X8&IF(C8+Y8+BD8>0,\"+\"&C8+Y8+BD8,\"\")&IF(BE8=\"\",\"\",\"+\"&BE8)&IF(C8>0,CHAR(10)&\"クラス：\"&B8&C8,\"\")&IF(D8>0,CHAR(10)&\"技能：\"&G8&D8,\"\")&CHAR(10)&\"効果：\"&N8&IF(N8=\"\",\"\",IF(AC8>0,\"、\",\"\"))&IF(AC8>0,\" 追加効果値：\"&AC8,\"\"))&IF(E8>0,\" 腕輪指輪+\"&E8,\"\")&IF(冒険者技能!K27>0,IF(COUNTIF(N8,\"*斬落*\")>0,\" 斬り落とし攻撃可能\",\"\"),\"\")","v":""},{"$f":"IF(F8=\"なし\",\"\",CHAR(10)&AH8&REPT(\"　\",8-LEN(AH8))&AE8&REPT(\"　\",6-LEN(AE8))&C8+D8+能力値!$L$10&REPT(\"　\",5-LEN(C8+D8+能力値!$L$10))&L8&REPT(\" \",5-LEN(L8))&C8+D8+能力値!$L$10+L8&\"  \"&K8&REPT(\" \",8-LEN(K8))&C8&\"   \"&IF(BF8=\"\",\"-----\",BF8)&\" \"&X8&\"+\"&C8+Y8+BD8&IF(BE8=\"\",\"\",\"+\"&BE8)&\" \"&M8)","v":""},{"$f":"VLOOKUP(F8,武器表!$B$2:$Q$978,15,FALSE)","v":"-"},{"$f":"VLOOKUP(F8,武器表!$B$2:$Q$978,16,FALSE)+E8+BG8","v":0},{"$f":"IF(R8>-1,IF(冒険者技能!$U$19>-1,R8+冒険者技能!$U$19,-1),-1)","v":-1},{"$f":"IF(S8>-1,IF(冒険者技能!$U$20>-1,冒険者技能!$U$20+S8,-1),-1)","v":-1},{"$f":"IF(T8>-1,IF(冒険者技能!$U$26>-1,冒険者技能!$U$26*T8,-1),-1)","v":-1},-1,"","-","","","なし",null,null,null,null,null,null,null,null,null,null,null,null,null,{"$f":"VLOOKUP($F8,武器表!$B$2:$W$978,17,FALSE)","v":-1},{"$f":"VLOOKUP($F8,武器表!$B$2:$W$978,18,FALSE)","v":-1},{"$f":"VLOOKUP($F8,武器表!$B$2:$W$978,19,FALSE)","v":0},{"$f":"VLOOKUP($F8,武器表!$B$2:$W$978,20,FALSE)","v":0},{"$f":"VLOOKUP($F8,武器表!$B$2:$W$978,21,FALSE)","v":0},{"$f":"VLOOKUP($F8,武器表!$B$2:$W$978,22,FALSE)","v":0},{"$f":"VLOOKUP($F8,武器表!$B$2:$Y$978,23,FALSE)","v":-1},{"$f":"VLOOKUP($F8,武器表!$B$2:$Y$978,24,FALSE)","v":-1},{"$f":"IF(COUNTIF(F8,\"*素手攻撃*\")>0,IF(冒険者技能!$K$32>0,冒険者技能!$U$32,0),0)","v":0},{"$f":"IF(G8=\"武器：格闘武器\",IF(冒険者技能!$K$36>0,冒険者技能!$U$36,\"\"),\"\")","v":""},"",{"$f":"VLOOKUP(BJ8,固定値!$EL$2:$EO$6,2,FALSE)","v":0},{"$f":"VLOOKUP(BJ8,固定値!$EL$2:$EO$6,3,FALSE)","v":1},{"$f":"VLOOKUP(BJ8,固定値!$EL$2:$EO$6,4,FALSE)","v":0},{"$f":"作成シート!C101","v":"なし"},"なし"]
[]
[]
["◆防御"]
[null,"使用近接職","クラスレベル","技能ボーナス","体術ボーナス","鎧","属性","装甲値","回避修正","移動修正","隠密性","荷重x","荷重y","効果","入手手段","価格","耐久荷重","最終回避修正","最終移動修正","副属性","重量"]
[null,{"$f":"作成シート!C103","v":"なし"},{"$f":"IF(B13=\"なし\",0,VLOOKUP(B13,冒険者職業レベル!$C$3:$E$6,3,FALSE))","v":0},{"$f":"IF(G13=\"-\",0,VLOOKUP(G13,冒険者技能!$C$47:$K$49,9,FALSE))","v":0},{"$f":"冒険者技能!K29+冒険者技能!Q29","v":0},{"$f":"作成シート!C102","v":"なし"},{"$f":"VLOOKUP(F13,鎧表!$B$3:$M$122,2,FALSE)","v":"-"},{"$f":"VLOOKUP(F13,鎧表!$B$3:$M$122,5,FALSE)+BG13","v":0},{"$f":"VLOOKUP(F13,鎧表!$B$3:$M$122,6,FALSE)+BG13","v":0},{"$f":"VLOOKUP(F13,鎧表!$B$3:$M$122,7,FALSE)","v":0},{"$f":"VLOOKUP(F13,鎧表!$B$3:$M$122,8,FALSE)","v":"良い"},{"$f":"VLOOKUP(F13,鎧表!$B$3:$M$122,10,FALSE)","v":0},{"$f":"VLOOKUP(F13,鎧表!$B$3:$M$122,11,FALSE)","v":100},{"$f":"VLOOKUP(F13,鎧表!$B$3:$M$122,12,FALSE)&IF(冒険者技能!$K$46>0,冒険者技能!Q46,\"\")","v":"-"},{"$f":"作成シート!C104","v":"購入"},{"$f":"IF(O13=\"購入\",VLOOKUP(F13,鎧表!$B$3:$M$122,9,FALSE)*BH13+BI13,0)","v":0},{"$f":"能力値!J11+冒険者技能!K18","v":8},{"$f":"IF(M13>Q13,I13,ROUNDDOWN(I13/2,0))+IF(AO13>0,IF(冒険者職業レベル!E5>0,AO13,0),0)","v":0},{"$f":"IF(M13>Q13,J13,ROUNDDOWN(J13/2,0))","v":0},{"$f":"VLOOKUP(F13,鎧表!$B$3:$M$122,3,FALSE)","v":"-"},{"$f":"VLOOKUP(F13,鎧表!$B$3:$M$122,4,FALSE)","v":"-"},{"$f":"IF(F13=\"なし\",\"\",\"◎鎧：【\"&BK13&\"】\"&CHAR(10)&\"属性：【\"&G13&\"(\"&T13&\")／\"&U13&\" 】　　回避値合計：【\"&能力値!L12+E13+C13+R13+IF(冒険者技能!K17=0,0,IF(冒険者技能!K17>3,IF(Q3=-1,0,Q3)+IF(Q17=-1,0,Q17)+IF(Q3>-1,冒険者技能!K17,IF(Q17>-1,冒険者技能!K17,0)),MAX(IF(Q3=-1,0,Q3),IF(Q17=-1,0,Q17))+IF(Q3>-1,冒険者技能!K17,IF(Q17>-1,冒険者技能!K17,0))))+$BA$1&\"】\"&CHAR(10)&\"移動力合計：【\"&S13+状態!F12+AY1+その他の所持品!C1&\"】　　装甲値合計：【\"&H13+D13&IF(AI13>0,\"+\"&AI13&\"(竜の末裔)\",\"\")&IF(AL13>0,IF(MAX(冒険者職業レベル!E8,冒険者職業レベル!E9)>0,\"+\"&AL13&\"(神官)\",\"\"),\"\")&IF(AM13>0,IF(MAX(冒険者職業レベル!E8,冒険者職業レベル!E9)>4,\"+\"&AM13&\"(神官)\",\"\"),\"\")&IF(その他の所持品!$D$1>0,\"+\"&その他の所持品!$D$1&\"(道具)\",\"\")&\"】　隠密性：【\"&K13&\"】 \"&CHAR(10)&\"効果：\"&N13)&IF(冒険者技能!$Q$29>0,\" 腕輪指輪+\"&冒険者技能!$Q$29,\"\")","v":""},{"$f":"IF(F13=\"なし\",\"\",AH13&REPT(\"　\",7-LEN(AH13))&\" \"&AE13&\"   \"&C13+E13+能力値!L12&REPT(\" \",7-LEN(C13+E13+能力値!L12))&R13&\"    \"&C13+E13+能力値!L12+R13&REPT(\" \",6-LEN(C13+E13+能力値!L12+R13))&D13+H13+AI13+IF(AL13>0,IF(MAX(冒険者職業レベル!E8,冒険者職業レベル!E9)>0,AL13,0),0)+IF(AM13>0,IF(MAX(冒険者職業レベル!E8,冒険者職業レベル!E9)>4,AM13,0),0)&\"  \"&LEFT(K13,2)&\"   \"&状態!F12&REPT(\" \",7-LEN(状態!F12))&S13&REPT(\" \",7-LEN(S13))&その他の所持品!C1+AY1&REPT(\" \",4-LEN(その他の所持品!C1))&その他の所持品!C1+状態!F12+S13+AY1&REPT(\" \",5-LEN(その他の所持品!C1+状態!F12+S13))&N13)","v":""},null,null,null,null,null,null,null,{"$f":"SUBSTITUTE(G13,\"鎧：\",\"\")","v":"-"},null,null,{"$f":"LEFT(BK13,6)","v":"なし"},{"$f":"一般技能!$I$45","v":0},{"$f":"VLOOKUP($F13,鎧表!$B$3:$U$122,13,FALSE)","v":0},{"$f":"VLOOKUP($F13,鎧表!$B$3:$U$122,14,FALSE)","v":0},{"$f":"VLOOKUP($F13,鎧表!$B$3:$U$122,15,FALSE)","v":-1},{"$f":"VLOOKUP($F13,鎧表!$B$3:$U$122,16,FALSE)","v":-1},{"$f":"VLOOKUP($F13,鎧表!$B$3:$U$122,17,FALSE)","v":-1},{"$f":"VLOOKUP($F13,鎧表!$B$3:$U$122,18,FALSE)","v":-1},{"$f":"VLOOKUP($F13,鎧表!$B$3:$U$122,19,FALSE)","v":-1},{"$f":"VLOOKUP($F13,鎧表!$B$3:$U$122,20,FALSE)","v":-1},{"$f":"VLOOKUP($F13,鎧表!$B$3:$V$122,21,FALSE)","v":0},{"$f":"AJ13+IF(AN13>0,IF(冒険者職業レベル!E5>0,AN13,0),0)","v":0},{"$f":"VLOOKUP($F13,鎧表!$B$3:$W$122,22,FALSE)","v":0},{"$f":"IF(AP13>0,AP13,0)+IF(冒険者職業レベル!E8>0,IF(AQ13>0,IF(プロフィール!C20=\"戦女神\",AQ13,0),0),0)","v":0},null,null,null,null,null,null,null,null,null,null,null,{"$f":"VLOOKUP(BJ13,固定値!$EL$2:$EO$6,2,FALSE)","v":0},{"$f":"VLOOKUP(BJ13,固定値!$EL$2:$EO$6,3,FALSE)","v":1},{"$f":"VLOOKUP(BJ13,固定値!$EL$2:$EO$6,4,FALSE)","v":0},{"$f":"作成シート!C105","v":"なし"},{"$f":"IF(BG13<1,F13,\"魔法の\"&F13&BJ13)","v":"なし"}]
[]
[]
[null,"使用近接職","クラスレベル","技能ボーナス",null,"盾","属性","盾受け値","盾受け修正",null,"隠密性",null,null,"効果","入手手段","価格","受け流し",null,null,"副属性","重量",{"$f":"V17&V18&V19","v":""}]
[null,{"$f":"作成シート!C107","v":"なし"},{"$f":"IF(B17=\"なし\",0,VLOOKUP(B17,冒険者職業レベル!$C$3:$E$6,3,FALSE))","v":0},{"$f":"冒険者技能!K30","v":0},null,{"$f":"作成シート!C106","v":"なし"},{"$f":"VLOOKUP($F17,盾表!$B$3:$K$122,2,FALSE)","v":"-"},{"$f":"VLOOKUP($F17,盾表!$B$3:$K$122,6,FALSE)+BG17","v":0},{"$f":"VLOOKUP($F17,盾表!$B$3:$K$122,5,FALSE)+BG17","v":0},null,{"$f":"VLOOKUP($F17,盾表!$B$3:$K$122,7,FALSE)","v":"良い"},null,null,{"$f":"VLOOKUP($F17,盾表!$B$3:$K$122,9,FALSE)","v":"-"},{"$f":"作成シート!C108","v":"購入"},{"$f":"IF(O17=\"購入\",VLOOKUP($F17,盾表!$B$3:$K$122,8,FALSE)*BH17+BI17,0)","v":0},{"$f":"VLOOKUP($F17,盾表!$B$3:$K$122,10,FALSE)","v":-1},null,null,{"$f":"VLOOKUP($F17,盾表!$B$3:$K$122,3,FALSE)","v":"-"},{"$f":"VLOOKUP($F17,盾表!$B$3:$K$122,4,FALSE)","v":"-"},{"$f":"IF(F17=\"なし\",\"\",CHAR(10)&CHAR(10)&\"◎盾：【\"&BK17&\"】\"&CHAR(10)&\"属性：【\"&G17&\"(\"&T17&\")／\"&U17&\" 】\"&CHAR(10)&\"盾受け基準値合計：【\"&能力値!L12+C17+D17+I17&\"】　　盾受け値＋装甲合計：【\"&H17+D17&\"+\"&D13+H13&IF(AI13>0,\"+\"&AI13&\"(竜の末裔)\",\"\")&IF(AL13>0,IF(MAX(冒険者職業レベル!E8,冒険者職業レベル!E9)>0,\"+\"&AL13&\"(神官)\",\"\"),\"\")&IF(AM13>0,IF(MAX(冒険者職業レベル!E8,冒険者職業レベル!E9)>4,\"+\"&AM13&\"(神官)\",\"\"),\"\")&IF(その他の所持品!$D$1>0,\"+\"&その他の所持品!$D$1&\"(道具)\",\"\")&\"】　　隠密性：【\"&K17&\"】 \"&CHAR(10)&\"効果：\"&N17)","v":""},{"$f":"IF(F17=\"なし\",\"\",BK17&REPT(\"　\",10-LEN(BK17))&G17&\"   \"&C17+D17+能力値!L12&REPT(\" \",7-LEN(C17+D17+能力値!L12))&I17&REPT(\" \",4-LEN(I17))&C17+D17+能力値!L12+I17&REPT(\" \",7-LEN(C17+D17+能力値!L12+I17))&H17+D17&REPT(\" \",5-LEN(H17+D17))&H13+D13+AI13+IF(AL13>0,IF(MAX(冒険者職業レベル!E8,冒険者職業レベル!E9)>0,AL13,0),0)+IF(AM13>0,IF(MAX(冒険者職業レベル!E8,冒険者職業レベル!E9)>4,AM13,0),0)&REPT(\" \",6-LEN(H13+D13+AI13))&H17+D17+H13+D13+AI13&REPT(\" \",4-LEN(H17+D17+H13+D13))&LEFT(K17,2)&\"  \"&N17)","v":""},null,null,null,null,null,null,null,null,null,null,{"$f":"LEFT(BK17,6)","v":"なし"},null,{"$f":"VLOOKUP($F17,盾表!$B$3:$L$122,11,FALSE)","v":0},null,null,null,null,null,null,null,null,null,null,null,null,null,null,null,null,null,null,null,null,null,null,{"$f":"VLOOKUP(BJ17,固定値!$EL$2:$EO$6,2,FALSE)","v":0},{"$f":"VLOOKUP(BJ17,固定値!$EL$2:$EO$6,3,FALSE)","v":1},{"$f":"VLOOKUP(BJ17,固定値!$EL$2:$EO$6,4,FALSE)","v":0},{"$f":"作成シート!C109","v":"なし"},{"$f":"IF(BG17<1,F17,\"魔法の\"&F17&BJ17)","v":"なし"}]
[null,{"$f":"作成シート!C111","v":"なし"},{"$f":"IF(B18=\"なし\",0,VLOOKUP(B18,冒険者職業レベル!$C$3:$E$6,3,FALSE))","v":0},{"$f":"冒険者技能!K31","v":0},null,{"$f":"作成シート!C110","v":"なし"},{"$f":"VLOOKUP($F18,盾表!$B$3:$K$122,2,FALSE)","v":"-"},{"$f":"VLOOKUP($F18,盾表!$B$3:$K$122,6,FALSE)+BG18","v":0},{"$f":"VLOOKUP($F18,盾表!$B$3:$K$122,5,FALSE)+BG18","v":0},null,{"$f":"VLOOKUP($F18,盾表!$B$3:$K$122,7,FALSE)","v":"良い"},null,null,{"$f":"VLOOKUP($F18,盾表!$B$3:$K$122,9,FALSE)","v":"-"},{"$f":"作成シート!C112","v":"購入"},{"$f":"IF(O18=\"購入\",VLOOKUP($F18,盾表!$B$3:$K$122,8,FALSE)*BH18+BI18,0)","v":0},{"$f":"VLOOKUP($F18,盾表!$B$3:$K$122,10,FALSE)","v":-1},null,null,{"$f":"VLOOKUP($F18,盾表!$B$3:$K$122,3,FALSE)","v":"-"},{"$f":"VLOOKUP($F18,盾表!$B$3:$K$122,4,FALSE)","v":"-"},{"$f":"IF(F18=\"なし\",\"\",CHAR(10)&CHAR(10)&\"◎盾：【\"&BK18&\"】\"&CHAR(10)&\"属性：【\"&G18&\"(\"&T18&\")／\"&U18&\" 】\"&CHAR(10)&\"盾受け基準値合計：【\"&能力値!L13+C18+D18+I18&\"】　　盾受け値＋装甲合計：【\"&H18+D18&\"+\"&D14+H14&IF(AI14>0,\"+\"&AI14&\"(竜の末裔)\",\"\")&IF(AL14>0,IF(MAX(冒険者職業レベル!E9,冒険者職業レベル!E10)>0,\"+\"&AL14&\"(神官)\",\"\"),\"\")&IF(AM14>0,IF(MAX(冒険者職業レベル!E9,冒険者職業レベル!E10)>4,\"+\"&AM14&\"(神官)\",\"\"),\"\")&IF(その他の所持品!$D$1>0,\"+\"&その他の所持品!$D$1&\"(道具)\",\"\")&\"】　　隠密性：【\"&K18&\"】 \"&CHAR(10)&\"効果：\"&N18)","v":""},{"$f":"IF(F18=\"なし\",\"\",BK18&REPT(\"　\",10-LEN(BK18))&G18&\"   \"&C18+D18+能力値!L13&REPT(\" \",7-LEN(C18+D18+能力値!L13))&I18&REPT(\" \",4-LEN(I18))&C18+D18+能力値!L13+I18&REPT(\" \",7-LEN(C18+D18+能力値!L13+I18))&H18+D18&REPT(\" \",5-LEN(H18+D18))&H14+D14+AI14+IF(AL14>0,IF(MAX(冒険者職業レベル!E9,冒険者職業レベル!E10)>0,AL14,0),0)+IF(AM14>0,IF(MAX(冒険者職業レベル!E9,冒険者職業レベル!E10)>4,AM14,0),0)&REPT(\" \",6-LEN(H14+D14+AI14))&H18+D18+H14+D14+AI14&REPT(\" \",4-LEN(H18+D18+H14+D14))&LEFT(K18,2)&\"  \"&N18)","v":""},null,null,null,null,null,null,null,null,null,null,{"$f":"LEFT(BK18,6)","v":"なし"},null,{"$f":"VLOOKUP($F18,盾表!$B$3:$L$122,11,FALSE)","v":0},null,null,null,null,null,null,null,null,null,null,null,null,null,null,null,null,null,null,null,null,null,null,{"$f":"VLOOKUP(BJ18,固定値!$EL$2:$EO$6,2,FALSE)","v":0},{"$f":"VLOOKUP(BJ18,固定値!$EL$2:$EO$6,3,FALSE)","v":1},{"$f":"VLOOKUP(BJ18,固定値!$EL$2:$EO$6,4,FALSE)","v":0},{"$f":"作成シート!C110","v":"なし"},{"$f":"IF(BG18<1,F18,\"魔法の\"&F18&BJ18)","v":"なし"}]
[null,{"$f":"作成シート!C115","v":"なし"},{"$f":"IF(B19=\"なし\",0,VLOOKUP(B19,冒険者職業レベル!$C$3:$E$6,3,FALSE))","v":0},{"$f":"冒険者技能!K32","v":0},null,{"$f":"作成シート!C114","v":"なし"},{"$f":"VLOOKUP($F19,盾表!$B$3:$K$122,2,FALSE)","v":"-"},{"$f":"VLOOKUP($F19,盾表!$B$3:$K$122,6,FALSE)+BG19","v":0},{"$f":"VLOOKUP($F19,盾表!$B$3:$K$122,5,FALSE)+BG19","v":0},null,{"$f":"VLOOKUP($F19,盾表!$B$3:$K$122,7,FALSE)","v":"良い"},null,null,{"$f":"VLOOKUP($F19,盾表!$B$3:$K$122,9,FALSE)","v":"-"},{"$f":"作成シート!C116","v":"購入"},{"$f":"IF(O19=\"購入\",VLOOKUP($F19,盾表!$B$3:$K$122,8,FALSE)*BH19+BI19,0)","v":0},{"$f":"VLOOKUP($F19,盾表!$B$3:$K$122,10,FALSE)","v":-1},null,null,{"$f":"VLOOKUP($F19,盾表!$B$3:$K$122,3,FALSE)","v":"-"},{"$f":"VLOOKUP($F19,盾表!$B$3:$K$122,4,FALSE)","v":"-"},{"$f":"IF(F19=\"なし\",\"\",CHAR(10)&CHAR(10)&\"◎盾：【\"&BK19&\"】\"&CHAR(10)&\"属性：【\"&G19&\"(\"&T19&\")／\"&U19&\" 】\"&CHAR(10)&\"盾受け基準値合計：【\"&能力値!L14+C19+D19+I19&\"】　　盾受け値＋装甲合計：【\"&H19+D19&\"+\"&D15+H15&IF(AI15>0,\"+\"&AI15&\"(竜の末裔)\",\"\")&IF(AL15>0,IF(MAX(冒険者職業レベル!E10,冒険者職業レベル!E11)>0,\"+\"&AL15&\"(神官)\",\"\"),\"\")&IF(AM15>0,IF(MAX(冒険者職業レベル!E10,冒険者職業レベル!E11)>4,\"+\"&AM15&\"(神官)\",\"\"),\"\")&IF(その他の所持品!$D$1>0,\"+\"&その他の所持品!$D$1&\"(道具)\",\"\")&\"】　　隠密性：【\"&K19&\"】 \"&CHAR(10)&\"効果：\"&N19)","v":""},{"$f":"IF(F19=\"なし\",\"\",BK19&REPT(\"　\",10-LEN(BK19))&G19&\"   \"&C19+D19+能力値!L14&REPT(\" \",7-LEN(C19+D19+能力値!L14))&I19&REPT(\" \",4-LEN(I19))&C19+D19+能力値!L14+I19&REPT(\" \",7-LEN(C19+D19+能力値!L14+I19))&H19+D19&REPT(\" \",5-LEN(H19+D19))&H15+D15+AI15+IF(AL15>0,IF(MAX(冒険者職業レベル!E10,冒険者職業レベル!E11)>0,AL15,0),0)+IF(AM15>0,IF(MAX(冒険者職業レベル!E10,冒険者職業レベル!E11)>4,AM15,0),0)&REPT(\" \",6-LEN(H15+D15+AI15))&H19+D19+H15+D15+AI15&REPT(\" \",4-LEN(H19+D19+H15+D15))&LEFT(K19,2)&\"  \"&N19)","v":""},null,null,null,null,null,null,null,null,null,null,{"$f":"LEFT(BK19,6)","v":"なし"},null,{"$f":"VLOOKUP($F19,盾表!$B$3:$L$122,11,FALSE)","v":0},null,null,null,null,null,null,null,null,null,null,null,null,null,null,null,null,null,null,null,null,null,null,{"$f":"VLOOKUP(BJ19,固定値!$EL$2:$EO$6,2,FALSE)","v":0},{"$f":"VLOOKUP(BJ19,固定値!$EL$2:$EO$6,3,FALSE)","v":1},{"$f":"VLOOKUP(BJ19,固定値!$EL$2:$EO$6,4,FALSE)","v":0},{"$f":"作成シート!C111","v":"なし"},{"$f":"IF(BG19<1,F19,\"魔法の\"&F19&BJ19)","v":"なし"}]
[null,null,null,2,{"$f":"D20+1","v":3},{"$f":"E20+1","v":4},5,6,7,8,9,10,11,12,13,14,15,16,17,18,19,20]
["◆指輪腕輪",null,null,{"$f":"SUM(D23,D24)","v":0},{"$f":"MAX(E23,E24)","v":0},{"$f":"MAX(F23,F24)","v":0},0,0,0,0,0,0,0,0,0,0,0,0,0,0,0,0]
[null,"指輪腕輪","入手手段","価格","体力","魂魄","技量","知力","武器：片手剣","武器：両手剣","武器：斧","武器：槍","武器：戦槌","武器：棍杖","武器：格闘","武器：投擲","武器：弩弓","体力抵抗","魂魄抵抗","知力抵抗","呪文抵抗","体術"]
[null,{"$f":"作成シート!C118","v":"なし"},{"$f":"作成シート!C119","v":"購入"},{"$f":"IF(C23=\"購入\",VLOOKUP($B23,指輪腕輪!$B$2:$U$47,D$20,FALSE),0)","v":0},{"$f":"VLOOKUP($B23,指輪腕輪!$B$2:$U$47,E$20,FALSE)","v":0},{"$f":"VLOOKUP($B23,指輪腕輪!$B$2:$U$47,F$20,FALSE)","v":0},{"$f":"VLOOKUP($B23,指輪腕輪!$B$2:$U$47,G$20,FALSE)","v":0},{"$f":"VLOOKUP($B23,指輪腕輪!$B$2:$U$47,H$20,FALSE)","v":0},{"$f":"VLOOKUP($B23,指輪腕輪!$B$2:$U$47,I$20,FALSE)","v":0},{"$f":"VLOOKUP($B23,指輪腕輪!$B$2:$U$47,J$20,FALSE)","v":0},{"$f":"VLOOKUP($B23,指輪腕輪!$B$2:$U$47,K$20,FALSE)","v":0},{"$f":"VLOOKUP($B23,指輪腕輪!$B$2:$U$47,L$20,FALSE)","v":0},{"$f":"VLOOKUP($B23,指輪腕輪!$B$2:$U$47,M$20,FALSE)","v":0},{"$f":"VLOOKUP($B23,指輪腕輪!$B$2:$U$47,N$20,FALSE)","v":0},{"$f":"VLOOKUP($B23,指輪腕輪!$B$2:$U$47,O$20,FALSE)","v":0},{"$f":"VLOOKUP($B23,指輪腕輪!$B$2:$U$47,P$20,FALSE)","v":0},{"$f":"VLOOKUP($B23,指輪腕輪!$B$2:$U$47,Q$20,FALSE)","v":0},{"$f":"VLOOKUP($B23,指輪腕輪!$B$2:$U$47,R$20,FALSE)","v":0},{"$f":"VLOOKUP($B23,指輪腕輪!$B$2:$U$47,S$20,FALSE)","v":0},{"$f":"VLOOKUP($B23,指輪腕輪!$B$2:$U$47,T$20,FALSE)","v":0},{"$f":"VLOOKUP($B23,指輪腕輪!$B$2:$U$47,U$20,FALSE)","v":0},{"$f":"VLOOKUP($B23,指輪腕輪!$B$2:$U$47,V$20,FALSE)","v":0}]
[null,{"$f":"作成シート!C120","v":"なし"},{"$f":"作成シート!C121","v":"購入"},{"$f":"IF(C24=\"購入\",VLOOKUP($B24,指輪腕輪!$B$2:$U$47,D$20,FALSE),0)","v":0},{"$f":"VLOOKUP($B24,指輪腕輪!$B$2:$U$47,E$20,FALSE)","v":0},{"$f":"VLOOKUP($B24,指輪腕輪!$B$2:$U$47,F$20,FALSE)","v":0},{"$f":"VLOOKUP($B24,指輪腕輪!$B$2:$U$47,G$20,FALSE)","v":0},{"$f":"VLOOKUP($B24,指輪腕輪!$B$2:$U$47,H$20,FALSE)","v":0},{"$f":"VLOOKUP($B24,指輪腕輪!$B$2:$U$47,I$20,FALSE)","v":0},{"$f":"VLOOKUP($B24,指輪腕輪!$B$2:$U$47,J$20,FALSE)","v":0},{"$f":"VLOOKUP($B24,指輪腕輪!$B$2:$U$47,K$20,FALSE)","v":0},{"$f":"VLOOKUP($B24,指輪腕輪!$B$2:$U$47,L$20,FALSE)","v":0},{"$f":"VLOOKUP($B24,指輪腕輪!$B$2:$U$47,M$20,FALSE)","v":0},{"$f":"VLOOKUP($B24,指輪腕輪!$B$2:$U$47,N$20,FALSE)","v":0},{"$f":"VLOOKUP($B24,指輪腕輪!$B$2:$U$47,O$20,FALSE)","v":0},{"$f":"VLOOKUP($B24,指輪腕輪!$B$2:$U$47,P$20,FALSE)","v":0},{"$f":"VLOOKUP($B24,指輪腕輪!$B$2:$U$47,Q$20,FALSE)","v":0},{"$f":"VLOOKUP($B24,指輪腕輪!$B$2:$U$47,R$20,FALSE)","v":0},{"$f":"VLOOKUP($B24,指輪腕輪!$B$2:$U$47,S$20,FALSE)","v":0},{"$f":"VLOOKUP($B24,指輪腕輪!$B$2:$U$47,T$20,FALSE)","v":0},{"$f":"VLOOKUP($B24,指輪腕輪!$B$2:$U$47,U$20,FALSE)","v":0},{"$f":"VLOOKUP($B24,指輪腕輪!$B$2:$U$47,V$20,FALSE)","v":0}]

{"sheet":"その他の所持品","index":8,"n_rows":20,"n_cols":12,"rows_kept":20,"cut":false,"hidden":false,"merged":[]}
[null,null,{"$f":"SUM(C3:C20)","v":0},{"$f":"MAX(D3:D20)","v":0},0,0,0,0,0,{"$f":"SUM(J12:J20)","v":0},{"$f":"K3&K4&K5&K6&K7&K8&K9&K10&K11&K12&K13&K14&K15&K16&K17&K18&K19&K20","v":"\n冒険者ツール(鈎縄10m、楔10個、小槌、火口箱、背負い袋、携帯用食器、水袋、白墨、小刀、松明(6本))\n携帯食：21\n衣類"},{"$f":"K6&K7&K8&K9&K10&K11&K12&K13&K14&K15&K16&K17&K18&K19","v":""}]
[null,"所持品","移動修正","追加装甲","体力抵抗判定","真言呪文行使判定修正","奇跡行使判定修正","祖竜術行使判定修正","精霊術行使判定修正","価格"]
[null,{"$f":"作成シート!C122","v":"冒険者ツール(鈎縄10m、楔10個、小槌、火口箱、背負い袋、携帯用食器、水袋、白墨、小刀、松明(6本))"},{"$f":"VLOOKUP(B3,固定値!$BT$1:$BU$999,2,FALSE)","v":0},{"$f":"VLOOKUP($B3,固定値!$BT$1:$CC$999,3,FALSE)","v":0},{"$f":"VLOOKUP($B3,固定値!$BT$1:$CC$999,4,FALSE)","v":0},{"$f":"VLOOKUP($B3,固定値!$BT$1:$CC$999,5,FALSE)","v":0},{"$f":"VLOOKUP($B3,固定値!$BT$1:$CC$999,6,FALSE)","v":0},{"$f":"VLOOKUP($B3,固定値!$BT$1:$CC$999,7,FALSE)","v":0},{"$f":"VLOOKUP($B3,固定値!$BT$1:$CC$999,8,FALSE)","v":0},null,{"$f":"IF(B3=\"なし\",\"\",CHAR(10)&B3&IF(C3<0,\"(\"&C3&\")\",\"\"))","v":"\n冒険者ツール(鈎縄10m、楔10個、小槌、火口箱、背負い袋、携帯用食器、水袋、白墨、小刀、松明(6本))"}]
[null,{"$f":"作成シート!C123","v":"携帯食：21"},{"$f":"VLOOKUP(B4,固定値!$BT$1:$BU$999,2,FALSE)","v":0},{"$f":"VLOOKUP($B4,固定値!$BT$1:$CC$999,3,FALSE)","v":0},{"$f":"VLOOKUP($B4,固定値!$BT$1:$CC$999,4,FALSE)","v":0},{"$f":"VLOOKUP($B4,固定値!$BT$1:$CC$999,5,FALSE)","v":0},{"$f":"VLOOKUP($B4,固定値!$BT$1:$CC$999,6,FALSE)","v":0},{"$f":"VLOOKUP($B4,固定値!$BT$1:$CC$999,7,FALSE)","v":0},{"$f":"VLOOKUP($B4,固定値!$BT$1:$CC$999,8,FALSE)","v":0},null,{"$f":"IF(B4=\"なし\",\"\",CHAR(10)&B4&IF(C4<0,\"(\"&C4&\")\",\"\"))","v":"\n携帯食：21"}]
[null,{"$f":"作成シート!C124","v":"衣類"},{"$f":"VLOOKUP(B5,固定値!$BT$1:$BU$999,2,FALSE)","v":0},{"$f":"VLOOKUP($B5,固定値!$BT$1:$CC$999,3,FALSE)","v":0},{"$f":"VLOOKUP($B5,固定値!$BT$1:$CC$999,4,FALSE)","v":0},{"$f":"VLOOKUP($B5,固定値!$BT$1:$CC$999,5,FALSE)","v":0},{"$f":"VLOOKUP($B5,固定値!$BT$1:$CC$999,6,FALSE)","v":0},{"$f":"VLOOKUP($B5,固定値!$BT$1:$CC$999,7,FALSE)","v":0},{"$f":"VLOOKUP($B5,固定値!$BT$1:$CC$999,8,FALSE)","v":0},null,"\n衣類"]
[null,{"$f":"作成シート!C125","v":"なし"},{"$f":"VLOOKUP(B6,固定値!$BT$1:$BU$999,2,FALSE)","v":0},{"$f":"VLOOKUP($B6,固定値!$BT$1:$CC$999,3,FALSE)","v":0},{"$f":"VLOOKUP($B6,固定値!$BT$1:$CC$999,4,FALSE)","v":0},{"$f":"VLOOKUP($B6,固定値!$BT$1:$CC$999,5,FALSE)","v":0},{"$f":"VLOOKUP($B6,固定値!$BT$1:$CC$999,6,FALSE)","v":0},{"$f":"VLOOKUP($B6,固定値!$BT$1:$CC$999,7,FALSE)","v":0},{"$f":"VLOOKUP($B6,固定値!$BT$1:$CC$999,8,FALSE)","v":0},null,""]
[null,{"$f":"作成シート!C126","v":"なし"},{"$f":"VLOOKUP(B7,固定値!$BT$1:$BU$999,2,FALSE)","v":0},{"$f":"VLOOKUP($B7,固定値!$BT$1:$CC$999,3,FALSE)","v":0},{"$f":"VLOOKUP($B7,固定値!$BT$1:$CC$999,4,FALSE)","v":0},{"$f":"VLOOKUP($B7,固定値!$BT$1:$CC$999,5,FALSE)","v":0},{"$f":"VLOOKUP($B7,固定値!$BT$1:$CC$999,6,FALSE)","v":0},{"$f":"VLOOKUP($B7,固定値!$BT$1:$CC$999,7,FALSE)","v":0},{"$f":"VLOOKUP($B7,固定値!$BT$1:$CC$999,8,FALSE)","v":0},null,""]
[null,{"$f":"作成シート!C127","v":"なし"},{"$f":"VLOOKUP(B8,固定値!$BT$1:$BU$999,2,FALSE)","v":0},{"$f":"VLOOKUP($B8,固定値!$BT$1:$CC$999,3,FALSE)","v":0},{"$f":"VLOOKUP($B8,固定値!$BT$1:$CC$999,4,FALSE)","v":0},{"$f":"VLOOKUP($B8,固定値!$BT$1:$CC$999,5,FALSE)","v":0},{"$f":"VLOOKUP($B8,固定値!$BT$1:$CC$999,6,FALSE)","v":0},{"$f":"VLOOKUP($B8,固定値!$BT$1:$CC$999,7,FALSE)","v":0},{"$f":"VLOOKUP($B8,固定値!$BT$1:$CC$999,8,FALSE)","v":0},null,""]
[null,{"$f":"作成シート!C128","v":"なし"},{"$f":"VLOOKUP(B9,固定値!$BT$1:$BU$999,2,FALSE)","v":0},{"$f":"VLOOKUP($B9,固定値!$BT$1:$CC$999,3,FALSE)","v":0},{"$f":"VLOOKUP($B9,固定値!$BT$1:$CC$999,4,FALSE)","v":0},{"$f":"VLOOKUP($B9,固定値!$BT$1:$CC$999,5,FALSE)","v":0},{"$f":"VLOOKUP($B9,固定値!$BT$1:$CC$999,6,FALSE)","v":0},{"$f":"VLOOKUP($B9,固定値!$BT$1:$CC$999,7,FALSE)","v":0},{"$f":"VLOOKUP($B9,固定値!$BT$1:$CC$999,8,FALSE)","v":0},null,""]
[null,{"$f":"作成シート!C129","v":"なし"},{"$f":"VLOOKUP(B10,固定値!$BT$1:$BU$999,2,FALSE)","v":0},{"$f":"VLOOKUP($B10,固定値!$BT$1:$CC$999,3,FALSE)","v":0},{"$f":"VLOOKUP($B10,固定値!$BT$1:$CC$999,4,FALSE)","v":0},{"$f":"VLOOKUP($B10,固定値!$BT$1:$CC$999,5,FALSE)","v":0},{"$f":"VLOOKUP($B10,固定値!$BT$1:$CC$999,6,FALSE)","v":0},{"$f":"VLOOKUP($B10,固定値!$BT$1:$CC$999,7,FALSE)","v":0},{"$f":"VLOOKUP($B10,固定値!$BT$1:$CC$999,8,FALSE)","v":0},null,""]
[null,{"$f":"作成シート!C130","v":"なし"},{"$f":"VLOOKUP(B11,固定値!$BT$1:$BU$999,2,FALSE)","v":0},{"$f":"VLOOKUP($B11,固定値!$BT$1:$CC$999,3,FALSE)","v":0},{"$f":"VLOOKUP($B11,固定値!$BT$1:$CC$999,4,FALSE)","v":0},{"$f":"VLOOKUP($B11,固定値!$BT$1:$CC$999,5,FALSE)","v":0},{"$f":"VLOOKUP($B11,固定値!$BT$1:$CC$999,6,FALSE)","v":0},{"$f":"VLOOKUP($B11,固定値!$BT$1:$CC$999,7,FALSE)","v":0},{"$f":"VLOOKUP($B11,固定値!$BT$1:$CC$999,8,FALSE)","v":0},null,""]
[null,{"$f":"作成シート!C131","v":"なし"},{"$f":"VLOOKUP(B12,固定値!$BT$1:$BU$999,2,FALSE)","v":0},{"$f":"VLOOKUP($B12,固定値!$BT$1:$CC$999,3,FALSE)","v":0},{"$f":"VLOOKUP($B12,固定値!$BT$1:$CC$999,4,FALSE)","v":0},{"$f":"VLOOKUP($B12,固定値!$BT$1:$CC$999,5,FALSE)","v":0},{"$f":"VLOOKUP($B12,固定値!$BT$1:$CC$999,6,FALSE)","v":0},{"$f":"VLOOKUP($B12,固定値!$BT$1:$CC$999,7,FALSE)","v":0},{"$f":"VLOOKUP($B12,固定値!$BT$1:$CC$999,8,FALSE)","v":0},{"$f":"VLOOKUP($B12,固定値!$BT$1:$CC$999,9,FALSE)","v":0},""]
[null,{"$f":"作成シート!C132","v":"なし"},{"$f":"VLOOKUP(B13,固定値!$BT$1:$BU$999,2,FALSE)","v":0},{"$f":"VLOOKUP($B13,固定値!$BT$1:$CC$999,3,FALSE)","v":0},{"$f":"VLOOKUP($B13,固定値!$BT$1:$CC$999,4,FALSE)","v":0},{"$f":"VLOOKUP($B13,固定値!$BT$1:$CC$999,5,FALSE)","v":0},{"$f":"VLOOKUP($B13,固定値!$BT$1:$CC$999,6,FALSE)","v":0},{"$f":"VLOOKUP($B13,固定値!$BT$1:$CC$999,7,FALSE)","v":0},{"$f":"VLOOKUP($B13,固定値!$BT$1:$CC$999,8,FALSE)","v":0},{"$f":"VLOOKUP($B13,固定値!$BT$1:$CC$999,9,FALSE)","v":0},""]
[null,{"$f":"作成シート!C133","v":"なし"},{"$f":"VLOOKUP(B14,固定値!$BT$1:$BU$999,2,FALSE)","v":0},{"$f":"VLOOKUP($B14,固定値!$BT$1:$CC$999,3,FALSE)","v":0},{"$f":"VLOOKUP($B14,固定値!$BT$1:$CC$999,4,FALSE)","v":0},{"$f":"VLOOKUP($B14,固定値!$BT$1:$CC$999,5,FALSE)","v":0},{"$f":"VLOOKUP($B14,固定値!$BT$1:$CC$999,6,FALSE)","v":0},{"$f":"VLOOKUP($B14,固定値!$BT$1:$CC$999,7,FALSE)","v":0},{"$f":"VLOOKUP($B14,固定値!$BT$1:$CC$999,8,FALSE)","v":0},{"$f":"VLOOKUP($B14,固定値!$BT$1:$CC$999,9,FALSE)","v":0},""]
[null,{"$f":"作成シート!C134","v":"なし"},{"$f":"VLOOKUP(B15,固定値!$BT$1:$BU$999,2,FALSE)","v":0},{"$f":"VLOOKUP($B15,固定値!$BT$1:$CC$999,3,FALSE)","v":0},{"$f":"VLOOKUP($B15,固定値!$BT$1:$CC$999,4,FALSE)","v":0},{"$f":"VLOOKUP($B15,固定値!$BT$1:$CC$999,5,FALSE)","v":0},{"$f":"VLOOKUP($B15,固定値!$BT$1:$CC$999,6,FALSE)","v":0},{"$f":"VLOOKUP($B15,固定値!$BT$1:$CC$999,7,FALSE)","v":0},{"$f":"VLOOKUP($B15,固定値!$BT$1:$CC$999,8,FALSE)","v":0},{"$f":"VLOOKUP($B15,固定値!$BT$1:$CC$999,9,FALSE)","v":0},""]
[null,{"$f":"作成シート!C135","v":"なし"},{"$f":"VLOOKUP(B16,固定値!$BT$1:$BU$999,2,FALSE)","v":0},{"$f":"VLOOKUP($B16,固定値!$BT$1:$CC$999,3,FALSE)","v":0},{"$f":"VLOOKUP($B16,固定値!$BT$1:$CC$999,4,FALSE)","v":0},{"$f":"VLOOKUP($B16,固定値!$BT$1:$CC$999,5,FALSE)","v":0},{"$f":"VLOOKUP($B16,固定値!$BT$1:$CC$999,6,FALSE)","v":0},{"$f":"VLOOKUP($B16,固定値!$BT$1:$CC$999,7,FALSE)","v":0},{"$f":"VLOOKUP($B16,固定値!$BT$1:$CC$999,8,FALSE)","v":0},{"$f":"VLOOKUP($B16,固定値!$BT$1:$CC$999,9,FALSE)","v":0},""]
[null,{"$f":"作成シート!C136","v":"なし"},{"$f":"VLOOKUP(B17,固定値!$BT$1:$BU$999,2,FALSE)","v":0},{"$f":"VLOOKUP($B17,固定値!$BT$1:$CC$999,3,FALSE)","v":0},{"$f":"VLOOKUP($B17,固定値!$BT$1:$CC$999,4,FALSE)","v":0},{"$f":"VLOOKUP($B17,固定値!$BT$1:$CC$999,5,FALSE)","v":0},{"$f":"VLOOKUP($B17,固定値!$BT$1:$CC$999,6,FALSE)","v":0},{"$f":"VLOOKUP($B17,固定値!$BT$1:$CC$999,7,FALSE)","v":0},{"$f":"VLOOKUP($B17,固定値!$BT$1:$CC$999,8,FALSE)","v":0},{"$f":"VLOOKUP($B17,固定値!$BT$1:$CC$999,9,FALSE)","v":0},""]
[null,{"$f":"作成シート!C137","v":"なし"},{"$f":"VLOOKUP(B18,固定値!$BT$1:$BU$999,2,FALSE)","v":0},{"$f":"VLOOKUP($B18,固定値!$BT$1:$CC$999,3,FALSE)","v":0},{"$f":"VLOOKUP($B18,固定値!$BT$1:$CC$999,4,FALSE)","v":0},{"$f":"VLOOKUP($B18,固定値!$BT$1:$CC$999,5,FALSE)","v":0},{"$f":"VLOOKUP($B18,固定値!$BT$1:$CC$999,6,FALSE)","v":0},{"$f":"VLOOKUP($B18,固定値!$BT$1:$CC$999,7,FALSE)","v":0},{"$f":"VLOOKUP($B18,固定値!$BT$1:$CC$999,8,FALSE)","v":0},{"$f":"VLOOKUP($B18,固定値!$BT$1:$CC$999,9,FALSE)","v":0},""]
[null,{"$f":"作成シート!C138","v":"なし"},{"$f":"VLOOKUP(B19,固定値!$BT$1:$BU$999,2,FALSE)","v":0},{"$f":"VLOOKUP($B19,固定値!$BT$1:$CC$999,3,FALSE)","v":0},{"$f":"VLOOKUP($B19,固定値!$BT$1:$CC$999,4,FALSE)","v":0},{"$f":"VLOOKUP($B19,固定値!$BT$1:$CC$999,5,FALSE)","v":0},{"$f":"VLOOKUP($B19,固定値!$BT$1:$CC$999,6,FALSE)","v":0},{"$f":"VLOOKUP($B19,固定値!$BT$1:$CC$999,7,FALSE)","v":0},{"$f":"VLOOKUP($B19,固定値!$BT$1:$CC$999,8,FALSE)","v":0},{"$f":"VLOOKUP($B19,固定値!$BT$1:$CC$999,9,FALSE)","v":0},""]
[null,{"$f":"作成シート!C139","v":"なし"},{"$f":"VLOOKUP(B20,固定値!$BT$1:$BU$999,2,FALSE)","v":0},{"$f":"VLOOKUP($B20,固定値!$BT$1:$CC$999,3,FALSE)","v":0},{"$f":"VLOOKUP($B20,固定値!$BT$1:$CC$999,4,FALSE)","v":0},{"$f":"VLOOKUP($B20,固定値!$BT$1:$CC$999,5,FALSE)","v":0},{"$f":"VLOOKUP($B20,固定値!$BT$1:$CC$999,6,FALSE)","v":0},{"$f":"VLOOKUP($B20,固定値!$BT$1:$CC$999,7,FALSE)","v":0},{"$f":"VLOOKUP($B20,固定値!$BT$1:$CC$999,8,FALSE)","v":0},{"$f":"VLOOKUP($B20,固定値!$BT$1:$CC$999,9,FALSE)","v":0},""]

{"sheet":"プロフィール","index":9,"n_rows":26,"n_cols":8,"rows_kept":26,"cut":false,"hidden":false,"merged":[]}
[]
[null,"名前",{"$f":"IF(作成シート!C3=\"\",\"\",作成シート!C3)","v":"何か書いてください"}]
[null,"種族",{"$f":"作成シート!C4","v":"只人"}]
[null,"年齢",{"$f":"IF(作成シート!C5=\"\",\"\",作成シート!C5)","v":"不明"}]
[null,"性別",{"$f":"IF(作成シート!C6=\"\",\"\",作成シート!C6)","v":"不明"}]
[null,"経歴／出自",{"$f":"VLOOKUP(F6,固定値!CI2:CM55,5,FALSE)","v":"農民"},"出目",{"$f":"作成シート!C7","v":7},{"$f":"C3&\"-\"&E6","v":"只人-7"}]
[null,"経歴／来歴",{"$f":"VLOOKUP(E7,固定値!CS2:CT12,2,FALSE)","v":"平穏"},"出目",{"$f":"作成シート!C8","v":7}]
[null,"経歴／邂逅",{"$f":"VLOOKUP(E8,固定値!CX2:CY12,2,FALSE)","v":"家族"},"出目",{"$f":"作成シート!C9","v":7}]
[null,"等級",{"$f":"作成シート!C10","v":"白磁等級"}]
[null,"身体的特徴",{"$f":"IF(作成シート!C11=\"\",\"\",作成シート!C11)","v":"何か書いてください"}]
[null,"身体的特徴／髪",{"$f":"IF(作成シート!C12=\"\",\"\",作成シート!C12)","v":"何か書いてください"}]
[null,"身体的特徴／瞳",{"$f":"IF(作成シート!C13=\"\",\"\",作成シート!C13)","v":"何か書いてください"}]
[null,"冒険者になった動機",{"$f":"VLOOKUP(H13,固定値!CD2:CE19,2,FALSE)","v":"腕試しのため"},"出目",{"$f":"作成シート!C14","v":"3,4"},"出目",{"$f":"作成シート!C15","v":4},{"$f":"E13&\"-\"&G13","v":"3,4-4"}]
[null,"設定",{"$f":"IF(作成シート!C16=\"\",\"\",作成シート!C16)","v":"何か書いてください"}]
[null,"能力値タイプ",{"$f":"作成シート!$C$29","v":"固定値"}]
[null,"状態／2D6(1回目)",{"$f":"作成シート!C18","v":5},"固定値",{"$f":"VLOOKUP(B16, 固定値!$A$1:$B$4,2,FALSE)","v":5}]
[null,"状態／2D6(2回目)",{"$f":"作成シート!C19","v":7},"固定値",{"$f":"VLOOKUP(B17, 固定値!$A$1:$B$4,2,FALSE)","v":7}]
[null,"状態／2D6(3回目)",{"$f":"作成シート!C20","v":9},"固定値",{"$f":"VLOOKUP(B18, 固定値!$A$1:$B$4,2,FALSE)","v":9}]
[null,"状態タイプ",{"$f":"作成シート!C21","v":"固定値"}]
[null,"信仰",{"$f":"作成シート!C17","v":"なし"}]
[null,"初期冒険者レベル",{"$f":"作成シート!C2","v":1}]
[null,"初期経験点",{"$f":"VLOOKUP($C$21,固定値!$AT$2:$AY$10,2,FALSE)","v":3000}]
[null,"初期成長点",{"$f":"VLOOKUP($C$21,固定値!$AT$2:$AY$10,3,FALSE)","v":0}]
[null,"初期所持金",{"$f":"VLOOKUP($C$21,固定値!$AT$2:$AY$10,4,FALSE)","v":100}]
[null,"初期冒険回数",{"$f":"VLOOKUP($C$21,固定値!$AT$2:$AY$10,5,FALSE)","v":0}]
[null,"初期達成回数",{"$f":"VLOOKUP($C$21,固定値!$AT$2:$AY$10,6,FALSE)","v":0}]

{"sheet":"能力値","index":10,"n_rows":83,"n_cols":22,"rows_kept":83,"cut":false,"hidden":false,"merged":[]}
[]
[null,null,null,"固定値","ランダム","ボーナス","最終値"]
[null,"第一能力値"]
[null,null,"体力点",{"$f":"VLOOKUP(C4,固定値!$D$1:$I$9,VLOOKUP(プロフィール!$C$3,固定値!$K$1:$L$6,2,FALSE),FALSE)","v":3},{"$f":"作成シート!C22","v":0},{"$f":"IF(作成シート!$C$30=C4,1,0)","v":0},{"$f":"IF(プロフィール!$C$15=\"固定値\",D4,E4)+F4+装備!E21","v":3},{"$f":"DBCS(G4)","v":"３"}]
[null,null,"魂魄点",{"$f":"VLOOKUP(C5,固定値!$D$1:$I$9,VLOOKUP(プロフィール!$C$3,固定値!$K$1:$L$6,2,FALSE),FALSE)","v":2},{"$f":"作成シート!C23","v":0},{"$f":"IF(作成シート!$C$30=C5,1,0)","v":0},{"$f":"IF(プロフィール!$C$15=\"固定値\",D5,E5)+F5+装備!F21","v":2},{"$f":"DBCS(G5)","v":"２"}]
[null,null,"技量点",{"$f":"VLOOKUP(C6,固定値!$D$1:$I$9,VLOOKUP(プロフィール!$C$3,固定値!$K$1:$L$6,2,FALSE),FALSE)","v":2},{"$f":"作成シート!C24","v":0},{"$f":"IF(作成シート!$C$30=C6,1,0)","v":1},{"$f":"IF(プロフィール!$C$15=\"固定値\",D6,E6)+F6+装備!G21","v":3},{"$f":"DBCS(G6)","v":"３"}]
[null,null,"知力点",{"$f":"VLOOKUP(C7,固定値!$D$1:$I$9,VLOOKUP(プロフィール!$C$3,固定値!$K$1:$L$6,2,FALSE),FALSE)","v":3},{"$f":"作成シート!C25","v":0},{"$f":"IF(作成シート!$C$30=C7,1,0)","v":0},{"$f":"IF(プロフィール!$C$15=\"固定値\",D7,E7)+F7+装備!H21","v":3},{"$f":"DBCS(G7)","v":"３"}]
[null,null,null,null,null,null,null,null,null,"体力点","魂魄点","技量点","知力点"]
[null,"第二能力",null,null,null,null,null,null,null,{"$f":"G4","v":3},{"$f":"G5","v":2},{"$f":"G6","v":3},{"$f":"G7","v":3}]
[null,null,"集中度",{"$f":"VLOOKUP(C10,固定値!$D$1:$I$9,VLOOKUP(プロフィール!$C$3,固定値!$K$1:$L$6,2,FALSE),FALSE)","v":2},{"$f":"作成シート!C26","v":0},null,{"$f":"IF(プロフィール!$C$15=\"固定値\",D10,E10)+F10","v":2},{"$f":"DBCS(G10)","v":"２"},"集中度",{"$f":"DBCS($G10+J$9)","v":"５"},{"$f":"DBCS($G10+K$9)","v":"４"},"５","５"]
[null,null,"持久度",{"$f":"VLOOKUP(C11,固定値!$D$1:$I$9,VLOOKUP(プロフィール!$C$3,固定値!$K$1:$L$6,2,FALSE),FALSE)","v":4},{"$f":"作成シート!C27","v":0},null,{"$f":"IF(プロフィール!$C$15=\"固定値\",D11,E11)+F11","v":4},{"$f":"DBCS(G11)","v":"４"},"持久度",{"$f":"DBCS($G11+J$9)","v":"７"},"６","７","７"]
[null,null,"反射度",{"$f":"VLOOKUP(C12,固定値!$D$1:$I$9,VLOOKUP(プロフィール!$C$3,固定値!$K$1:$L$6,2,FALSE),FALSE)","v":2},{"$f":"作成シート!C28","v":0},null,{"$f":"IF(プロフィール!$C$15=\"固定値\",D12,E12)+F12","v":2},{"$f":"DBCS(G12)","v":"２"},"反射度","５","４","５","５"]
[]
[]
[]
[null,"　　　　┌───┬───┬───┬───┐"]
[null,"　　　　│体力点│魂魄点│技量点│知力点│"]
[null,{"$f":"\"　　　　│　\"&H4&\"　│　\"&H5&\"　│　\"&H6&\"　│　\"&H7&\"　│\"","v":"　　　　│　３　│　２　│　３　│　３　│"}]
[null,"┌───┼───┼───┼───┼───┤"]
[null,"│集中度│　　　│　　　│　　　│　　　│"]
[null,{"$f":"\"│　\"&H10&\"　│　\"&J10&\"　│　\"&K10&\"　│　\"&L10&\"　│　\"&M10&\"　│\"","v":"│　２　│　５　│　４　│　５　│　５　│"}]
[null,"├───┼───┼───┼───┼───┤"]
[null,"│持久度│　　　│　　　│　　　│　　　│"]
[null,{"$f":"\"│　\"&H11&\"　│　\"&J11&\"　│　\"&K11&\"　│　\"&L11&\"　│　\"&M11&\"　│\"","v":"│　４　│　７　│　６　│　７　│　７　│"}]
[null,"├───┼───┼───┼───┼───┤"]
[null,"│反射度│　　　│　　　│　　　│　　　│"]
[null,{"$f":"\"│　\"&H12&\"　│　\"&J12&\"　│　\"&K12&\"　│　\"&L12&\"　│　\"&M12&\"　│\"","v":"│　２　│　５　│　４　│　５　│　５　│"}]
[null,"└───┴───┴───┴───┴───┘"]
[]
[]
[null,null,null,null,null,null,null,null,null,null,null,null,null,"鎧の修正",null,"武器の修正",null,"道具の修正",null,"盾の修正",null,"腕輪指輪"]
[null,null,"体力抵抗",{"$f":"F32+H32+J32+L32+N32+P32+R32+T32+V32","v":6},"体力反射",{"$f":"$J$12","v":"５"},"冒険者Lv",{"$f":"冒険者職業レベル!$D$19","v":1},"免疫強化",{"$f":"IF(I32=\"\",0,VLOOKUP(I32,冒険者技能!$C$3:$K$67,9,FALSE))","v":0},null,{"$f":"IF(K32=\"\",0,VLOOKUP(K32,一般技能!$B$3:$I$47,8,FALSE))","v":0},null,null,null,null,null,{"$f":"その他の所持品!E1","v":0},null,null,null,{"$f":"装備!R21","v":0}]
[null,null,"魂魄抵抗",{"$f":"F33+H33+J33+L33+N33+P33+R33+T33+V33","v":5},"魂魄反射",{"$f":"$K$12","v":"４"},"冒険者Lv",{"$f":"冒険者職業レベル!$D$19","v":1},null,{"$f":"IF(I33=\"\",0,VLOOKUP(I33,冒険者技能!$C$3:$K$67,9,FALSE))","v":0},"沈着冷静",{"$f":"IF(K33=\"\",0,VLOOKUP(K33,一般技能!$B$3:$I$47,8,FALSE))","v":0},null,null,null,null,null,null,null,null,null,{"$f":"装備!S21","v":0}]
[null,null,"知力抵抗",{"$f":"F34+H34+J34+L34+N34+P34+R34+T34+V34","v":6},"知力反射",{"$f":"$M$12","v":"５"},"冒険者Lv",{"$f":"冒険者職業レベル!$D$19","v":1},null,{"$f":"IF(I34=\"\",0,VLOOKUP(I34,冒険者技能!$C$3:$K$67,9,FALSE))","v":0},"沈着冷静",{"$f":"IF(K34=\"\",0,VLOOKUP(K34,一般技能!$B$3:$I$47,8,FALSE))","v":0},null,null,null,null,null,null,null,null,null,{"$f":"装備!T21","v":0}]
[null,null,"呪文抵抗",{"$f":"F35+H35+J35+L35+N35+P35+R35+T35+V35","v":5},"魂魄反射",{"$f":"$K$12","v":"４"},"冒険者Lv",{"$f":"冒険者職業レベル!$D$19","v":1},"呪文抵抗",{"$f":"IF(I35=\"\",0,VLOOKUP(I35,冒険者技能!$C$3:$K$67,9,FALSE))","v":0},null,{"$f":"IF(K35=\"\",0,VLOOKUP(K35,一般技能!$B$3:$I$47,8,FALSE))","v":0},null,null,null,null,null,null,null,null,null,{"$f":"装備!U21","v":0}]
[]
[null,null,"怪力(集中)",{"$f":"F37+H37+J37+L37+N37+P37+R37+T37+V37","v":6},"体力集中",{"$f":"$J$10","v":"５"},"戦士or武道家Lv",{"$f":"MAX(冒険者職業レベル!$E$3,冒険者職業レベル!$E$4)","v":0},"荷重行動",{"$f":"IF(I37=\"\",0,VLOOKUP(I37,冒険者技能!$C$3:$K$67,9,FALSE))","v":1},null,{"$f":"IF(K37=\"\",0,VLOOKUP(K37,一般技能!$B$3:$I$47,8,FALSE))","v":0}]
[null,null,"怪力(持久)",8,"体力持久",{"$f":"$J$11","v":"７"},"戦士or武道家Lv",{"$f":"MAX(冒険者職業レベル!$E$3,冒険者職業レベル!$E$4)","v":0},"荷重行動",{"$f":"IF(I38=\"\",0,VLOOKUP(I38,冒険者技能!$C$3:$K$67,9,FALSE))","v":1},null,{"$f":"IF(K38=\"\",0,VLOOKUP(K38,一般技能!$B$3:$I$47,8,FALSE))","v":0}]
[null,null,"脱出",6,"体力集中",{"$f":"$J$10","v":"５"},"戦士or武道家Lv",{"$f":"MAX(冒険者職業レベル!$E$3,冒険者職業レベル!$E$4)","v":0},"荷重行動",{"$f":"IF(I39=\"\",0,VLOOKUP(I39,冒険者技能!$C$3:$K$67,9,FALSE))","v":1},null,{"$f":"IF(K39=\"\",0,VLOOKUP(K39,一般技能!$B$3:$I$47,8,FALSE))","v":0}]
[null,null,"登攀（筋力)",8,"体力持久",{"$f":"$J$11","v":"７"},"戦士or武道家Lv",{"$f":"MAX(冒険者職業レベル!$E$3,冒険者職業レベル!$E$4)","v":0},"荷重行動",{"$f":"IF(I40=\"\",0,VLOOKUP(I40,冒険者技能!$C$3:$K$67,9,FALSE))","v":1},null,{"$f":"IF(K40=\"\",0,VLOOKUP(K40,一般技能!$B$3:$I$47,8,FALSE))","v":0},null,{"$f":"装備!$AR$13","v":0}]
[]
[null,null,"水泳",{"$f":"F42+H42+J42+L42+N42+P42+R42+T42+V42","v":6},"技量集中",{"$f":"$L$10","v":"５"},"冒険者Lv",{"$f":"冒険者職業レベル!$D$19","v":1},"体術",{"$f":"IF(I42=\"\",0,VLOOKUP(I42,冒険者技能!$C$3:$K$67,9,FALSE))","v":0},null,{"$f":"IF(K42=\"\",0,VLOOKUP(K42,一般技能!$B$3:$I$47,8,FALSE))","v":0},null,{"$f":"装備!AK13","v":0},null,{"$f":"装備!$BA$1","v":0}]
[null,null,"登攀(技量)",5,"技量集中",{"$f":"$L$10","v":"５"},"野伏or斥候Lv",{"$f":"MAX(冒険者職業レベル!$E$5,冒険者職業レベル!$E$6)","v":0},"体術",{"$f":"IF(I43=\"\",0,VLOOKUP(I43,冒険者技能!$C$3:$K$67,9,FALSE))","v":0},null,{"$f":"IF(K43=\"\",0,VLOOKUP(K43,一般技能!$B$3:$I$47,8,FALSE))","v":0},null,{"$f":"装備!$AR$13","v":0},null,{"$f":"装備!$BA$1","v":0}]
[null,null,"軽業",5,"技量集中",{"$f":"$L$10","v":"５"},"武道家or野伏or斥候Lv",{"$f":"MAX(冒険者職業レベル!$E$5,冒険者職業レベル!$E$6,冒険者職業レベル!$E$4)","v":0},"体術",{"$f":"IF(I44=\"\",0,VLOOKUP(I44,冒険者技能!$C$3:$K$67,9,FALSE))","v":0},null,{"$f":"IF(K44=\"\",0,VLOOKUP(K44,一般技能!$B$3:$I$47,8,FALSE))","v":0},null,null,null,{"$f":"装備!$BA$1","v":0}]
[null,null,"跳躍",5,"技量集中",{"$f":"$L$10","v":"５"},"武道家or野伏or斥候Lv",{"$f":"MAX(冒険者職業レベル!$E$5,冒険者職業レベル!$E$6,冒険者職業レベル!$E$4)","v":0},"体術",{"$f":"IF(I45=\"\",0,VLOOKUP(I45,冒険者技能!$C$3:$K$67,9,FALSE))","v":0},null,{"$f":"IF(K45=\"\",0,VLOOKUP(K45,一般技能!$B$3:$I$47,8,FALSE))","v":0},null,{"$f":"装備!$AT$13","v":0},null,{"$f":"装備!$BA$1","v":0}]
[]
[null,null,"応急手当",{"$f":"F47+H47+J47+L47+N47+P47+R47+T47+V47","v":5},"技量集中",{"$f":"$L$10","v":"５"},"野伏or神官or竜司祭Lv",{"$f":"MAX(冒険者職業レベル!E5,冒険者職業レベル!E8,冒険者職業レベル!E9)","v":0},"応急手当",{"$f":"IF(I47=\"\",0,VLOOKUP(I47,冒険者技能!$C$3:$K$67,9,FALSE))","v":0},null,{"$f":"IF(K47=\"\",0,VLOOKUP(K47,一般技能!$B$3:$I$47,8,FALSE))","v":0}]
[null,null,"手仕事(10分)",5,"技量集中",{"$f":"$L$10","v":"５"},"野伏or斥候Lv",{"$f":"MAX(冒険者職業レベル!$E$5,冒険者職業レベル!$E$6)","v":0},"手仕事",{"$f":"IF(I48=\"\",0,VLOOKUP(I48,冒険者技能!$C$3:$K$67,9,FALSE))","v":0},null,{"$f":"IF(K48=\"\",0,VLOOKUP(K48,一般技能!$B$3:$I$47,8,FALSE))","v":0}]
[null,null,"手仕事(1時間)",7,"技量持久",{"$f":"$L$11","v":"７"},"野伏or斥候Lv",{"$f":"MAX(冒険者職業レベル!$E$5,冒険者職業レベル!$E$6)","v":0},"手仕事",{"$f":"IF(I49=\"\",0,VLOOKUP(I49,冒険者技能!$C$3:$K$67,9,FALSE))","v":0},null,{"$f":"IF(K49=\"\",0,VLOOKUP(K49,一般技能!$B$3:$I$47,8,FALSE))","v":0}]
[null,null,"手仕事(30秒)",5,"技量反射",{"$f":"$L$12","v":"５"},"野伏or斥候Lv",{"$f":"MAX(冒険者職業レベル!$E$5,冒険者職業レベル!$E$6)","v":0},"手仕事",{"$f":"IF(I50=\"\",0,VLOOKUP(I50,冒険者技能!$C$3:$K$67,9,FALSE))","v":0},null,{"$f":"IF(K50=\"\",0,VLOOKUP(K50,一般技能!$B$3:$I$47,8,FALSE))","v":0}]
[]
[null,null,"隠密",{"$f":"F52+H52+J52+L52+N52+P52+R52+T52+V52","v":5},"技量集中",{"$f":"$L$10","v":"５"},"野伏or斥候Lv",{"$f":"MAX(冒険者職業レベル!$E$5,冒険者職業レベル!$E$6)","v":0},"隠密",{"$f":"IF(I52=\"\",0,VLOOKUP(I52,冒険者技能!$C$3:$K$67,9,FALSE))","v":0},null,{"$f":"IF(K52=\"\",0,VLOOKUP(K52,一般技能!$B$3:$I$47,8,FALSE))","v":0},null,{"$f":"装備!$AS$13","v":0},null,null,null,null,null,{"$f":"MAX(装備!$AJ$17,装備!$AJ$18,装備!$AJ$19)","v":0}]
[null,null,"隠密行軍",7,"技量持久",{"$f":"$L$11","v":"７"},"野伏or斥候Lv",{"$f":"MAX(冒険者職業レベル!$E$5,冒険者職業レベル!$E$6)","v":0},"隠密",{"$f":"IF(I53=\"\",0,VLOOKUP(I53,冒険者技能!$C$3:$K$67,9,FALSE))","v":0},null,{"$f":"IF(K53=\"\",0,VLOOKUP(K53,一般技能!$B$3:$I$47,8,FALSE))","v":0},null,{"$f":"装備!$AS$13","v":0},null,null,null,null,null,{"$f":"MAX(装備!$AJ$17,装備!$AJ$18,装備!$AJ$19)","v":0}]
[null,null,"咄嗟隠密",5,"技量反射",{"$f":"$L$12","v":"５"},"野伏or斥候Lv",{"$f":"MAX(冒険者職業レベル!$E$5,冒険者職業レベル!$E$6)","v":0},"隠密",{"$f":"IF(I54=\"\",0,VLOOKUP(I54,冒険者技能!$C$3:$K$67,9,FALSE))","v":0},null,{"$f":"IF(K54=\"\",0,VLOOKUP(K54,一般技能!$B$3:$I$47,8,FALSE))","v":0},null,{"$f":"装備!$AS$13","v":0},null,null,null,null,null,{"$f":"MAX(装備!$AJ$17,装備!$AJ$18,装備!$AJ$19)","v":0}]
[]
[null,null,"怪物知識",{"$f":"F56+H56+J56+L56+N56+P56+R56+T56+V56","v":5},"知力集中",{"$f":"$M$10","v":"５"},"呪文遣い系Lv",{"$f":"MAX(冒険者職業レベル!$E$7,冒険者職業レベル!$E$8,冒険者職業レベル!$E$9,冒険者職業レベル!$E$10)","v":0},"怪物知識",{"$f":"IF(I56=\"\",0,VLOOKUP(I56,冒険者技能!$C$3:$K$67,9,FALSE))*2","v":0},null,{"$f":"IF(K56=\"\",0,VLOOKUP(K56,一般技能!$B$3:$I$47,8,FALSE))","v":0}]
[null,null,"博識",5,"知力集中",{"$f":"$M$10","v":"５"},"魔術師Lv",{"$f":"冒険者職業レベル!$E$7","v":0},null,{"$f":"IF(I57=\"\",0,VLOOKUP(I57,冒険者技能!$C$3:$K$67,9,FALSE))","v":0},"博識",{"$f":"IF(K57=\"\",0,VLOOKUP(K57,一般技能!$B$3:$I$47,8,FALSE))","v":0}]
[null,null,"魔法知識",5,"知力集中",{"$f":"$M$10","v":"５"},"魔術師Lv",{"$f":"冒険者職業レベル!$E$7","v":0},null,{"$f":"IF(I58=\"\",0,VLOOKUP(I58,冒険者技能!$C$3:$K$67,9,FALSE))","v":0},null,{"$f":"IF(K58=\"\",0,VLOOKUP(K58,一般技能!$B$3:$I$47,8,FALSE))","v":0}]
[null,null,"文献調査",7,"知力持久",{"$f":"$M$11","v":"７"},"魔術師Lv",{"$f":"冒険者職業レベル!$E$7","v":0},null,{"$f":"IF(I59=\"\",0,VLOOKUP(I59,冒険者技能!$C$3:$K$67,9,FALSE))","v":0},"文献調査",{"$f":"IF(K59=\"\",0,VLOOKUP(K59,一般技能!$B$3:$I$47,8,FALSE))","v":0}]
[]
[null,null,"観察(10分)",{"$f":"F61+H61+J61+L61+N61+P61+R61+T61+V61","v":5},"知力集中",{"$f":"$M$10","v":"５"},"野伏or斥候Lv",{"$f":"MAX(冒険者職業レベル!$E$5,冒険者職業レベル!$E$6)","v":0},"観察",{"$f":"IF(I61=\"\",0,VLOOKUP(I61,冒険者技能!$C$3:$K$67,9,FALSE))","v":0},null,{"$f":"IF(K61=\"\",0,VLOOKUP(K61,一般技能!$B$3:$I$47,8,FALSE))","v":0}]
[null,null,"詳細観察(1時間)",7,"知力持久",{"$f":"$M$11","v":"７"},"野伏or斥候Lv",{"$f":"MAX(冒険者職業レベル!$E$5,冒険者職業レベル!$E$6)","v":0},"観察",{"$f":"IF(I62=\"\",0,VLOOKUP(I62,冒険者技能!$C$3:$K$67,9,FALSE))","v":0},null,{"$f":"IF(K62=\"\",0,VLOOKUP(K62,一般技能!$B$3:$I$47,8,FALSE))","v":0}]
[null,null,"咄嗟観察(30秒)",5,"知力反射",{"$f":"$M$12","v":"５"},"野伏or斥候Lv",{"$f":"MAX(冒険者職業レベル!$E$5,冒険者職業レベル!$E$6)","v":0},"観察",{"$f":"IF(I63=\"\",0,VLOOKUP(I63,冒険者技能!$C$3:$K$67,9,FALSE))","v":0},null,{"$f":"IF(K63=\"\",0,VLOOKUP(K63,一般技能!$B$3:$I$47,8,FALSE))","v":0}]
[null,null,"第六感",5,"知力反射",{"$f":"$M$12","v":"５"},"野伏or斥候Lv",{"$f":"MAX(冒険者職業レベル!$E$5,冒険者職業レベル!$E$6)","v":0},"第六感",{"$f":"IF(I64=\"\",0,VLOOKUP(I64,冒険者技能!$C$3:$K$67,9,FALSE))","v":0},null,{"$f":"IF(K64=\"\",0,VLOOKUP(K64,一般技能!$B$3:$I$47,8,FALSE))","v":0},null,null,null,{"$f":"装備!$AZ$1","v":0}]
[]
[null,null,"長距離移動",{"$f":"F66+H66+J66+L66+N66+P66+R66+T66+V66","v":9},"体力持久",{"$f":"$J$11","v":"７"},"冒険者Lv",{"$f":"冒険者職業レベル!$D$19","v":1},null,{"$f":"IF(I66=\"\",0,VLOOKUP(I66,冒険者技能!$C$3:$K$67,9,FALSE))","v":0},"長距離移動",{"$f":"IF(K66=\"\",0,VLOOKUP(K66,一般技能!$B$3:$I$47,8,FALSE))","v":1}]
[null,null,"短距離走",6,"技量反射",{"$f":"$L$12","v":"５"},"冒険者Lv",{"$f":"冒険者職業レベル!$D$19","v":1},"体術",{"$f":"IF(I67=\"\",0,VLOOKUP(I67,冒険者技能!$C$3:$K$67,9,FALSE))","v":0},null,{"$f":"IF(K67=\"\",0,VLOOKUP(K67,一般技能!$B$3:$I$47,8,FALSE))","v":0},null,null,null,{"$f":"装備!$BA$1","v":0}]
[null,null,"野草採取(1時間)",7,"知力持久",{"$f":"$M$11","v":"７"},"野伏Lv",{"$f":"冒険者職業レベル!$E$5","v":0},null,{"$f":"IF(I68=\"\",0,VLOOKUP(I68,冒険者技能!$C$3:$K$67,9,FALSE))","v":0},"生存術",{"$f":"IF(K68=\"\",0,VLOOKUP(K68,一般技能!$B$3:$I$47,8,FALSE))","v":0}]
[null,null,"野獣発見(1時間)",7,"知力持久",{"$f":"$M$11","v":"７"},"野伏Lv",{"$f":"冒険者職業レベル!$E$5","v":0},null,{"$f":"IF(I69=\"\",0,VLOOKUP(I69,冒険者技能!$C$3:$K$67,9,FALSE))","v":0},"生存術",{"$f":"IF(K69=\"\",0,VLOOKUP(K69,一般技能!$B$3:$I$47,8,FALSE))","v":0}]
[]
[null,null,"挑発",{"$f":"IF(J71>0,F71+H71+J71+L71+N71+P71+R71+T71,\"-\")","v":"-"},"魂魄集中",{"$f":"$K$10","v":"４"},"戦士or武道家Lv",{"$f":"MAX(冒険者職業レベル!$E$3,冒険者職業レベル!$E$4)","v":0},"挑発",{"$f":"IF(I71=\"\",0,VLOOKUP(I71,冒険者技能!$C$3:$K$67,9,FALSE))","v":0},null,{"$f":"IF(K71=\"\",0,VLOOKUP(K71,一般技能!$B$3:$I$47,8,FALSE))","v":0}]
[null,null,"移動妨害",{"$f":"F72+H72+J72+L72+N72+P72+R72+T72+V72","v":5},"体力反射",{"$f":"$J$12","v":"５"},"戦士Lv",{"$f":"冒険者職業レベル!$E$3","v":0},"鉄壁",{"$f":"IF(I72=\"\",0,VLOOKUP(I72,冒険者技能!$C$3:$K$67,9,FALSE))","v":0},null,{"$f":"IF(K72=\"\",0,VLOOKUP(K72,一般技能!$B$3:$I$47,8,FALSE))","v":0}]
[null,null,"移動妨害抵抗",{"$f":"F73+H73+J73+L73+N73+P73+R73+T73+V73","v":5},"体力集中or技量集中",{"$f":"MAX(INT($J$10),INT($L$10))","v":5},"戦士or武道家or斥候Lv",{"$f":"MAX(冒険者職業レベル!$E$3,冒険者職業レベル!$E$4,冒険者職業レベル!$E$5)","v":0},null,{"$f":"IF(I73=\"\",0,VLOOKUP(I73,冒険者技能!$C$3:$K$67,9,FALSE))","v":0},null,{"$f":"IF(K73=\"\",0,VLOOKUP(K73,一般技能!$B$3:$I$47,8,FALSE))","v":0}]
[null,null,"機先",{"$f":"F74+H74+J74+L74+N74+P74+R74+T74","v":0},null,null,null,null,"機先",{"$f":"IF(I74=\"\",0,VLOOKUP(I74,冒険者技能!$C$3:$K$67,9,FALSE))","v":0},null,{"$f":"IF(K74=\"\",0,VLOOKUP(K74,一般技能!$B$3:$I$47,8,FALSE))","v":0}]
[]
[null,null,"交渉：説得",{"$f":"F76+H76+J76+L76+N76+P76+R76+T76+V76","v":5},"知力集中",{"$f":"$M$10","v":"５"},null,null,null,{"$f":"IF(I76=\"\",0,VLOOKUP(I76,冒険者技能!$C$3:$K$67,9,FALSE))","v":0},"交渉：説得",{"$f":"IF(K76=\"\",0,VLOOKUP(K76,一般技能!$B$3:$I$47,8,FALSE))","v":0}]
[null,null,"交渉：誘惑",4,"魂魄集中",{"$f":"$K$10","v":"４"},null,null,null,{"$f":"IF(I77=\"\",0,VLOOKUP(I77,冒険者技能!$C$3:$K$67,9,FALSE))","v":0},"交渉：誘惑",{"$f":"IF(K77=\"\",0,VLOOKUP(K77,一般技能!$B$3:$I$47,8,FALSE))","v":0},null,{"$f":"装備!AU13","v":0}]
[null,null,"交渉：脅迫",7,"体力持久",{"$f":"$J$11","v":"７"},null,null,null,{"$f":"IF(I78=\"\",0,VLOOKUP(I78,冒険者技能!$C$3:$K$67,9,FALSE))","v":0},"交渉：脅迫",{"$f":"IF(K78=\"\",0,VLOOKUP(K78,一般技能!$B$3:$I$47,8,FALSE))","v":0}]
[null,null,"交渉：言いくるめ",5,"技量反射",{"$f":"$L$12","v":"５"},null,null,null,{"$f":"IF(I79=\"\",0,VLOOKUP(I79,冒険者技能!$C$3:$K$67,9,FALSE))","v":0},"交渉：言いくるめ",{"$f":"IF(K79=\"\",0,VLOOKUP(K79,一般技能!$B$3:$I$47,8,FALSE))","v":0}]
[]
[null,null,"直感",{"$f":"F81+H81+J81+L81+N81+P81+R81+T81+V81","v":4},"魂魄反射",{"$f":"$K$12","v":"４"},null,null,null,null,"先入観なし",{"$f":"IF(K81=\"\",0,VLOOKUP(K81,一般技能!$B$3:$I$47,8,FALSE))","v":0}]
[null,null,"祈祷",{"$f":"F82+H82+J82+L82+N82+P82+R82+T82+V82","v":6},"魂魄持久",{"$f":"$K$11","v":"６"},"神官or竜司祭Lv",{"$f":"MAX(冒険者職業レベル!E8,冒険者職業レベル!E9)","v":0},null,null,"祈祷",{"$f":"IF(K82=\"\",0,VLOOKUP(K82,一般技能!$B$3:$I$47,8,FALSE))","v":0}]
[null,null,"瞑想",{"$f":"F83+H83+J83+L83+N83+P83+R83+T83+V83","v":7},"知力持久",{"$f":"$M$11","v":"７"},"魔術師or精霊使いLv",{"$f":"MAX(冒険者職業レベル!E7,冒険者職業レベル!E10)","v":0},null,null,"瞑想",{"$f":"IF(K83=\"\",0,VLOOKUP(K83,一般技能!$B$3:$I$47,8,FALSE))","v":0}]

{"sheet":"状態","index":11,"n_rows":134,"n_cols":8,"rows_kept":134,"cut":false,"hidden":false,"merged":[]}
[]
[null,"状態基本値"]
[null,null,"生命力基本値",{"$f":"作成シート!C31","v":"状態／2D6(1回目)"},{"$f":"VLOOKUP(D3,プロフィール!$B$16:$E$18,VLOOKUP(プロフィール!$C$19,固定値!$N$1:$O$3,2,FALSE),FALSE)","v":5}]
[null,null,"移動力基本値",{"$f":"作成シート!C32","v":"状態／2D6(2回目)"},{"$f":"VLOOKUP(D4,プロフィール!$B$16:$E$18,VLOOKUP(プロフィール!$C$19,固定値!$N$1:$O$3,2,FALSE),FALSE)","v":7}]
[null,null,"呪文使用回数基本値",{"$f":"作成シート!C33","v":"状態／2D6(3回目)"},{"$f":"VLOOKUP(D5,プロフィール!$B$16:$E$18,VLOOKUP(プロフィール!$C$19,固定値!$N$1:$O$3,2,FALSE),FALSE)","v":9}]
[]
[null,"状態補正値"]
[null,null,"移動力種族倍率",{"$f":"VLOOKUP(C8,固定値!$D$1:$I$9,VLOOKUP(プロフィール!$C$3,固定値!$K$1:$L$6,2,FALSE),FALSE)","v":3}]
[]
[null,"状態",null,"基本値","技能修正","最終値"]
[null,null,"生命力",{"$f":"能力値!G4+能力値!G5+能力値!G11+E3","v":14},{"$f":"VLOOKUP(冒険者技能!I6,固定値!$BA$2:$BB$7,2,FALSE)","v":0},{"$f":"D11+E11","v":14}]
[null,null,"移動力",{"$f":"D8*E4","v":21},{"$f":"VLOOKUP(一般技能!G37,固定値!$EE$2:$EF$5,2,FALSE)","v":0},{"$f":"D12+E12","v":21}]
[null,null,"呪文使用回数",{"$f":"VLOOKUP($E$5,固定値!$Q$2:$R$12,2,FALSE)","v":1},{"$f":"VLOOKUP(冒険者技能!I67,固定値!$BE$2:$BF$7,2,FALSE)","v":0},{"$f":"D13+E13","v":1}]
[null,null,"生命力x2",null,null,{"$f":"F11*2","v":28}]
[]
[null,null,"呪文抵抗基準値",{"$f":"能力値!K12+冒険者職業レベル!D19+冒険者技能!K10+装備!U21","v":5}]
[null,null,"真言呪文行使基準値",{"$f":"E17+F17","v":5},{"$f":"能力値!M10","v":"５"},{"$f":"冒険者職業レベル!E7","v":0}]
[null,null,"奇跡行使基準値",{"$f":"E18+F18","v":4},{"$f":"能力値!K10","v":"４"},{"$f":"冒険者職業レベル!E8","v":0}]
[null,null,"祖霊術行使基準値",{"$f":"E19+F19","v":4},{"$f":"能力値!K10","v":"４"},{"$f":"冒険者職業レベル!E9","v":0}]
[null,null,"精霊術行使基準値",{"$f":"E20+F20","v":4},{"$f":"能力値!K10","v":"４"},{"$f":"冒険者職業レベル!E10","v":0}]
[null,null,"最大呪文行使基準値",{"$f":"MAX(D17:D20)","v":5}]
[]
[null,null,"戦士命中基準値",{"$f":"E23+F23","v":5},{"$f":"能力値!$L$10","v":"５"},{"$f":"冒険者職業レベル!E3","v":0}]
[null,null,"武道家命中基準値",{"$f":"E24+F24","v":5},{"$f":"能力値!$L$10","v":"５"},{"$f":"冒険者職業レベル!E4","v":0}]
[null,null,"野伏命中基準値",{"$f":"E25+F25","v":5},{"$f":"能力値!$L$10","v":"５"},{"$f":"冒険者職業レベル!E5","v":0}]
[null,null,"斥候命中基準値",{"$f":"E26+F26","v":5},{"$f":"能力値!$L$10","v":"５"},{"$f":"冒険者職業レベル!E6","v":0}]
[]
[null,null,"近接命中基準値",{"$f":"E28+F28","v":5},{"$f":"MAX(D23,D24,D26)","v":5},{"$f":"MAX(冒険者技能!K37:K42)","v":0}]
[null,null,"投擲命中基準値",{"$f":"E29+F29","v":6},{"$f":"MAX(D25,D26)","v":5},{"$f":"冒険者技能!K44","v":1}]
[null,null,"弩級命中基準値",{"$f":"E30+F30","v":5},{"$f":"D26","v":5},{"$f":"冒険者技能!K45","v":0}]
[null,null,null,null,null,null,"腕輪"]
[null,null,"回避基準値",{"$f":"E32+F32+G32","v":5},{"$f":"能力値!L12","v":"５"},{"$f":"冒険者技能!K29","v":0},{"$f":"冒険者技能!Q29","v":0}]
[]
[null,null,"戦士回避基準値",{"$f":"E34+F34","v":5},{"$f":"D32","v":5},{"$f":"冒険者職業レベル!E3","v":0}]
[null,null,"武道家回避基準値",5,{"$f":"D32","v":5},{"$f":"冒険者職業レベル!E4","v":0}]
[null,null,"斥候回避基準値",5,{"$f":"D32","v":5},{"$f":"冒険者職業レベル!E6","v":0}]
[]
[null,null,"最大回避基準値",{"$f":"MAX(D34:D36)","v":5}]
[]
[null,null,"戦士盾受け基準値",{"$f":"E40+F40+G40","v":5},{"$f":"能力値!$L$12","v":"５"},{"$f":"冒険者職業レベル!E3","v":0},{"$f":"冒険者技能!K30","v":0}]
[null,null,"斥候盾受け基準値",{"$f":"E41+F41+G41","v":5},{"$f":"能力値!$L$12","v":"５"},{"$f":"冒険者職業レベル!E6","v":0},{"$f":"冒険者技能!K30","v":0}]
[]
[null,null,"最大盾受け基準値",{"$f":"MAX(D41,D40)","v":5}]
[]
[null,null,null,"効力値","倍率","１時間","10分","10分倍率"]
[null,null,"街道移動","～９",160,{"$f":"ROUNDUP(E46*戦闘現在値!$L$27,0)","v":3360},{"$f":"ROUNDUP(H46*戦闘現在値!$L$27,0)","v":630},{"$f":"ROUNDUP(E46/60,0)*10","v":30}]
[null,null,null,"１０～１４",200,{"$f":"ROUNDUP(E47*戦闘現在値!$L$27,0)","v":4200},{"$f":"ROUNDUP(H47*戦闘現在値!$L$27,0)","v":840},40]
[null,null,null,"１５～１９",240,{"$f":"ROUNDUP(E48*戦闘現在値!$L$27,0)","v":5040},{"$f":"ROUNDUP(H48*戦闘現在値!$L$27,0)","v":840},40]
[null,null,null,"２０～２４",280,{"$f":"ROUNDUP(E49*戦闘現在値!$L$27,0)","v":5880},{"$f":"ROUNDUP(H49*戦闘現在値!$L$27,0)","v":1050},50]
[null,null,null,"２５～３０",320,{"$f":"ROUNDUP(E50*戦闘現在値!$L$27,0)","v":6720},{"$f":"ROUNDUP(H50*戦闘現在値!$L$27,0)","v":1260},60]
[null,null,null,"３０～３９",350,{"$f":"ROUNDUP(E51*戦闘現在値!$L$27,0)","v":7350},{"$f":"ROUNDUP(H51*戦闘現在値!$L$27,0)","v":1260},60]
[null,null,null,"４０～",400,{"$f":"ROUNDUP(E52*戦闘現在値!$L$27,0)","v":8400},{"$f":"ROUNDUP(H52*戦闘現在値!$L$27,0)","v":1470},70]
[null,null,null,{"$f":"D46&\"：\"&F46&\"／\"&G46&\"　\"","v":"～９：3360／630　"}]
[null,null,null,"１０～１４：4200／840　"]
[null,null,null,"１５～１９：5040／840　"]
[null,null,null,"２０～２４：5880／1050　"]
[null,null,null,"２５～３０：6720／1260　"]
[null,null,null,"３０～３９：7350／1260　"]
[null,null,null,"４０～：8400／1470　"]
[null,null,null,{"$f":"C46&\"距離（１時間／10分） 効力値：\"&D53&D54&D55&D56&D57","v":"街道移動距離（１時間／10分） 効力値：～９：3360／630　１０～１４：4200／840　１５～１９：5040／840　２０～２４：5880／1050　２５～３０：6720／1260　"}]
[null,null,null,{"$f":"\"                             \"&D57&D58&D59","v":"                             ２５～３０：6720／1260　３０～３９：7350／1260　４０～：8400／1470　"}]
[]
[null,null,null,"効力値","倍率","１時間","10分","10分倍率"]
[null,3,"荒野移動","～９",{"$f":"ROUNDUP(E46/($B$64*10),0)*10","v":60},{"$f":"ROUNDUP(E64*戦闘現在値!$L$27,0)","v":1260},{"$f":"ROUNDUP(H64*戦闘現在値!$L$27,0)","v":210},{"$f":"ROUNDUP(E46/($B$64*6*10),0)*10","v":10}]
[null,null,null,"１０～１４",70,{"$f":"ROUNDUP(E65*戦闘現在値!$L$27,0)","v":1470},{"$f":"ROUNDUP(H65*戦闘現在値!$L$27,0)","v":420},{"$f":"ROUNDUP(E47/($B$64*6*10),0)*10","v":20}]
[null,null,null,"１５～１９",80,{"$f":"ROUNDUP(E66*戦闘現在値!$L$27,0)","v":1680},{"$f":"ROUNDUP(H66*戦闘現在値!$L$27,0)","v":420},20]
[null,null,null,"２０～２４",100,{"$f":"ROUNDUP(E67*戦闘現在値!$L$27,0)","v":2100},{"$f":"ROUNDUP(H67*戦闘現在値!$L$27,0)","v":420},20]
[null,null,null,"２５～３０",110,{"$f":"ROUNDUP(E68*戦闘現在値!$L$27,0)","v":2310},{"$f":"ROUNDUP(H68*戦闘現在値!$L$27,0)","v":420},20]
[null,null,null,"３０～３９",120,{"$f":"ROUNDUP(E69*戦闘現在値!$L$27,0)","v":2520},{"$f":"ROUNDUP(H69*戦闘現在値!$L$27,0)","v":420},20]
[null,null,null,"４０～",140,{"$f":"ROUNDUP(E70*戦闘現在値!$L$27,0)","v":2940},{"$f":"ROUNDUP(H70*戦闘現在値!$L$27,0)","v":630},30]
[null,null,null,{"$f":"D64&\"：\"&F64&\"／\"&G64&\"　\"","v":"～９：1260／210　"}]
[null,null,null,"１０～１４：1470／420　"]
[null,null,null,"１５～１９：1680／420　"]
[null,null,null,"２０～２４：2100／420　"]
[null,null,null,"２５～３０：2310／420　"]
[null,null,null,"３０～３９：2520／420　"]
[null,null,null,"４０～：2940／630　"]
[null,null,null,{"$f":"C64&\"距離（１時間／10分） 効力値：\"&D71&D72&D73&D74&D75","v":"荒野移動距離（１時間／10分） 効力値：～９：1260／210　１０～１４：1470／420　１５～１９：1680／420　２０～２４：2100／420　２５～３０：2310／420　"}]
[null,null,null,{"$f":"\"                             \"&D75&D76&D77","v":"                             ２５～３０：2310／420　３０～３９：2520／420　４０～：2940／630　"}]
[]
[null,null,null,"効力値","倍率","１時間","10分","10分倍率"]
[null,3,"警戒移動","～９",{"$f":"ROUNDUP(E46/(B$64*$B$82*10),0)*10","v":20},{"$f":"ROUNDUP(E82*戦闘現在値!$L$27,0)","v":420},{"$f":"ROUNDUP(H82*戦闘現在値!$L$27,0)","v":63},{"$f":"ROUNDUP(E46/($B$82*$B$64*6),0)","v":3}]
[null,null,null,"１０～１４",{"$f":"ROUNDUP(E47/(B$64*$B$82*10),0)*10","v":30},{"$f":"ROUNDUP(E83*戦闘現在値!$L$27,0)","v":630},{"$f":"ROUNDUP(H83*戦闘現在値!$L$27,0)","v":84},{"$f":"ROUNDUP(E47/($B$82*$B$64*6),0)","v":4}]
[null,null,null,"１５～１９",30,{"$f":"ROUNDUP(E84*戦闘現在値!$L$27,0)","v":630},{"$f":"ROUNDUP(H84*戦闘現在値!$L$27,0)","v":105},5]
[null,null,null,"２０～２４",40,{"$f":"ROUNDUP(E85*戦闘現在値!$L$27,0)","v":840},{"$f":"ROUNDUP(H85*戦闘現在値!$L$27,0)","v":126},6]
[null,null,null,"２５～３０",40,{"$f":"ROUNDUP(E86*戦闘現在値!$L$27,0)","v":840},{"$f":"ROUNDUP(H86*戦闘現在値!$L$27,0)","v":126},6]
[null,null,null,"３０～３９",40,{"$f":"ROUNDUP(E87*戦闘現在値!$L$27,0)","v":840},{"$f":"ROUNDUP(H87*戦闘現在値!$L$27,0)","v":147},7]
[null,null,null,"４０～",50,{"$f":"ROUNDUP(E88*戦闘現在値!$L$27,0)","v":1050},{"$f":"ROUNDUP(H88*戦闘現在値!$L$27,0)","v":168},8]
[null,null,null,{"$f":"D82&\"：\"&F82&\"／\"&G82&\"　\"","v":"～９：420／63　"}]
[null,null,null,"１０～１４：630／84　"]
[null,null,null,"１５～１９：630／105　"]
[null,null,null,"２０～２４：840／126　"]
[null,null,null,"２５～３０：840／126　"]
[null,null,null,"３０～３９：840／147　"]
[null,null,null,"４０～：1050／168　"]
[null,null,null,{"$f":"C82&\"距離（１時間／10分） 効力値：\"&D89&D90&D91&D92&D93","v":"警戒移動距離（１時間／10分） 効力値：～９：420／63　１０～１４：630／84　１５～１９：630／105　２０～２４：840／126　２５～３０：840／126　"}]
[null,null,null,{"$f":"\"                             \"&D93&D94&D95","v":"                             ２５～３０：840／126　３０～３９：840／147　４０～：1050／168　"}]
[null,null,"騎乗",{"$f":"作成シート!C140","v":"なし"}]
[null,null,"騎乗移動力",{"$f":"VLOOKUP(D98,固定値!$EG$2:$EH$6,2,FALSE)","v":0}]
[null,null,null,"効力値","倍率","１時間","10分","10分倍率"]
[null,null,"騎乗街道","～９",160,{"$f":"ROUNDUP(E101*$D$99,0)","v":0},{"$f":"ROUNDUP(H101*$D$99,0)","v":0},{"$f":"ROUNDUP(E101/60,0)*10","v":30}]
[null,null,null,"１０～１４",200,{"$f":"ROUNDUP(E102*$D$99,0)","v":0},{"$f":"ROUNDUP(H102*$D$99,0)","v":0},40]
[null,null,null,"１５～１９",240,0,0,40]
[null,null,null,"２０～２４",280,0,0,50]
[null,null,null,"２５～３０",320,0,0,60]
[null,null,null,"３０～３９",350,0,0,60]
[null,null,null,"４０～",400,0,0,70]
[null,null,null,{"$f":"D101&\"：\"&F101&\"／\"&G101&\"　\"","v":"～９：0／0　"}]
[null,null,null,"１０～１４：0／0　"]
[null,null,null,"１５～１９：0／0　"]
[null,null,null,"２０～２４：0／0　"]
[null,null,null,"２５～３０：0／0　"]
[null,null,null,"３０～３９：0／0　"]
[null,null,null,"４０～：0／0　"]
[null,null,null,{"$f":"IF(D99>0,C101&\"距離（１時間／10分） 効力値：\"&D108&D109&D110&D111&D112,\"\")","v":""}]
[null,null,null,{"$f":"IF(D99>0,\"                             \"&D112&D113&D114,\"\")","v":""}]
[]
[null,null,null,"効力値","倍率","１時間","10分","10分倍率"]
[null,null,"騎乗荒野","～９",{"$f":"ROUNDUP(E101/($B$64*10),0)*10","v":60},{"$f":"ROUNDUP(E119*$D$99,0)","v":0},{"$f":"ROUNDUP(H119*$D$99,0)","v":0},{"$f":"ROUNDUP(E101/($B$64*6*10),0)*10","v":10}]
[null,null,null,"１０～１４",70,{"$f":"ROUNDUP(E120*$D$99,0)","v":0},{"$f":"ROUNDUP(H120*$D$99,0)","v":0},{"$f":"ROUNDUP(E102/($B$64*6*10),0)*10","v":20}]
[null,null,null,"１５～１９",80,0,0,20]
[null,null,null,"２０～２４",100,0,0,20]
[null,null,null,"２５～３０",110,0,0,20]
[null,null,null,"３０～３９",120,0,0,20]
[null,null,null,"４０～",140,0,0,30]
[null,null,null,{"$f":"D119&\"：\"&F119&\"／\"&G119&\"　\"","v":"～９：0／0　"}]
[null,null,null,"１０～１４：0／0　"]
[null,null,null,"１５～１９：0／0　"]
[null,null,null,"２０～２４：0／0　"]
[null,null,null,"２５～３０：0／0　"]
[null,null,null,"３０～３９：0／0　"]
[null,null,null,"４０～：0／0　"]
[null,null,null,{"$f":"IF(D99>0,C119&\"距離（１時間／10分） 効力値：\"&D126&D127&D128&D129&D130,\"\")","v":""}]
[null,null,null,{"$f":"IF(D99>0,\"                             \"&D130&D131&D132,\"\")","v":""}]

{"sheet":"冒険者職業レベル","index":12,"n_rows":49,"n_cols":16,"rows_kept":49,"cut":false,"hidden":false,"merged":[]}
[]
[null,"冒険者職業レベル",null,"出自ボーナス","現在レベル","消費経験値"]
[null,null,"戦士",{"$f":"IF(作成シート!$C$34=L3,1,0)","v":0},{"$f":"MAX(D3,K3)","v":0},{"$f":"VLOOKUP(E3,固定値!$BI$2:$BK$12,IF(D3=1,3,2),FALSE)","v":0},"戦士",{"$f":"IF(E3=0,\"\",E3)","v":""},{"$f":"IF(E3=0,\"\",J3)","v":""},"ü",{"$f":"IF(COUNTIF($F$45:$F$49,C3)>0,VLOOKUP(C3,$F$45:$G$49,2,FALSE),0)","v":0},"戦士(出自ボーナス)",null,null,{"$f":"E3","v":0},{"$f":"G3","v":"戦士"}]
[null,null,"武道家",{"$f":"IF(作成シート!$C$34=L4,1,0)","v":0},{"$f":"MAX(D4,K4)","v":0},{"$f":"VLOOKUP(E4,固定値!$BI$2:$BK$12,IF(D4=1,3,2),FALSE)","v":0},"武道家",{"$f":"IF(E4=0,\"\",E4)","v":""},{"$f":"IF(E4=0,\"\",J4)","v":""},"ü",{"$f":"IF(COUNTIF($F$45:$F$49,C4)>0,VLOOKUP(C4,$F$45:$G$49,2,FALSE),0)","v":0},"武道家(出自ボーナス)",null,null,{"$f":"E4","v":0},{"$f":"G4","v":"武道家"}]
[null,null,"野伏",{"$f":"IF(作成シート!$C$34=L5,1,0)","v":0},0,{"$f":"VLOOKUP(E5,固定値!$BI$2:$BK$12,IF(D5=1,3,2),FALSE)","v":0},"野伏","","","ü",0,"野伏(出自ボーナス)",null,null,{"$f":"E6","v":0},{"$f":"G6","v":"斥候"}]
[null,null,"斥候",{"$f":"IF(作成シート!$C$34=L6,1,0)","v":0},0,{"$f":"VLOOKUP(E6,固定値!$BI$2:$BK$12,IF(D6=1,3,2),FALSE)","v":0},"斥候","","","ü",0,"斥候(出自ボーナス)"]
[null,null,"魔術師",{"$f":"IF(作成シート!$C$34=L7,1,0)","v":0},0,{"$f":"VLOOKUP(E7,固定値!$BI$2:$BK$12,IF(D7=1,3,2),FALSE)","v":0},"魔術師","","","ü",0,"魔術師(出自ボーナス)"]
[null,null,"神官",{"$f":"IF(作成シート!$C$34=L8,1,0)","v":0},0,{"$f":"VLOOKUP(E8,固定値!$BI$2:$BK$12,IF(D8=1,3,2),FALSE)","v":0},"神官","","","ü",0,"神官(出自ボーナス)"]
[null,null,"竜司祭",{"$f":"IF(作成シート!$C$34=L9,1,0)","v":0},0,{"$f":"VLOOKUP(E9,固定値!$BI$2:$BK$12,IF(D9=1,3,2),FALSE)","v":0},"竜司祭","","","ü",0,"竜司祭(出自ボーナス)"]
[null,null,"精霊使い",{"$f":"IF(作成シート!$C$34=L10,1,0)","v":0},{"$f":"MAX(D10,K10)","v":0},{"$f":"VLOOKUP(E10,固定値!$BI$2:$BK$12,IF(D10=1,3,2),FALSE)","v":0},"精霊使い","","","ü",0,"精霊使い(出自ボーナス)"]
[]
[null,"冒険者情報"]
[null,null,"累積経験値",{"$f":"SUM(冒険結果!C2:C110)","v":3000}]
[null,null,"消費経験値",{"$f":"SUM(F3:F10)+追加成長点!C3","v":0}]
[null,null,"現在経験値",{"$f":"D13-D14","v":3000}]
[null,null,"累積成長点",{"$f":"追加成長点!B3+VLOOKUP(D19,固定値!AQ2:AR11,2,FALSE)+SUM(冒険結果!D2:D110)","v":10}]
[null,null,"消費成長点",{"$f":"SUM(冒険者技能!J3:J67)+SUM(一般技能!H3:H47)","v":0}]
[null,null,"現在成長点",{"$f":"D16-D17","v":10}]
[null,null,"冒険者レベル",{"$f":"VLOOKUP(D13,固定値!AP2:AR11,2,TRUE)","v":1},{"$f":"VLOOKUP(プロフィール!C9,固定値!$T$2:$V$10,2,FALSE)","v":1}]
[null,null,"習得可能習熟段階",{"$f":"VLOOKUP(E20,固定値!$AA$2:$AB$7,2,FALSE)","v":"初歩"},{"$f":"VLOOKUP(D19,固定値!$X$1:$Y$11,2,FALSE)","v":1}]
[null,null,"習得中最大習熟段階",{"$f":"VLOOKUP(E21,固定値!$AA$2:$AB$7,2,FALSE)","v":"初歩"},{"$f":"MAX(MAX(冒険者技能!K3:K67),MAX(一般技能!I3:I47))","v":1}]
[null,null,"消耗ゲージ長1",{"$f":"5+IF(冒険者技能!K15>0,1,0)","v":5},{"$f":"D22","v":5}]
[null,null,"消耗ゲージ長2",{"$f":"4+IF(冒険者技能!K15>1,1,0)","v":4},{"$f":"E22+D23","v":9}]
[null,null,"消耗ゲージ長3",{"$f":"3+IF(冒険者技能!K15>2,1,0)","v":3},{"$f":"E23+D24","v":12}]
[null,null,"消耗ゲージ長4",{"$f":"2+IF(冒険者技能!K15>3,1,0)","v":2},{"$f":"E24+D25","v":14}]
[null,null,"消耗ゲージ長5",{"$f":"1+IF(冒険者技能!K15>4,1,0)","v":1},{"$f":"E25+D26","v":15}]
[null,null,"真言呪文習得可能数",{"$f":"G27&\"／\"&E27+F27","v":"0／0"},{"$f":"E7","v":0},{"$f":"冒険者技能!K63","v":0},{"$f":"COUNTIF(習得呪文!C3:C12,\"真言呪文\")","v":0}]
[null,null,"奇跡習得可能数",{"$f":"G28&\"／\"&E28+F28","v":"0／0"},{"$f":"E8","v":0},{"$f":"冒険者技能!K64","v":0},{"$f":"COUNTIF(習得呪文!C3:C12,\"奇跡\")","v":0}]
[null,null,"祖霊術習得可能数",{"$f":"G29&\"／\"&E29+F29","v":"0／0"},{"$f":"E9","v":0},{"$f":"冒険者技能!K65","v":0},{"$f":"COUNTIF(習得呪文!C3:C12,\"祖竜術\")","v":0}]
[null,null,"精霊術習得可能数",{"$f":"G30&\"／\"&E30+F30","v":"0／0"},{"$f":"E10","v":0},{"$f":"冒険者技能!K66","v":0},{"$f":"COUNTIF(習得呪文!C3:C12,\"精霊術\")","v":0}]
[null,null,"冒険達成回数",{"$f":"COUNTIF(冒険結果!E3:E110,ラベル!$P$3)+プロフィール!C26","v":0},{"$f":"VLOOKUP(プロフィール!C9,固定値!$T$2:$V$10,3,FALSE)","v":0}]
[null,null,"冒険回数",{"$f":"COUNTA(冒険結果!E3:E110)+プロフィール!C25","v":0}]
[null,"クラス情報"]
[null,null,{"$f":"IF(E3>0,\"【\"&C3&\"：\"&E3&\"】\",\"\")","v":""}]
[null,null,{"$f":"IF(E4>0,\"【\"&C4&\"：\"&E4&\"】\",\"\")","v":""}]
[null,null,""]
[null,null,""]
[null,null,""]
[null,null,""]
[null,null,""]
[null,null,""]
[]
[]
[null,"作成シートからのコピー",null,null,null,"冒険者職業","レベル"]
[null,null,{"$f":"作成シート!B38","v":"所持冒険者職業レベル(1)"},{"$f":"作成シート!C38","v":"なし"},{"$f":"IF(D45=\"なし\",\"\",FIND(\"：\",D45))","v":""},{"$f":"IF(E45=\"\",\"\",LEFT(D45,E45-1))","v":""},{"$f":"IF(F45=\"\",0,INT(RIGHT(D45,LEN(D45)-E45)))","v":0}]
[null,null,{"$f":"作成シート!B39","v":"所持冒険者職業レベル(2)"},{"$f":"作成シート!C39","v":"なし"},{"$f":"IF(D46=\"なし\",\"\",FIND(\"：\",D46))","v":""},{"$f":"IF(E46=\"\",\"\",LEFT(D46,E46-1))","v":""},{"$f":"IF(F46=\"\",0,INT(RIGHT(D46,LEN(D46)-E46)))","v":0}]
[null,null,{"$f":"作成シート!B40","v":"所持冒険者職業レベル(3)"},{"$f":"作成シート!C40","v":"なし"},{"$f":"IF(D47=\"なし\",\"\",FIND(\"：\",D47))","v":""},{"$f":"IF(E47=\"\",\"\",LEFT(D47,E47-1))","v":""},0]
[null,null,{"$f":"作成シート!B41","v":"所持冒険者職業レベル(4)"},{"$f":"作成シート!C41","v":"なし"},"","",0]
[null,null,{"$f":"作成シート!B42","v":"所持冒険者職業レベル(5)"},{"$f":"作成シート!C42","v":"なし"},"","",0]

{"sheet":"習得呪文","index":13,"n_rows":12,"n_cols":11,"rows_kept":12,"cut":false,"hidden":false,"merged":[]}
[null,null,null,null,null,null,null,{"$f":"H3&H4&H5&H6&H7&H8&H9&H10&H11&H12","v":""},{"$f":"I3&I4&I5&I6&I7&I8&I9&I10&I11&I12","v":""},{"$f":"MID(I1,1,216)","v":""},{"$f":"MID(I1,217,432)","v":""}]
[null,"習得呪文","種別","属性","副属性","難易度","参照項"]
[null,{"$f":"作成シート!C44","v":"なし"},{"$f":"VLOOKUP(習得呪文!B3,固定値!$BM$2:$BQ$256,2,FALSE)","v":"-"},{"$f":"VLOOKUP(習得呪文!B3,固定値!$BM$2:$BQ$256,3,FALSE)","v":"-"},{"$f":"VLOOKUP(習得呪文!B3,固定値!$BM$2:$BQ$256,4,FALSE)","v":"-"},{"$f":"VLOOKUP(習得呪文!B3,固定値!$BM$2:$BQ$256,5,FALSE)","v":"-"},{"$f":"VLOOKUP(習得呪文!B3,固定値!$BM$2:$BR$256,6,FALSE)","v":"-"},{"$f":"IF(B3=\"なし\",\"\",CHAR(10)&C3&\"《\"&B3&\"》　(\"&D3&\"(\"&E3&\"))難易度： \"&F3)","v":""},{"$f":"IF(B3=\"なし\",\"\",CHAR(10)&\"《\"&B3&\"》\"&REPT(\"　\",8-LEN(B3))&LEFT(C3,2)&REPT(\"　\",4-LEN(LEFT(C3,2)))&LEFT(D3,2)&\"(\"&LEFT(E3,4)&\")\"&REPT(\"　\",4-LEN(LEFT(E3,4)))&F3&REPT(\" \",46-LEN(F3))&G3)","v":""}]
[null,{"$f":"作成シート!C45","v":"なし"},{"$f":"VLOOKUP(習得呪文!B4,固定値!$BM$2:$BQ$256,2,FALSE)","v":"-"},{"$f":"VLOOKUP(習得呪文!B4,固定値!$BM$2:$BQ$256,3,FALSE)","v":"-"},{"$f":"VLOOKUP(習得呪文!B4,固定値!$BM$2:$BQ$256,4,FALSE)","v":"-"},{"$f":"VLOOKUP(習得呪文!B4,固定値!$BM$2:$BQ$256,5,FALSE)","v":"-"},{"$f":"VLOOKUP(習得呪文!B4,固定値!$BM$2:$BR$256,6,FALSE)","v":"-"},{"$f":"IF(B4=\"なし\",\"\",CHAR(10)&C4&\"《\"&B4&\"》　(\"&D4&\"(\"&E4&\"))難易度： \"&F4)","v":""},{"$f":"IF(B4=\"なし\",\"\",CHAR(10)&\"《\"&B4&\"》\"&REPT(\"　\",8-LEN(B4))&LEFT(C4,2)&REPT(\"　\",4-LEN(LEFT(C4,2)))&LEFT(D4,2)&\"(\"&LEFT(E4,4)&\")\"&REPT(\"　\",4-LEN(LEFT(E4,4)))&F4&REPT(\" \",46-LEN(F4))&G4)","v":""}]
[null,{"$f":"作成シート!C46","v":"なし"},{"$f":"VLOOKUP(習得呪文!B5,固定値!$BM$2:$BQ$256,2,FALSE)","v":"-"},{"$f":"VLOOKUP(習得呪文!B5,固定値!$BM$2:$BQ$256,3,FALSE)","v":"-"},{"$f":"VLOOKUP(習得呪文!B5,固定値!$BM$2:$BQ$256,4,FALSE)","v":"-"},{"$f":"VLOOKUP(習得呪文!B5,固定値!$BM$2:$BQ$256,5,FALSE)","v":"-"},{"$f":"VLOOKUP(習得呪文!B5,固定値!$BM$2:$BR$256,6,FALSE)","v":"-"},"",""]
[null,{"$f":"作成シート!C47","v":"なし"},{"$f":"VLOOKUP(習得呪文!B6,固定値!$BM$2:$BQ$256,2,FALSE)","v":"-"},{"$f":"VLOOKUP(習得呪文!B6,固定値!$BM$2:$BQ$256,3,FALSE)","v":"-"},{"$f":"VLOOKUP(習得呪文!B6,固定値!$BM$2:$BQ$256,4,FALSE)","v":"-"},{"$f":"VLOOKUP(習得呪文!B6,固定値!$BM$2:$BQ$256,5,FALSE)","v":"-"},{"$f":"VLOOKUP(習得呪文!B6,固定値!$BM$2:$BR$256,6,FALSE)","v":"-"},"",""]
[null,{"$f":"作成シート!C48","v":"なし"},{"$f":"VLOOKUP(習得呪文!B7,固定値!$BM$2:$BQ$256,2,FALSE)","v":"-"},{"$f":"VLOOKUP(習得呪文!B7,固定値!$BM$2:$BQ$256,3,FALSE)","v":"-"},{"$f":"VLOOKUP(習得呪文!B7,固定値!$BM$2:$BQ$256,4,FALSE)","v":"-"},{"$f":"VLOOKUP(習得呪文!B7,固定値!$BM$2:$BQ$256,5,FALSE)","v":"-"},{"$f":"VLOOKUP(習得呪文!B7,固定値!$BM$2:$BR$256,6,FALSE)","v":"-"},"",""]
[null,{"$f":"作成シート!C49","v":"なし"},{"$f":"VLOOKUP(習得呪文!B8,固定値!$BM$2:$BQ$256,2,FALSE)","v":"-"},{"$f":"VLOOKUP(習得呪文!B8,固定値!$BM$2:$BQ$256,3,FALSE)","v":"-"},{"$f":"VLOOKUP(習得呪文!B8,固定値!$BM$2:$BQ$256,4,FALSE)","v":"-"},{"$f":"VLOOKUP(習得呪文!B8,固定値!$BM$2:$BQ$256,5,FALSE)","v":"-"},{"$f":"VLOOKUP(習得呪文!B8,固定値!$BM$2:$BR$256,6,FALSE)","v":"-"},"",""]
[null,{"$f":"作成シート!C50","v":"なし"},{"$f":"VLOOKUP(習得呪文!B9,固定値!$BM$2:$BQ$256,2,FALSE)","v":"-"},{"$f":"VLOOKUP(習得呪文!B9,固定値!$BM$2:$BQ$256,3,FALSE)","v":"-"},{"$f":"VLOOKUP(習得呪文!B9,固定値!$BM$2:$BQ$256,4,FALSE)","v":"-"},{"$f":"VLOOKUP(習得呪文!B9,固定値!$BM$2:$BQ$256,5,FALSE)","v":"-"},{"$f":"VLOOKUP(習得呪文!B9,固定値!$BM$2:$BR$256,6,FALSE)","v":"-"},"",""]
[null,{"$f":"作成シート!C51","v":"なし"},{"$f":"VLOOKUP(習得呪文!B10,固定値!$BM$2:$BQ$256,2,FALSE)","v":"-"},{"$f":"VLOOKUP(習得呪文!B10,固定値!$BM$2:$BQ$256,3,FALSE)","v":"-"},{"$f":"VLOOKUP(習得呪文!B10,固定値!$BM$2:$BQ$256,4,FALSE)","v":"-"},{"$f":"VLOOKUP(習得呪文!B10,固定値!$BM$2:$BQ$256,5,FALSE)","v":"-"},{"$f":"VLOOKUP(習得呪文!B10,固定値!$BM$2:$BR$256,6,FALSE)","v":"-"},"",""]
[null,{"$f":"作成シート!C52","v":"なし"},{"$f":"VLOOKUP(習得呪文!B11,固定値!$BM$2:$BQ$256,2,FALSE)","v":"-"},{"$f":"VLOOKUP(習得呪文!B11,固定値!$BM$2:$BQ$256,3,FALSE)","v":"-"},{"$f":"VLOOKUP(習得呪文!B11,固定値!$BM$2:$BQ$256,4,FALSE)","v":"-"},{"$f":"VLOOKUP(習得呪文!B11,固定値!$BM$2:$BQ$256,5,FALSE)","v":"-"},{"$f":"VLOOKUP(習得呪文!B11,固定値!$BM$2:$BR$256,6,FALSE)","v":"-"},"",""]
[null,{"$f":"作成シート!C53","v":"なし"},{"$f":"VLOOKUP(習得呪文!B12,固定値!$BM$2:$BQ$256,2,FALSE)","v":"-"},{"$f":"VLOOKUP(習得呪文!B12,固定値!$BM$2:$BQ$256,3,FALSE)","v":"-"},{"$f":"VLOOKUP(習得呪文!B12,固定値!$BM$2:$BQ$256,4,FALSE)","v":"-"},{"$f":"VLOOKUP(習得呪文!B12,固定値!$BM$2:$BQ$256,5,FALSE)","v":"-"},{"$f":"VLOOKUP(習得呪文!B12,固定値!$BM$2:$BR$256,6,FALSE)","v":"-"},"",""]

{"sheet":"冒険者技能","index":14,"n_rows":67,"n_cols":26,"rows_kept":67,"cut":false,"hidden":false,"merged":[]}
[null,null,null,null,null,null,null,null,null,null,null,null,null,{"$f":"\nN3&N4&N5&N6&N7&N8&N9&N10&\nN11&N12&N13&N14&N15&N16&N17&N18&N19&N20&\nN21&N22&N23&N24&N25&N26&N27&N28&N29&N30&\nN31&N32&N33&N34&N35&N36&N37&N38&N39&N40&\nN41&N42&N43&N44&N45&N46&N47&N48&N49&N50&\nN51&N52&N53&N54&N55&N56&N57&N58&N59&N60&\nN61&N62&N63&N64&N65&N66&N67","v":"\n【荷重行動】　　　　　　　●　　　　　○　　　　　○　　　　　○　　 　　○　 ／\n【武器：投擲武器】　　　　●　　　　　○　　　　　○　　　　　○　　 　　○　 ／"},{"$f":"\nO3&O4&O5&O6&O7&O8&O9&O10&\nO11&O12&O13&O14&O15&O16&O17&O18&O19&O20&\nO21&O22&O23&O24&O25&O26&O27&O28&O29&O30&\nO31&O32&O33&O34&O35&O36&O37&O38&O39&O40&\nO41&O42&O43&O44&O45&O46&O47&O48&O49&O50&\nO51&O52&O53&O54&O55&O56&O57&O58&O59&O60&\nO61&O62&O63&O64&O65&O66&O67","v":"\n【荷重行動】　　　　初歩                      258\n【武器：投擲】　　　初歩                      257"},null,{"$f":"Q50&Q51&Q52&Q53&Q54&Q56&Q57&Q58&Q59&Q60&Q61","v":""},{"$f":"R19&R20&R26&R37&R38&R39&R40&R41&R42&R43&R44&R45","v":"\n【武器：投擲】+1"},{"$f":"S29&S47&S48&S49","v":""},{"$f":"T30","v":""},{"$f":"MID(O1,1,190)","v":"\n【荷重行動】　　　　初歩                      258\n【武器：投擲】　　　初歩                      257"},{"$f":"MID(O1,191,380)","v":""},{"$f":"MID(O1,381,570)","v":""},{"$f":"MID(O1,571,760)","v":""}]
[null,"冒険者技能",null,"種別",null,null,null,"出自・来歴ボーナス","習熟段階","消費成長点","効果","参照項","簡易表示",null,null,"参照項"]
[null,null,"受身","共通",{"$f":"IF(COUNTIF(一般技能!$H$51:$H$56,C3)=0,0,VLOOKUP(C3,一般技能!$H$51:$J$56,3,FALSE))","v":0},{"$f":"IF(COUNTIF(一般技能!$H$59:$H$82,C3)=0,0,VLOOKUP(C3,一般技能!$H$59:$J$82,3,FALSE))","v":0},{"$f":"MAX(E3,F3)","v":0},{"$f":"VLOOKUP(E3,固定値!$AA$2:$AB$7,2,FALSE)","v":"－－－"},{"$f":"VLOOKUP(G3,固定値!$AA$2:$AB$7,2,FALSE)","v":"－－－"},{"$f":"VLOOKUP(I3,固定値!$AG$1:$AI$7,IF(H3=ラベル!$G$2,2,3),FALSE)","v":0},{"$f":"VLOOKUP(I3,固定値!$BE$2:$BF$7,2,FALSE)","v":0},{"$f":"LEFT(P3,3)","v":"252"},"受身",{"$f":"IF(I3=ラベル!$G$2,\"\",CHAR(10)&\"【\"&C3&\"】\"&REPT(\"　\",11-LEN(C3))&\"●　　　　　\"&IF(K3>1,\"●\",\"○\")&\"　　　　　\"&IF(K3>2,\"●\",\"○\")&\"　　　　　\"&IF(K3>3,\"●\",\"○\")&\"　　 　　\"&IF(K3>4,\"●\",\"○\")&\"　 ／\")","v":""},{"$f":"IF(I3=ラベル!$G$2,\"\",CHAR(10)&\"【\"&M3&\"】\"&REPT(\"　\",8-LEN(M3))&I3&REPT(\" \",22)&L3)","v":""},"252項"]
[null,null,"応急手当","共通",{"$f":"IF(COUNTIF(一般技能!$H$51:$H$56,C4)=0,0,VLOOKUP(C4,一般技能!$H$51:$J$56,3,FALSE))","v":0},{"$f":"IF(COUNTIF(一般技能!$H$59:$H$82,C4)=0,0,VLOOKUP(C4,一般技能!$H$59:$J$82,3,FALSE))","v":0},{"$f":"MAX(E4,F4)","v":0},{"$f":"VLOOKUP(E4,固定値!$AA$2:$AB$7,2,FALSE)","v":"－－－"},{"$f":"VLOOKUP(G4,固定値!$AA$2:$AB$7,2,FALSE)","v":"－－－"},{"$f":"VLOOKUP(I4,固定値!$AG$1:$AI$7,IF(H4=ラベル!$G$2,2,3),FALSE)","v":0},{"$f":"VLOOKUP(I4,固定値!$BE$2:$BF$7,2,FALSE)","v":0},{"$f":"LEFT(P4,3)","v":"253"},"応急手当",{"$f":"IF(I4=ラベル!$G$2,\"\",CHAR(10)&\"【\"&C4&\"】\"&REPT(\"　\",11-LEN(C4))&\"●　　　　　\"&IF(K4>1,\"●\",\"○\")&\"　　　　　\"&IF(K4>2,\"●\",\"○\")&\"　　　　　\"&IF(K4>3,\"●\",\"○\")&\"　　 　　\"&IF(K4>4,\"●\",\"○\")&\"　 ／\")","v":""},{"$f":"IF(I4=ラベル!$G$2,\"\",CHAR(10)&\"【\"&M4&\"】\"&REPT(\"　\",8-LEN(M4))&I4&REPT(\" \",22)&L4)","v":""},"253項"]
[null,null,"隠密","共通",{"$f":"IF(COUNTIF(一般技能!$H$51:$H$56,C5)=0,0,VLOOKUP(C5,一般技能!$H$51:$J$56,3,FALSE))","v":0},{"$f":"IF(COUNTIF(一般技能!$H$59:$H$82,C5)=0,0,VLOOKUP(C5,一般技能!$H$59:$J$82,3,FALSE))","v":0},0,{"$f":"VLOOKUP(E5,固定値!$AA$2:$AB$7,2,FALSE)","v":"－－－"},{"$f":"VLOOKUP(G5,固定値!$AA$2:$AB$7,2,FALSE)","v":"－－－"},{"$f":"VLOOKUP(I5,固定値!$AG$1:$AI$7,IF(H5=ラベル!$G$2,2,3),FALSE)","v":0},{"$f":"VLOOKUP(I5,固定値!$BE$2:$BF$7,2,FALSE)","v":0},"254","隠密",{"$f":"IF(I5=ラベル!$G$2,\"\",CHAR(10)&\"【\"&C5&\"】\"&REPT(\"　\",11-LEN(C5))&\"●　　　　　\"&IF(K5>1,\"●\",\"○\")&\"　　　　　\"&IF(K5>2,\"●\",\"○\")&\"　　　　　\"&IF(K5>3,\"●\",\"○\")&\"　　 　　\"&IF(K5>4,\"●\",\"○\")&\"　 ／\")","v":""},{"$f":"IF(I5=ラベル!$G$2,\"\",CHAR(10)&\"【\"&M5&\"】\"&REPT(\"　\",8-LEN(M5))&I5&REPT(\" \",22)&L5)","v":""},"254項"]
[null,null,"頑健","共通",{"$f":"IF(COUNTIF(一般技能!$H$51:$H$56,C6)=0,0,VLOOKUP(C6,一般技能!$H$51:$J$56,3,FALSE))","v":0},{"$f":"IF(COUNTIF(一般技能!$H$59:$H$82,C6)=0,0,VLOOKUP(C6,一般技能!$H$59:$J$82,3,FALSE))","v":0},0,{"$f":"VLOOKUP(E6,固定値!$AA$2:$AB$7,2,FALSE)","v":"－－－"},{"$f":"VLOOKUP(G6,固定値!$AA$2:$AB$7,2,FALSE)","v":"－－－"},{"$f":"VLOOKUP(I6,固定値!$AG$1:$AI$7,IF(H6=ラベル!$G$2,2,3),FALSE)","v":0},{"$f":"VLOOKUP(I6,固定値!$BE$2:$BF$7,2,FALSE)","v":0},"249","頑健",{"$f":"IF(I6=ラベル!$G$2,\"\",CHAR(10)&\"【\"&C6&\"】\"&REPT(\"　\",11-LEN(C6))&\"●　　　　　\"&IF(K6>1,\"●\",\"○\")&\"　　　　　\"&IF(K6>2,\"●\",\"○\")&\"　　　　　\"&IF(K6>3,\"●\",\"○\")&\"　　 　　\"&IF(K6>4,\"●\",\"○\")&\"　 ／\")","v":""},{"$f":"IF(I6=ラベル!$G$2,\"\",CHAR(10)&\"【\"&M6&\"】\"&REPT(\"　\",8-LEN(M6))&I6&REPT(\" \",22)&L6)","v":""},"249項"]
[null,null,"観察","共通",{"$f":"IF(COUNTIF(一般技能!$H$51:$H$56,C7)=0,0,VLOOKUP(C7,一般技能!$H$51:$J$56,3,FALSE))","v":0},{"$f":"IF(COUNTIF(一般技能!$H$59:$H$82,C7)=0,0,VLOOKUP(C7,一般技能!$H$59:$J$82,3,FALSE))","v":0},0,{"$f":"VLOOKUP(E7,固定値!$AA$2:$AB$7,2,FALSE)","v":"－－－"},{"$f":"VLOOKUP(G7,固定値!$AA$2:$AB$7,2,FALSE)","v":"－－－"},{"$f":"VLOOKUP(I7,固定値!$AG$1:$AI$7,IF(H7=ラベル!$G$2,2,3),FALSE)","v":0},{"$f":"VLOOKUP(I7,固定値!$BE$2:$BF$7,2,FALSE)","v":0},"254","観察",{"$f":"IF(I7=ラベル!$G$2,\"\",CHAR(10)&\"【\"&C7&\"】\"&REPT(\"　\",11-LEN(C7))&\"●　　　　　\"&IF(K7>1,\"●\",\"○\")&\"　　　　　\"&IF(K7>2,\"●\",\"○\")&\"　　　　　\"&IF(K7>3,\"●\",\"○\")&\"　　 　　\"&IF(K7>4,\"●\",\"○\")&\"　 ／\")","v":""},{"$f":"IF(I7=ラベル!$G$2,\"\",CHAR(10)&\"【\"&M7&\"】\"&REPT(\"　\",8-LEN(M7))&I7&REPT(\" \",22)&L7)","v":""},"254項"]
[null,null,"機先","共通",{"$f":"IF(COUNTIF(一般技能!$H$51:$H$56,C8)=0,0,VLOOKUP(C8,一般技能!$H$51:$J$56,3,FALSE))","v":0},{"$f":"IF(COUNTIF(一般技能!$H$59:$H$82,C8)=0,0,VLOOKUP(C8,一般技能!$H$59:$J$82,3,FALSE))","v":0},0,{"$f":"VLOOKUP(E8,固定値!$AA$2:$AB$7,2,FALSE)","v":"－－－"},{"$f":"VLOOKUP(G8,固定値!$AA$2:$AB$7,2,FALSE)","v":"－－－"},{"$f":"VLOOKUP(I8,固定値!$AG$1:$AI$7,IF(H8=ラベル!$G$2,2,3),FALSE)","v":0},{"$f":"VLOOKUP(I8,固定値!$BE$2:$BF$7,2,FALSE)","v":0},"249","機先",{"$f":"IF(I8=ラベル!$G$2,\"\",CHAR(10)&\"【\"&C8&\"】\"&REPT(\"　\",11-LEN(C8))&\"●　　　　　\"&IF(K8>1,\"●\",\"○\")&\"　　　　　\"&IF(K8>2,\"●\",\"○\")&\"　　　　　\"&IF(K8>3,\"●\",\"○\")&\"　　 　　\"&IF(K8>4,\"●\",\"○\")&\"　 ／\")","v":""},{"$f":"IF(I8=ラベル!$G$2,\"\",CHAR(10)&\"【\"&M8&\"】\"&REPT(\"　\",8-LEN(M8))&I8&REPT(\" \",22)&L8)","v":""},"249項"]
[null,null,"幸運","共通",{"$f":"IF(COUNTIF(一般技能!$H$51:$H$56,C9)=0,0,VLOOKUP(C9,一般技能!$H$51:$J$56,3,FALSE))","v":0},{"$f":"IF(COUNTIF(一般技能!$H$59:$H$82,C9)=0,0,VLOOKUP(C9,一般技能!$H$59:$J$82,3,FALSE))","v":0},0,{"$f":"VLOOKUP(E9,固定値!$AA$2:$AB$7,2,FALSE)","v":"－－－"},{"$f":"VLOOKUP(G9,固定値!$AA$2:$AB$7,2,FALSE)","v":"－－－"},{"$f":"VLOOKUP(I9,固定値!$AG$1:$AI$7,IF(H9=ラベル!$G$2,2,3),FALSE)","v":0},{"$f":"VLOOKUP(I9,固定値!$BE$2:$BF$7,2,FALSE)","v":0},"253","幸運",{"$f":"IF(I9=ラベル!$G$2,\"\",CHAR(10)&\"【\"&C9&\"】\"&REPT(\"　\",11-LEN(C9))&\"●　　　　　\"&IF(K9>1,\"●\",\"○\")&\"　　　　　\"&IF(K9>2,\"●\",\"○\")&\"　　　　　\"&IF(K9>3,\"●\",\"○\")&\"　　 　　\"&IF(K9>4,\"●\",\"○\")&\"　 ／\")","v":""},{"$f":"IF(I9=ラベル!$G$2,\"\",CHAR(10)&\"【\"&M9&\"】\"&REPT(\"　\",8-LEN(M9))&I9&REPT(\" \",22)&L9)","v":""},"253項"]
[null,null,"呪文抵抗","共通",{"$f":"IF(COUNTIF(一般技能!$H$51:$H$56,C10)=0,0,VLOOKUP(C10,一般技能!$H$51:$J$56,3,FALSE))","v":0},{"$f":"IF(COUNTIF(一般技能!$H$59:$H$82,C10)=0,0,VLOOKUP(C10,一般技能!$H$59:$J$82,3,FALSE))","v":0},0,{"$f":"VLOOKUP(E10,固定値!$AA$2:$AB$7,2,FALSE)","v":"－－－"},{"$f":"VLOOKUP(G10,固定値!$AA$2:$AB$7,2,FALSE)","v":"－－－"},{"$f":"VLOOKUP(I10,固定値!$AG$1:$AI$7,IF(H10=ラベル!$G$2,2,3),FALSE)","v":0},{"$f":"VLOOKUP(I10,固定値!$BE$2:$BF$7,2,FALSE)","v":0},"250","呪文抵抗",{"$f":"IF(I10=ラベル!$G$2,\"\",CHAR(10)&\"【\"&C10&\"】\"&REPT(\"　\",11-LEN(C10))&\"●　　　　　\"&IF(K10>1,\"●\",\"○\")&\"　　　　　\"&IF(K10>2,\"●\",\"○\")&\"　　　　　\"&IF(K10>3,\"●\",\"○\")&\"　　 　　\"&IF(K10>4,\"●\",\"○\")&\"　 ／\")","v":""},{"$f":"IF(I10=ラベル!$G$2,\"\",CHAR(10)&\"【\"&M10&\"】\"&REPT(\"　\",8-LEN(M10))&I10&REPT(\" \",22)&L10)","v":""},"250項"]
[null,null,"戦術移動","共通",{"$f":"IF(COUNTIF(一般技能!$H$51:$H$56,C11)=0,0,VLOOKUP(C11,一般技能!$H$51:$J$56,3,FALSE))","v":0},{"$f":"IF(COUNTIF(一般技能!$H$59:$H$82,C11)=0,0,VLOOKUP(C11,一般技能!$H$59:$J$82,3,FALSE))","v":0},0,{"$f":"VLOOKUP(E11,固定値!$AA$2:$AB$7,2,FALSE)","v":"－－－"},{"$f":"VLOOKUP(G11,固定値!$AA$2:$AB$7,2,FALSE)","v":"－－－"},{"$f":"VLOOKUP(I11,固定値!$AG$1:$AI$7,IF(H11=ラベル!$G$2,2,3),FALSE)","v":0},{"$f":"VLOOKUP(I11,固定値!$BE$2:$BF$7,2,FALSE)","v":0},"251","戦術移動",{"$f":"IF(I11=ラベル!$G$2,\"\",CHAR(10)&\"【\"&C11&\"】\"&REPT(\"　\",11-LEN(C11))&\"●　　　　　\"&IF(K11>1,\"●\",\"○\")&\"　　　　　\"&IF(K11>2,\"●\",\"○\")&\"　　　　　\"&IF(K11>3,\"●\",\"○\")&\"　　 　　\"&IF(K11>4,\"●\",\"○\")&\"　 ／\")","v":""},{"$f":"IF(I11=ラベル!$G$2,\"\",CHAR(10)&\"【\"&M11&\"】\"&REPT(\"　\",8-LEN(M11))&I11&REPT(\" \",22)&L11)","v":""},"251項"]
[null,null,"第六感","共通",{"$f":"IF(COUNTIF(一般技能!$H$51:$H$56,C12)=0,0,VLOOKUP(C12,一般技能!$H$51:$J$56,3,FALSE))","v":0},{"$f":"IF(COUNTIF(一般技能!$H$59:$H$82,C12)=0,0,VLOOKUP(C12,一般技能!$H$59:$J$82,3,FALSE))","v":0},0,{"$f":"VLOOKUP(E12,固定値!$AA$2:$AB$7,2,FALSE)","v":"－－－"},{"$f":"VLOOKUP(G12,固定値!$AA$2:$AB$7,2,FALSE)","v":"－－－"},{"$f":"VLOOKUP(I12,固定値!$AG$1:$AI$7,IF(H12=ラベル!$G$2,2,3),FALSE)","v":0},{"$f":"VLOOKUP(I12,固定値!$BE$2:$BF$7,2,FALSE)","v":0},"255","第六感",{"$f":"IF(I12=ラベル!$G$2,\"\",CHAR(10)&\"【\"&C12&\"】\"&REPT(\"　\",11-LEN(C12))&\"●　　　　　\"&IF(K12>1,\"●\",\"○\")&\"　　　　　\"&IF(K12>2,\"●\",\"○\")&\"　　　　　\"&IF(K12>3,\"●\",\"○\")&\"　　 　　\"&IF(K12>4,\"●\",\"○\")&\"　 ／\")","v":""},{"$f":"IF(I12=ラベル!$G$2,\"\",CHAR(10)&\"【\"&M12&\"】\"&REPT(\"　\",8-LEN(M12))&I12&REPT(\" \",22)&L12)","v":""},"255項"]
[null,null,"治癒適正","共通",{"$f":"IF(COUNTIF(一般技能!$H$51:$H$56,C13)=0,0,VLOOKUP(C13,一般技能!$H$51:$J$56,3,FALSE))","v":0},{"$f":"IF(COUNTIF(一般技能!$H$59:$H$82,C13)=0,0,VLOOKUP(C13,一般技能!$H$59:$J$82,3,FALSE))","v":0},0,{"$f":"VLOOKUP(E13,固定値!$AA$2:$AB$7,2,FALSE)","v":"－－－"},{"$f":"VLOOKUP(G13,固定値!$AA$2:$AB$7,2,FALSE)","v":"－－－"},{"$f":"VLOOKUP(I13,固定値!$AG$1:$AI$7,IF(H13=ラベル!$G$2,2,3),FALSE)","v":0},{"$f":"VLOOKUP(I13,固定値!$BE$2:$BF$7,2,FALSE)","v":0},"250","治癒適正",{"$f":"IF(I13=ラベル!$G$2,\"\",CHAR(10)&\"【\"&C13&\"】\"&REPT(\"　\",11-LEN(C13))&\"●　　　　　\"&IF(K13>1,\"●\",\"○\")&\"　　　　　\"&IF(K13>2,\"●\",\"○\")&\"　　　　　\"&IF(K13>3,\"●\",\"○\")&\"　　 　　\"&IF(K13>4,\"●\",\"○\")&\"　 ／\")","v":""},{"$f":"IF(I13=ラベル!$G$2,\"\",CHAR(10)&\"【\"&M13&\"】\"&REPT(\"　\",8-LEN(M13))&I13&REPT(\" \",22)&L13)","v":""},"250項"]
[null,null,"手仕事","共通",{"$f":"IF(COUNTIF(一般技能!$H$51:$H$56,C14)=0,0,VLOOKUP(C14,一般技能!$H$51:$J$56,3,FALSE))","v":0},{"$f":"IF(COUNTIF(一般技能!$H$59:$H$82,C14)=0,0,VLOOKUP(C14,一般技能!$H$59:$J$82,3,FALSE))","v":0},0,{"$f":"VLOOKUP(E14,固定値!$AA$2:$AB$7,2,FALSE)","v":"－－－"},{"$f":"VLOOKUP(G14,固定値!$AA$2:$AB$7,2,FALSE)","v":"－－－"},{"$f":"VLOOKUP(I14,固定値!$AG$1:$AI$7,IF(H14=ラベル!$G$2,2,3),FALSE)","v":0},{"$f":"VLOOKUP(I14,固定値!$BE$2:$BF$7,2,FALSE)","v":0},"255","手仕事",{"$f":"IF(I14=ラベル!$G$2,\"\",CHAR(10)&\"【\"&C14&\"】\"&REPT(\"　\",11-LEN(C14))&\"●　　　　　\"&IF(K14>1,\"●\",\"○\")&\"　　　　　\"&IF(K14>2,\"●\",\"○\")&\"　　　　　\"&IF(K14>3,\"●\",\"○\")&\"　　 　　\"&IF(K14>4,\"●\",\"○\")&\"　 ／\")","v":""},{"$f":"IF(I14=ラベル!$G$2,\"\",CHAR(10)&\"【\"&M14&\"】\"&REPT(\"　\",8-LEN(M14))&I14&REPT(\" \",22)&L14)","v":""},"255項"]
[null,null,"忍耐","共通",{"$f":"IF(COUNTIF(一般技能!$H$51:$H$56,C15)=0,0,VLOOKUP(C15,一般技能!$H$51:$J$56,3,FALSE))","v":0},{"$f":"IF(COUNTIF(一般技能!$H$59:$H$82,C15)=0,0,VLOOKUP(C15,一般技能!$H$59:$J$82,3,FALSE))","v":0},0,{"$f":"VLOOKUP(E15,固定値!$AA$2:$AB$7,2,FALSE)","v":"－－－"},{"$f":"VLOOKUP(G15,固定値!$AA$2:$AB$7,2,FALSE)","v":"－－－"},{"$f":"VLOOKUP(I15,固定値!$AG$1:$AI$7,IF(H15=ラベル!$G$2,2,3),FALSE)","v":0},{"$f":"VLOOKUP(I15,固定値!$BE$2:$BF$7,2,FALSE)","v":0},"250","忍耐",{"$f":"IF(I15=ラベル!$G$2,\"\",CHAR(10)&\"【\"&C15&\"】\"&REPT(\"　\",11-LEN(C15))&\"●　　　　　\"&IF(K15>1,\"●\",\"○\")&\"　　　　　\"&IF(K15>2,\"●\",\"○\")&\"　　　　　\"&IF(K15>3,\"●\",\"○\")&\"　　 　　\"&IF(K15>4,\"●\",\"○\")&\"　 ／\")","v":""},{"$f":"IF(I15=ラベル!$G$2,\"\",CHAR(10)&\"【\"&M15&\"】\"&REPT(\"　\",8-LEN(M15))&I15&REPT(\" \",22)&L15)","v":""},"250項"]
[null,null,"免疫強化","共通",{"$f":"IF(COUNTIF(一般技能!$H$51:$H$56,C16)=0,0,VLOOKUP(C16,一般技能!$H$51:$J$56,3,FALSE))","v":0},{"$f":"IF(COUNTIF(一般技能!$H$59:$H$82,C16)=0,0,VLOOKUP(C16,一般技能!$H$59:$J$82,3,FALSE))","v":0},0,{"$f":"VLOOKUP(E16,固定値!$AA$2:$AB$7,2,FALSE)","v":"－－－"},{"$f":"VLOOKUP(G16,固定値!$AA$2:$AB$7,2,FALSE)","v":"－－－"},{"$f":"VLOOKUP(I16,固定値!$AG$1:$AI$7,IF(H16=ラベル!$G$2,2,3),FALSE)","v":0},{"$f":"VLOOKUP(I16,固定値!$BE$2:$BF$7,2,FALSE)","v":0},"255","免疫強化",{"$f":"IF(I16=ラベル!$G$2,\"\",CHAR(10)&\"【\"&C16&\"】\"&REPT(\"　\",11-LEN(C16))&\"●　　　　　\"&IF(K16>1,\"●\",\"○\")&\"　　　　　\"&IF(K16>2,\"●\",\"○\")&\"　　　　　\"&IF(K16>3,\"●\",\"○\")&\"　　 　　\"&IF(K16>4,\"●\",\"○\")&\"　 ／\")","v":""},{"$f":"IF(I16=ラベル!$G$2,\"\",CHAR(10)&\"【\"&M16&\"】\"&REPT(\"　\",8-LEN(M16))&I16&REPT(\" \",22)&L16)","v":""},"255項"]
[null,null,"受け流し","戦士系職業向け",{"$f":"IF(COUNTIF(一般技能!$H$51:$H$56,C17)=0,0,VLOOKUP(C17,一般技能!$H$51:$J$56,3,FALSE))","v":0},{"$f":"IF(COUNTIF(一般技能!$H$59:$H$82,C17)=0,0,VLOOKUP(C17,一般技能!$H$59:$J$82,3,FALSE))","v":0},0,{"$f":"VLOOKUP(E17,固定値!$AA$2:$AB$7,2,FALSE)","v":"－－－"},{"$f":"VLOOKUP(G17,固定値!$AA$2:$AB$7,2,FALSE)","v":"－－－"},{"$f":"VLOOKUP(I17,固定値!$AG$1:$AI$7,IF(H17=ラベル!$G$2,2,3),FALSE)","v":0},{"$f":"VLOOKUP(I17,固定値!$BE$2:$BF$7,2,FALSE)","v":0},"261","受け流し",{"$f":"IF(I17=ラベル!$G$2,\"\",CHAR(10)&\"【\"&C17&\"】\"&REPT(\"　\",11-LEN(C17))&\"●　　　　　\"&IF(K17>1,\"●\",\"○\")&\"　　　　　\"&IF(K17>2,\"●\",\"○\")&\"　　　　　\"&IF(K17>3,\"●\",\"○\")&\"　　 　　\"&IF(K17>4,\"●\",\"○\")&\"　 ／\")","v":""},{"$f":"IF(I17=ラベル!$G$2,\"\",CHAR(10)&\"【\"&M17&\"】\"&REPT(\"　\",8-LEN(M17))&I17&REPT(\" \",22)&L17)","v":""},"261項"]
[null,null,"荷重行動","戦士系職業向け",{"$f":"IF(COUNTIF(一般技能!$H$51:$H$56,C18)=0,0,VLOOKUP(C18,一般技能!$H$51:$J$56,3,FALSE))","v":1},{"$f":"IF(COUNTIF(一般技能!$H$59:$H$82,C18)=0,0,VLOOKUP(C18,一般技能!$H$59:$J$82,3,FALSE))","v":0},1,{"$f":"VLOOKUP(E18,固定値!$AA$2:$AB$7,2,FALSE)","v":"初歩"},{"$f":"VLOOKUP(G18,固定値!$AA$2:$AB$7,2,FALSE)","v":"初歩"},{"$f":"VLOOKUP(I18,固定値!$AG$1:$AI$7,IF(H18=ラベル!$G$2,2,3),FALSE)","v":0},{"$f":"VLOOKUP(I18,固定値!$BE$2:$BF$7,2,FALSE)","v":1},"258","荷重行動",{"$f":"IF(I18=ラベル!$G$2,\"\",CHAR(10)&\"【\"&C18&\"】\"&REPT(\"　\",11-LEN(C18))&\"●　　　　　\"&IF(K18>1,\"●\",\"○\")&\"　　　　　\"&IF(K18>2,\"●\",\"○\")&\"　　　　　\"&IF(K18>3,\"●\",\"○\")&\"　　 　　\"&IF(K18>4,\"●\",\"○\")&\"　 ／\")","v":"\n【荷重行動】　　　　　　　●　　　　　○　　　　　○　　　　　○　　 　　○　 ／"},{"$f":"IF(I18=ラベル!$G$2,\"\",CHAR(10)&\"【\"&M18&\"】\"&REPT(\"　\",8-LEN(M18))&I18&REPT(\" \",22)&L18)","v":"\n【荷重行動】　　　　初歩                      258"},"258項"]
[null,null,"強打攻撃・斬","戦士系職業向け",{"$f":"IF(COUNTIF(一般技能!$H$51:$H$56,C19)=0,0,VLOOKUP(C19,一般技能!$H$51:$J$56,3,FALSE))","v":0},{"$f":"IF(COUNTIF(一般技能!$H$59:$H$82,C19)=0,0,VLOOKUP(C19,一般技能!$H$59:$J$82,3,FALSE))","v":0},0,{"$f":"VLOOKUP(E19,固定値!$AA$2:$AB$7,2,FALSE)","v":"－－－"},{"$f":"VLOOKUP(G19,固定値!$AA$2:$AB$7,2,FALSE)","v":"－－－"},{"$f":"VLOOKUP(I19,固定値!$AG$1:$AI$7,IF(H19=ラベル!$G$2,2,3),FALSE)","v":0},{"$f":"VLOOKUP(I19,固定値!$BE$2:$BF$7,2,FALSE)","v":0},"262","強打攻撃・斬",{"$f":"IF(I19=ラベル!$G$2,\"\",CHAR(10)&\"【\"&C19&\"】\"&REPT(\"　\",11-LEN(C19))&\"●　　　　　\"&IF(K19>1,\"●\",\"○\")&\"　　　　　\"&IF(K19>2,\"●\",\"○\")&\"　　　　　\"&IF(K19>3,\"●\",\"○\")&\"　　 　　\"&IF(K19>4,\"●\",\"○\")&\"　 ／\")","v":""},{"$f":"IF(I19=ラベル!$G$2,\"\",CHAR(10)&\"【\"&M19&\"】\"&REPT(\"　\",8-LEN(M19))&I19&REPT(\" \",22)&L19)","v":""},"262項",null,{"$f":"IF(I19=ラベル!$G$2,\"\",CHAR(10)&\"【\"&M19&\"(\"&I19&\")】\")","v":""},null,null,{"$f":"IF(K19=0,-1,INDEX(V19:Z19,K19))","v":-1},{"$f":"ROUNDUP(能力値!G4/4,0)","v":1},{"$f":"ROUNDUP(能力値!G4/2,0)","v":2},{"$f":"ROUNDUP(能力値!G4*1,0)","v":3},{"$f":"ROUNDUP(能力値!G4*1.5,0)","v":5},{"$f":"ROUNDUP(能力値!G4*2,0)","v":6}]
[null,null,"強打攻撃・殴","戦士系職業向け",{"$f":"IF(COUNTIF(一般技能!$H$51:$H$56,C20)=0,0,VLOOKUP(C20,一般技能!$H$51:$J$56,3,FALSE))","v":0},{"$f":"IF(COUNTIF(一般技能!$H$59:$H$82,C20)=0,0,VLOOKUP(C20,一般技能!$H$59:$J$82,3,FALSE))","v":0},0,{"$f":"VLOOKUP(E20,固定値!$AA$2:$AB$7,2,FALSE)","v":"－－－"},{"$f":"VLOOKUP(G20,固定値!$AA$2:$AB$7,2,FALSE)","v":"－－－"},{"$f":"VLOOKUP(I20,固定値!$AG$1:$AI$7,IF(H20=ラベル!$G$2,2,3),FALSE)","v":0},{"$f":"VLOOKUP(I20,固定値!$BE$2:$BF$7,2,FALSE)","v":0},"263","強打攻撃・殴",{"$f":"IF(I20=ラベル!$G$2,\"\",CHAR(10)&\"【\"&C20&\"】\"&REPT(\"　\",11-LEN(C20))&\"●　　　　　\"&IF(K20>1,\"●\",\"○\")&\"　　　　　\"&IF(K20>2,\"●\",\"○\")&\"　　　　　\"&IF(K20>3,\"●\",\"○\")&\"　　 　　\"&IF(K20>4,\"●\",\"○\")&\"　 ／\")","v":""},{"$f":"IF(I20=ラベル!$G$2,\"\",CHAR(10)&\"【\"&M20&\"】\"&REPT(\"　\",8-LEN(M20))&I20&REPT(\" \",22)&L20)","v":""},"263項",null,{"$f":"IF(I20=ラベル!$G$2,\"\",CHAR(10)&\"【\"&M20&\"(\"&I20&\")】\")","v":""},null,null,{"$f":"IF(K20=0,-1,INDEX(V20:Z20,K20))","v":-1},{"$f":"ROUNDUP(能力値!G4/4,0)","v":1},{"$f":"ROUNDUP(能力値!G4/2,0)","v":2},{"$f":"ROUNDUP(能力値!G4*1,0)","v":3},{"$f":"ROUNDUP(能力値!G4*1.5,0)","v":5},{"$f":"ROUNDUP(能力値!G4*2,0)","v":6}]
[null,null,"曲射","戦士系職業向け",{"$f":"IF(COUNTIF(一般技能!$H$51:$H$56,C21)=0,0,VLOOKUP(C21,一般技能!$H$51:$J$56,3,FALSE))","v":0},{"$f":"IF(COUNTIF(一般技能!$H$59:$H$82,C21)=0,0,VLOOKUP(C21,一般技能!$H$59:$J$82,3,FALSE))","v":0},0,{"$f":"VLOOKUP(E21,固定値!$AA$2:$AB$7,2,FALSE)","v":"－－－"},{"$f":"VLOOKUP(G21,固定値!$AA$2:$AB$7,2,FALSE)","v":"－－－"},{"$f":"VLOOKUP(I21,固定値!$AG$1:$AI$7,IF(H21=ラベル!$G$2,2,3),FALSE)","v":0},{"$f":"VLOOKUP(I21,固定値!$BE$2:$BF$7,2,FALSE)","v":0},"266","曲射",{"$f":"IF(I21=ラベル!$G$2,\"\",CHAR(10)&\"【\"&C21&\"】\"&REPT(\"　\",11-LEN(C21))&\"●　　　　　\"&IF(K21>1,\"●\",\"○\")&\"　　　　　\"&IF(K21>2,\"●\",\"○\")&\"　　　　　\"&IF(K21>3,\"●\",\"○\")&\"　　 　　\"&IF(K21>4,\"●\",\"○\")&\"　 ／\")","v":""},{"$f":"IF(I21=ラベル!$G$2,\"\",CHAR(10)&\"【\"&M21&\"】\"&REPT(\"　\",8-LEN(M21))&I21&REPT(\" \",22)&L21)","v":""},"266項"]
[null,null,"斬落攻撃","戦士系職業向け",{"$f":"IF(COUNTIF(一般技能!$H$51:$H$56,C22)=0,0,VLOOKUP(C22,一般技能!$H$51:$J$56,3,FALSE))","v":0},{"$f":"IF(COUNTIF(一般技能!$H$59:$H$82,C22)=0,0,VLOOKUP(C22,一般技能!$H$59:$J$82,3,FALSE))","v":0},0,{"$f":"VLOOKUP(E22,固定値!$AA$2:$AB$7,2,FALSE)","v":"－－－"},{"$f":"VLOOKUP(G22,固定値!$AA$2:$AB$7,2,FALSE)","v":"－－－"},{"$f":"VLOOKUP(I22,固定値!$AG$1:$AI$7,IF(H22=ラベル!$G$2,2,3),FALSE)","v":0},{"$f":"VLOOKUP(I22,固定値!$BE$2:$BF$7,2,FALSE)","v":0},"264","斬落攻撃",{"$f":"IF(I22=ラベル!$G$2,\"\",CHAR(10)&\"【\"&C22&\"】\"&REPT(\"　\",11-LEN(C22))&\"●　　　　　\"&IF(K22>1,\"●\",\"○\")&\"　　　　　\"&IF(K22>2,\"●\",\"○\")&\"　　　　　\"&IF(K22>3,\"●\",\"○\")&\"　　 　　\"&IF(K22>4,\"●\",\"○\")&\"　 ／\")","v":""},{"$f":"IF(I22=ラベル!$G$2,\"\",CHAR(10)&\"【\"&M22&\"】\"&REPT(\"　\",8-LEN(M22))&I22&REPT(\" \",22)&L22)","v":""},"264項"]
[null,null,"拘束攻撃","戦士系職業向け",{"$f":"IF(COUNTIF(一般技能!$H$51:$H$56,C23)=0,0,VLOOKUP(C23,一般技能!$H$51:$J$56,3,FALSE))","v":0},{"$f":"IF(COUNTIF(一般技能!$H$59:$H$82,C23)=0,0,VLOOKUP(C23,一般技能!$H$59:$J$82,3,FALSE))","v":0},0,{"$f":"VLOOKUP(E23,固定値!$AA$2:$AB$7,2,FALSE)","v":"－－－"},{"$f":"VLOOKUP(G23,固定値!$AA$2:$AB$7,2,FALSE)","v":"－－－"},{"$f":"VLOOKUP(I23,固定値!$AG$1:$AI$7,IF(H23=ラベル!$G$2,2,3),FALSE)","v":0},{"$f":"VLOOKUP(I23,固定値!$BE$2:$BF$7,2,FALSE)","v":0},"264","拘束攻撃",{"$f":"IF(I23=ラベル!$G$2,\"\",CHAR(10)&\"【\"&C23&\"】\"&REPT(\"　\",11-LEN(C23))&\"●　　　　　\"&IF(K23>1,\"●\",\"○\")&\"　　　　　\"&IF(K23>2,\"●\",\"○\")&\"　　　　　\"&IF(K23>3,\"●\",\"○\")&\"　　 　　\"&IF(K23>4,\"●\",\"○\")&\"　 ／\")","v":""},{"$f":"IF(I23=ラベル!$G$2,\"\",CHAR(10)&\"【\"&M23&\"】\"&REPT(\"　\",8-LEN(M23))&I23&REPT(\" \",22)&L23)","v":""},"264項"]
[null,null,"護衛","戦士系職業向け",{"$f":"IF(COUNTIF(一般技能!$H$51:$H$56,C24)=0,0,VLOOKUP(C24,一般技能!$H$51:$J$56,3,FALSE))","v":0},{"$f":"IF(COUNTIF(一般技能!$H$59:$H$82,C24)=0,0,VLOOKUP(C24,一般技能!$H$59:$J$82,3,FALSE))","v":0},0,{"$f":"VLOOKUP(E24,固定値!$AA$2:$AB$7,2,FALSE)","v":"－－－"},{"$f":"VLOOKUP(G24,固定値!$AA$2:$AB$7,2,FALSE)","v":"－－－"},{"$f":"VLOOKUP(I24,固定値!$AG$1:$AI$7,IF(H24=ラベル!$G$2,2,3),FALSE)","v":0},{"$f":"VLOOKUP(I24,固定値!$BE$2:$BF$7,2,FALSE)","v":0},"259","護衛",{"$f":"IF(I24=ラベル!$G$2,\"\",CHAR(10)&\"【\"&C24&\"】\"&REPT(\"　\",11-LEN(C24))&\"●　　　　　\"&IF(K24>1,\"●\",\"○\")&\"　　　　　\"&IF(K24>2,\"●\",\"○\")&\"　　　　　\"&IF(K24>3,\"●\",\"○\")&\"　　 　　\"&IF(K24>4,\"●\",\"○\")&\"　 ／\")","v":""},{"$f":"IF(I24=ラベル!$G$2,\"\",CHAR(10)&\"【\"&M24&\"】\"&REPT(\"　\",8-LEN(M24))&I24&REPT(\" \",22)&L24)","v":""},"259項"]
[null,null,"死角移動","戦士系職業向け",{"$f":"IF(COUNTIF(一般技能!$H$51:$H$56,C25)=0,0,VLOOKUP(C25,一般技能!$H$51:$J$56,3,FALSE))","v":0},{"$f":"IF(COUNTIF(一般技能!$H$59:$H$82,C25)=0,0,VLOOKUP(C25,一般技能!$H$59:$J$82,3,FALSE))","v":0},0,{"$f":"VLOOKUP(E25,固定値!$AA$2:$AB$7,2,FALSE)","v":"－－－"},{"$f":"VLOOKUP(G25,固定値!$AA$2:$AB$7,2,FALSE)","v":"－－－"},{"$f":"VLOOKUP(I25,固定値!$AG$1:$AI$7,IF(H25=ラベル!$G$2,2,3),FALSE)","v":0},{"$f":"VLOOKUP(I25,固定値!$BE$2:$BF$7,2,FALSE)","v":0},"267","死角移動",{"$f":"IF(I25=ラベル!$G$2,\"\",CHAR(10)&\"【\"&C25&\"】\"&REPT(\"　\",11-LEN(C25))&\"●　　　　　\"&IF(K25>1,\"●\",\"○\")&\"　　　　　\"&IF(K25>2,\"●\",\"○\")&\"　　　　　\"&IF(K25>3,\"●\",\"○\")&\"　　 　　\"&IF(K25>4,\"●\",\"○\")&\"　 ／\")","v":""},{"$f":"IF(I25=ラベル!$G$2,\"\",CHAR(10)&\"【\"&M25&\"】\"&REPT(\"　\",8-LEN(M25))&I25&REPT(\" \",22)&L25)","v":""},"267項"]
[null,null,"刺突攻撃","戦士系職業向け",{"$f":"IF(COUNTIF(一般技能!$H$51:$H$56,C26)=0,0,VLOOKUP(C26,一般技能!$H$51:$J$56,3,FALSE))","v":0},{"$f":"IF(COUNTIF(一般技能!$H$59:$H$82,C26)=0,0,VLOOKUP(C26,一般技能!$H$59:$J$82,3,FALSE))","v":0},0,{"$f":"VLOOKUP(E26,固定値!$AA$2:$AB$7,2,FALSE)","v":"－－－"},{"$f":"VLOOKUP(G26,固定値!$AA$2:$AB$7,2,FALSE)","v":"－－－"},{"$f":"VLOOKUP(I26,固定値!$AG$1:$AI$7,IF(H26=ラベル!$G$2,2,3),FALSE)","v":0},{"$f":"VLOOKUP(I26,固定値!$BE$2:$BF$7,2,FALSE)","v":0},"263","刺突攻撃",{"$f":"IF(I26=ラベル!$G$2,\"\",CHAR(10)&\"【\"&C26&\"】\"&REPT(\"　\",11-LEN(C26))&\"●　　　　　\"&IF(K26>1,\"●\",\"○\")&\"　　　　　\"&IF(K26>2,\"●\",\"○\")&\"　　　　　\"&IF(K26>3,\"●\",\"○\")&\"　　 　　\"&IF(K26>4,\"●\",\"○\")&\"　 ／\")","v":""},{"$f":"IF(I26=ラベル!$G$2,\"\",CHAR(10)&\"【\"&M26&\"】\"&REPT(\"　\",8-LEN(M26))&I26&REPT(\" \",22)&L26)","v":""},"263項",null,{"$f":"IF(I26=ラベル!$G$2,\"\",CHAR(10)&\"【\"&M26&\"(\"&I26&\")】\")","v":""},null,null,{"$f":"IF(K26=0,-1,INDEX(V26:Z26,K26))","v":-1},1,2,3,4,5]
[null,null,"狙撃","戦士系職業向け",{"$f":"IF(COUNTIF(一般技能!$H$51:$H$56,C27)=0,0,VLOOKUP(C27,一般技能!$H$51:$J$56,3,FALSE))","v":0},{"$f":"IF(COUNTIF(一般技能!$H$59:$H$82,C27)=0,0,VLOOKUP(C27,一般技能!$H$59:$J$82,3,FALSE))","v":0},0,{"$f":"VLOOKUP(E27,固定値!$AA$2:$AB$7,2,FALSE)","v":"－－－"},{"$f":"VLOOKUP(G27,固定値!$AA$2:$AB$7,2,FALSE)","v":"－－－"},{"$f":"VLOOKUP(I27,固定値!$AG$1:$AI$7,IF(H27=ラベル!$G$2,2,3),FALSE)","v":0},{"$f":"VLOOKUP(I27,固定値!$BE$2:$BF$7,2,FALSE)","v":0},"268","狙撃",{"$f":"IF(I27=ラベル!$G$2,\"\",CHAR(10)&\"【\"&C27&\"】\"&REPT(\"　\",11-LEN(C27))&\"●　　　　　\"&IF(K27>1,\"●\",\"○\")&\"　　　　　\"&IF(K27>2,\"●\",\"○\")&\"　　　　　\"&IF(K27>3,\"●\",\"○\")&\"　　 　　\"&IF(K27>4,\"●\",\"○\")&\"　 ／\")","v":""},{"$f":"IF(I27=ラベル!$G$2,\"\",CHAR(10)&\"【\"&M27&\"】\"&REPT(\"　\",8-LEN(M27))&I27&REPT(\" \",22)&L27)","v":""},"268項"]
[null,null,"速射","戦士系職業向け",{"$f":"IF(COUNTIF(一般技能!$H$51:$H$56,C28)=0,0,VLOOKUP(C28,一般技能!$H$51:$J$56,3,FALSE))","v":0},{"$f":"IF(COUNTIF(一般技能!$H$59:$H$82,C28)=0,0,VLOOKUP(C28,一般技能!$H$59:$J$82,3,FALSE))","v":0},0,{"$f":"VLOOKUP(E28,固定値!$AA$2:$AB$7,2,FALSE)","v":"－－－"},{"$f":"VLOOKUP(G28,固定値!$AA$2:$AB$7,2,FALSE)","v":"－－－"},{"$f":"VLOOKUP(I28,固定値!$AG$1:$AI$7,IF(H28=ラベル!$G$2,2,3),FALSE)","v":0},{"$f":"VLOOKUP(I28,固定値!$BE$2:$BF$7,2,FALSE)","v":0},"265","速射",{"$f":"IF(I28=ラベル!$G$2,\"\",CHAR(10)&\"【\"&C28&\"】\"&REPT(\"　\",11-LEN(C28))&\"●　　　　　\"&IF(K28>1,\"●\",\"○\")&\"　　　　　\"&IF(K28>2,\"●\",\"○\")&\"　　　　　\"&IF(K28>3,\"●\",\"○\")&\"　　 　　\"&IF(K28>4,\"●\",\"○\")&\"　 ／\")","v":""},{"$f":"IF(I28=ラベル!$G$2,\"\",CHAR(10)&\"【\"&M28&\"】\"&REPT(\"　\",8-LEN(M28))&I28&REPT(\" \",22)&L28)","v":""},"265項"]
[null,null,"体術","戦士系職業向け",{"$f":"IF(COUNTIF(一般技能!$H$51:$H$56,C29)=0,0,VLOOKUP(C29,一般技能!$H$51:$J$56,3,FALSE))","v":0},{"$f":"IF(COUNTIF(一般技能!$H$59:$H$82,C29)=0,0,VLOOKUP(C29,一般技能!$H$59:$J$82,3,FALSE))","v":0},0,{"$f":"VLOOKUP(E29,固定値!$AA$2:$AB$7,2,FALSE)","v":"－－－"},{"$f":"VLOOKUP(G29,固定値!$AA$2:$AB$7,2,FALSE)","v":"－－－"},{"$f":"VLOOKUP(I29,固定値!$AG$1:$AI$7,IF(H29=ラベル!$G$2,2,3),FALSE)","v":0},{"$f":"VLOOKUP(I29,固定値!$BE$2:$BF$7,2,FALSE)","v":0},"258","体術",{"$f":"IF(I29=ラベル!$G$2,\"\",CHAR(10)&\"【\"&C29&\"】\"&REPT(\"　\",11-LEN(C29))&\"●　　　　　\"&IF(K29>1,\"●\",\"○\")&\"　　　　　\"&IF(K29>2,\"●\",\"○\")&\"　　　　　\"&IF(K29>3,\"●\",\"○\")&\"　　 　　\"&IF(K29>4,\"●\",\"○\")&\"　 ／\")","v":""},{"$f":"IF(I29=ラベル!$G$2,\"\",CHAR(10)&\"【\"&M29&\"】\"&REPT(\"　\",8-LEN(M29))&I29&REPT(\" \",22)&L29)","v":""},"258項",{"$f":"装備!V21","v":0},null,{"$f":"IF(I29=ラベル!$F$2,\"\",\"【\"&M29&\"】\"&\"+\"&K29)&IF(Q29>0,\"【腕輪：\"&M29&\"+\"&Q29&\"】\",\"\")","v":""}]
[null,null,"盾","戦士系職業向け",{"$f":"IF(COUNTIF(一般技能!$H$51:$H$56,C30)=0,0,VLOOKUP(C30,一般技能!$H$51:$J$56,3,FALSE))","v":0},{"$f":"IF(COUNTIF(一般技能!$H$59:$H$82,C30)=0,0,VLOOKUP(C30,一般技能!$H$59:$J$82,3,FALSE))","v":0},0,{"$f":"VLOOKUP(E30,固定値!$AA$2:$AB$7,2,FALSE)","v":"－－－"},{"$f":"VLOOKUP(G30,固定値!$AA$2:$AB$7,2,FALSE)","v":"－－－"},{"$f":"VLOOKUP(I30,固定値!$AG$1:$AI$7,IF(H30=ラベル!$G$2,2,3),FALSE)","v":0},{"$f":"VLOOKUP(I30,固定値!$BE$2:$BF$7,2,FALSE)","v":0},"258","盾",{"$f":"IF(I30=ラベル!$G$2,\"\",CHAR(10)&\"【\"&C30&\"】\"&REPT(\"　\",11-LEN(C30))&\"●　　　　　\"&IF(K30>1,\"●\",\"○\")&\"　　　　　\"&IF(K30>2,\"●\",\"○\")&\"　　　　　\"&IF(K30>3,\"●\",\"○\")&\"　　 　　\"&IF(K30>4,\"●\",\"○\")&\"　 ／\")","v":""},{"$f":"IF(I30=ラベル!$G$2,\"\",CHAR(10)&\"【\"&M30&\"】\"&REPT(\"　\",8-LEN(M30))&I30&REPT(\" \",22)&L30)","v":""},"258項",null,null,null,{"$f":"IF(I30=ラベル!$F$2,\"\",\"【\"&M30&\"】\"&\"+\"&K30)","v":""}]
[null,null,"挑発","戦士系職業向け",{"$f":"IF(COUNTIF(一般技能!$H$51:$H$56,C31)=0,0,VLOOKUP(C31,一般技能!$H$51:$J$56,3,FALSE))","v":0},{"$f":"IF(COUNTIF(一般技能!$H$59:$H$82,C31)=0,0,VLOOKUP(C31,一般技能!$H$59:$J$82,3,FALSE))","v":0},0,{"$f":"VLOOKUP(E31,固定値!$AA$2:$AB$7,2,FALSE)","v":"－－－"},{"$f":"VLOOKUP(G31,固定値!$AA$2:$AB$7,2,FALSE)","v":"－－－"},{"$f":"VLOOKUP(I31,固定値!$AG$1:$AI$7,IF(H31=ラベル!$G$2,2,3),FALSE)","v":0},{"$f":"VLOOKUP(I31,固定値!$BE$2:$BF$7,2,FALSE)","v":0},"261","挑発",{"$f":"IF(I31=ラベル!$G$2,\"\",CHAR(10)&\"【\"&C31&\"】\"&REPT(\"　\",11-LEN(C31))&\"●　　　　　\"&IF(K31>1,\"●\",\"○\")&\"　　　　　\"&IF(K31>2,\"●\",\"○\")&\"　　　　　\"&IF(K31>3,\"●\",\"○\")&\"　　 　　\"&IF(K31>4,\"●\",\"○\")&\"　 ／\")","v":""},{"$f":"IF(I31=ラベル!$G$2,\"\",CHAR(10)&\"【\"&M31&\"】\"&REPT(\"　\",8-LEN(M31))&I31&REPT(\" \",22)&L31)","v":""},"261項"]
[null,null,"鉄の拳","戦士系職業向け",{"$f":"IF(COUNTIF(一般技能!$H$51:$H$56,C32)=0,0,VLOOKUP(C32,一般技能!$H$51:$J$56,3,FALSE))","v":0},{"$f":"IF(COUNTIF(一般技能!$H$59:$H$82,C32)=0,0,VLOOKUP(C32,一般技能!$H$59:$J$82,3,FALSE))","v":0},0,{"$f":"VLOOKUP(E32,固定値!$AA$2:$AB$7,2,FALSE)","v":"－－－"},{"$f":"VLOOKUP(G32,固定値!$AA$2:$AB$7,2,FALSE)","v":"－－－"},{"$f":"VLOOKUP(I32,固定値!$AG$1:$AI$7,IF(H32=ラベル!$G$2,2,3),FALSE)","v":0},{"$f":"VLOOKUP(I32,固定値!$BE$2:$BF$7,2,FALSE)","v":0},"269","鉄の拳",{"$f":"IF(I32=ラベル!$G$2,\"\",CHAR(10)&\"【\"&C32&\"】\"&REPT(\"　\",11-LEN(C32))&\"●　　　　　\"&IF(K32>1,\"●\",\"○\")&\"　　　　　\"&IF(K32>2,\"●\",\"○\")&\"　　　　　\"&IF(K32>3,\"●\",\"○\")&\"　　 　　\"&IF(K32>4,\"●\",\"○\")&\"　 ／\")","v":""},{"$f":"IF(I32=ラベル!$G$2,\"\",CHAR(10)&\"【\"&M32&\"】\"&REPT(\"　\",8-LEN(M32))&I32&REPT(\" \",22)&L32)","v":""},"269項",null,null,null,null,{"$f":"IF(K32=0,-1,INDEX(V32:Z32,K32))","v":-1},1,2,4,6,8]
[null,null,"鉄壁","戦士系職業向け",{"$f":"IF(COUNTIF(一般技能!$H$51:$H$56,C33)=0,0,VLOOKUP(C33,一般技能!$H$51:$J$56,3,FALSE))","v":0},{"$f":"IF(COUNTIF(一般技能!$H$59:$H$82,C33)=0,0,VLOOKUP(C33,一般技能!$H$59:$J$82,3,FALSE))","v":0},0,{"$f":"VLOOKUP(E33,固定値!$AA$2:$AB$7,2,FALSE)","v":"－－－"},{"$f":"VLOOKUP(G33,固定値!$AA$2:$AB$7,2,FALSE)","v":"－－－"},{"$f":"VLOOKUP(I33,固定値!$AG$1:$AI$7,IF(H33=ラベル!$G$2,2,3),FALSE)","v":0},{"$f":"VLOOKUP(I33,固定値!$BE$2:$BF$7,2,FALSE)","v":0},"260","鉄壁",{"$f":"IF(I33=ラベル!$G$2,\"\",CHAR(10)&\"【\"&C33&\"】\"&REPT(\"　\",11-LEN(C33))&\"●　　　　　\"&IF(K33>1,\"●\",\"○\")&\"　　　　　\"&IF(K33>2,\"●\",\"○\")&\"　　　　　\"&IF(K33>3,\"●\",\"○\")&\"　　 　　\"&IF(K33>4,\"●\",\"○\")&\"　 ／\")","v":""},{"$f":"IF(I33=ラベル!$G$2,\"\",CHAR(10)&\"【\"&M33&\"】\"&REPT(\"　\",8-LEN(M33))&I33&REPT(\" \",22)&L33)","v":""},"260項"]
[null,null,"薙ぎ払い","戦士系職業向け",{"$f":"IF(COUNTIF(一般技能!$H$51:$H$56,C34)=0,0,VLOOKUP(C34,一般技能!$H$51:$J$56,3,FALSE))","v":0},{"$f":"IF(COUNTIF(一般技能!$H$59:$H$82,C34)=0,0,VLOOKUP(C34,一般技能!$H$59:$J$82,3,FALSE))","v":0},0,{"$f":"VLOOKUP(E34,固定値!$AA$2:$AB$7,2,FALSE)","v":"－－－"},{"$f":"VLOOKUP(G34,固定値!$AA$2:$AB$7,2,FALSE)","v":"－－－"},{"$f":"VLOOKUP(I34,固定値!$AG$1:$AI$7,IF(H34=ラベル!$G$2,2,3),FALSE)","v":0},{"$f":"VLOOKUP(I34,固定値!$BE$2:$BF$7,2,FALSE)","v":0},"272","薙ぎ払い",{"$f":"IF(I34=ラベル!$G$2,\"\",CHAR(10)&\"【\"&C34&\"】\"&REPT(\"　\",11-LEN(C34))&\"●　　　　　\"&IF(K34>1,\"●\",\"○\")&\"　　　　　\"&IF(K34>2,\"●\",\"○\")&\"　　　　　\"&IF(K34>3,\"●\",\"○\")&\"　　 　　\"&IF(K34>4,\"●\",\"○\")&\"　 ／\")","v":""},{"$f":"IF(I34=ラベル!$G$2,\"\",CHAR(10)&\"【\"&M34&\"】\"&REPT(\"　\",8-LEN(M34))&I34&REPT(\" \",22)&L34)","v":""},"272項"]
[null,null,"二刀流","戦士系職業向け",{"$f":"IF(COUNTIF(一般技能!$H$51:$H$56,C35)=0,0,VLOOKUP(C35,一般技能!$H$51:$J$56,3,FALSE))","v":0},{"$f":"IF(COUNTIF(一般技能!$H$59:$H$82,C35)=0,0,VLOOKUP(C35,一般技能!$H$59:$J$82,3,FALSE))","v":0},0,{"$f":"VLOOKUP(E35,固定値!$AA$2:$AB$7,2,FALSE)","v":"－－－"},{"$f":"VLOOKUP(G35,固定値!$AA$2:$AB$7,2,FALSE)","v":"－－－"},{"$f":"VLOOKUP(I35,固定値!$AG$1:$AI$7,IF(H35=ラベル!$G$2,2,3),FALSE)","v":0},{"$f":"VLOOKUP(I35,固定値!$BE$2:$BF$7,2,FALSE)","v":0},"271","二刀流",{"$f":"IF(I35=ラベル!$G$2,\"\",CHAR(10)&\"【\"&C35&\"】\"&REPT(\"　\",11-LEN(C35))&\"●　　　　　\"&IF(K35>1,\"●\",\"○\")&\"　　　　　\"&IF(K35>2,\"●\",\"○\")&\"　　　　　\"&IF(K35>3,\"●\",\"○\")&\"　　 　　\"&IF(K35>4,\"●\",\"○\")&\"　 ／\")","v":""},{"$f":"IF(I35=ラベル!$G$2,\"\",CHAR(10)&\"【\"&M35&\"】\"&REPT(\"　\",8-LEN(M35))&I35&REPT(\" \",22)&L35)","v":""},"271項"]
[null,null,"発勁","戦士系職業向け",{"$f":"IF(COUNTIF(一般技能!$H$51:$H$56,C36)=0,0,VLOOKUP(C36,一般技能!$H$51:$J$56,3,FALSE))","v":0},{"$f":"IF(COUNTIF(一般技能!$H$59:$H$82,C36)=0,0,VLOOKUP(C36,一般技能!$H$59:$J$82,3,FALSE))","v":0},0,{"$f":"VLOOKUP(E36,固定値!$AA$2:$AB$7,2,FALSE)","v":"－－－"},{"$f":"VLOOKUP(G36,固定値!$AA$2:$AB$7,2,FALSE)","v":"－－－"},{"$f":"VLOOKUP(I36,固定値!$AG$1:$AI$7,IF(H36=ラベル!$G$2,2,3),FALSE)","v":0},{"$f":"VLOOKUP(I36,固定値!$BE$2:$BF$7,2,FALSE)","v":0},"270","発勁",{"$f":"IF(I36=ラベル!$G$2,\"\",CHAR(10)&\"【\"&C36&\"】\"&REPT(\"　\",11-LEN(C36))&\"●　　　　　\"&IF(K36>1,\"●\",\"○\")&\"　　　　　\"&IF(K36>2,\"●\",\"○\")&\"　　　　　\"&IF(K36>3,\"●\",\"○\")&\"　　 　　\"&IF(K36>4,\"●\",\"○\")&\"　 ／\")","v":""},{"$f":"IF(I36=ラベル!$G$2,\"\",CHAR(10)&\"【\"&M36&\"】\"&REPT(\"　\",8-LEN(M36))&I36&REPT(\" \",22)&L36)","v":""},"270項",{"$f":"IF($K$36>0,\"【発勁】使用可能1点消耗するごとに、威力へのボーナスに追加で+1(最大で\"&能力値!D5&\"まで)\",\"\")","v":""},null,null,null,{"$f":"IF(K36=0,-1,INDEX(V36:Z36,K36))","v":-1},1,2,"1d3","1d6","1d6"]
[null,null,"武器：片手剣","戦士系職業向け",{"$f":"IF(COUNTIF(一般技能!$H$51:$H$56,C37)=0,0,VLOOKUP(C37,一般技能!$H$51:$J$56,3,FALSE))","v":0},{"$f":"IF(COUNTIF(一般技能!$H$59:$H$82,C37)=0,0,VLOOKUP(C37,一般技能!$H$59:$J$82,3,FALSE))","v":0},0,{"$f":"VLOOKUP(E37,固定値!$AA$2:$AB$7,2,FALSE)","v":"－－－"},{"$f":"VLOOKUP(G37,固定値!$AA$2:$AB$7,2,FALSE)","v":"－－－"},{"$f":"VLOOKUP(I37,固定値!$AG$1:$AI$7,IF(H37=ラベル!$G$2,2,3),FALSE)","v":0},{"$f":"VLOOKUP(I37,固定値!$BE$2:$BF$7,2,FALSE)","v":0},"257","武器：片手剣",{"$f":"IF(I37=ラベル!$G$2,\"\",CHAR(10)&\"【\"&C37&\"】\"&REPT(\"　\",11-LEN(C37))&\"●　　　　　\"&IF(K37>1,\"●\",\"○\")&\"　　　　　\"&IF(K37>2,\"●\",\"○\")&\"　　　　　\"&IF(K37>3,\"●\",\"○\")&\"　　 　　\"&IF(K37>4,\"●\",\"○\")&\"　 ／\")","v":""},{"$f":"IF(I37=ラベル!$G$2,\"\",CHAR(10)&\"【\"&M37&\"】\"&REPT(\"　\",8-LEN(M37))&I37&REPT(\" \",22)&L37)","v":""},"257項",{"$f":"装備!I21","v":0},{"$f":"IF(I37=ラベル!$G$2,\"\",CHAR(10)&\"【\"&M37&\"】\"&\"+\"&K37)&IF(Q37>0,\"【腕輪：\"&M37&\"+\"&Q37&\"】\",\"\")","v":""}]
[null,null,"武器：両手剣","戦士系職業向け",{"$f":"IF(COUNTIF(一般技能!$H$51:$H$56,C38)=0,0,VLOOKUP(C38,一般技能!$H$51:$J$56,3,FALSE))","v":0},{"$f":"IF(COUNTIF(一般技能!$H$59:$H$82,C38)=0,0,VLOOKUP(C38,一般技能!$H$59:$J$82,3,FALSE))","v":0},0,{"$f":"VLOOKUP(E38,固定値!$AA$2:$AB$7,2,FALSE)","v":"－－－"},{"$f":"VLOOKUP(G38,固定値!$AA$2:$AB$7,2,FALSE)","v":"－－－"},{"$f":"VLOOKUP(I38,固定値!$AG$1:$AI$7,IF(H38=ラベル!$G$2,2,3),FALSE)","v":0},{"$f":"VLOOKUP(I38,固定値!$BE$2:$BF$7,2,FALSE)","v":0},"257","武器：両手剣",{"$f":"IF(I38=ラベル!$G$2,\"\",CHAR(10)&\"【\"&C38&\"】\"&REPT(\"　\",11-LEN(C38))&\"●　　　　　\"&IF(K38>1,\"●\",\"○\")&\"　　　　　\"&IF(K38>2,\"●\",\"○\")&\"　　　　　\"&IF(K38>3,\"●\",\"○\")&\"　　 　　\"&IF(K38>4,\"●\",\"○\")&\"　 ／\")","v":""},{"$f":"IF(I38=ラベル!$G$2,\"\",CHAR(10)&\"【\"&M38&\"】\"&REPT(\"　\",8-LEN(M38))&I38&REPT(\" \",22)&L38)","v":""},"257項",{"$f":"装備!J21","v":0},{"$f":"IF(I38=ラベル!$G$2,\"\",CHAR(10)&\"【\"&M38&\"】\"&\"+\"&K38)&IF(Q38>0,\"【腕輪：\"&M38&\"+\"&Q38&\"】\",\"\")","v":""}]
[null,null,"武器：斧","戦士系職業向け",{"$f":"IF(COUNTIF(一般技能!$H$51:$H$56,C39)=0,0,VLOOKUP(C39,一般技能!$H$51:$J$56,3,FALSE))","v":0},{"$f":"IF(COUNTIF(一般技能!$H$59:$H$82,C39)=0,0,VLOOKUP(C39,一般技能!$H$59:$J$82,3,FALSE))","v":0},0,{"$f":"VLOOKUP(E39,固定値!$AA$2:$AB$7,2,FALSE)","v":"－－－"},{"$f":"VLOOKUP(G39,固定値!$AA$2:$AB$7,2,FALSE)","v":"－－－"},{"$f":"VLOOKUP(I39,固定値!$AG$1:$AI$7,IF(H39=ラベル!$G$2,2,3),FALSE)","v":0},{"$f":"VLOOKUP(I39,固定値!$BE$2:$BF$7,2,FALSE)","v":0},"257","武器：斧",{"$f":"IF(I39=ラベル!$G$2,\"\",CHAR(10)&\"【\"&C39&\"】\"&REPT(\"　\",11-LEN(C39))&\"●　　　　　\"&IF(K39>1,\"●\",\"○\")&\"　　　　　\"&IF(K39>2,\"●\",\"○\")&\"　　　　　\"&IF(K39>3,\"●\",\"○\")&\"　　 　　\"&IF(K39>4,\"●\",\"○\")&\"　 ／\")","v":""},{"$f":"IF(I39=ラベル!$G$2,\"\",CHAR(10)&\"【\"&M39&\"】\"&REPT(\"　\",8-LEN(M39))&I39&REPT(\" \",22)&L39)","v":""},"257項",{"$f":"装備!K21","v":0},{"$f":"IF(I39=ラベル!$G$2,\"\",CHAR(10)&\"【\"&M39&\"】\"&\"+\"&K39)&IF(Q39>0,\"【腕輪：\"&M39&\"+\"&Q39&\"】\",\"\")","v":""}]
[null,null,"武器：槍","戦士系職業向け",{"$f":"IF(COUNTIF(一般技能!$H$51:$H$56,C40)=0,0,VLOOKUP(C40,一般技能!$H$51:$J$56,3,FALSE))","v":0},{"$f":"IF(COUNTIF(一般技能!$H$59:$H$82,C40)=0,0,VLOOKUP(C40,一般技能!$H$59:$J$82,3,FALSE))","v":0},0,{"$f":"VLOOKUP(E40,固定値!$AA$2:$AB$7,2,FALSE)","v":"－－－"},{"$f":"VLOOKUP(G40,固定値!$AA$2:$AB$7,2,FALSE)","v":"－－－"},{"$f":"VLOOKUP(I40,固定値!$AG$1:$AI$7,IF(H40=ラベル!$G$2,2,3),FALSE)","v":0},{"$f":"VLOOKUP(I40,固定値!$BE$2:$BF$7,2,FALSE)","v":0},"257","武器：槍",{"$f":"IF(I40=ラベル!$G$2,\"\",CHAR(10)&\"【\"&C40&\"】\"&REPT(\"　\",11-LEN(C40))&\"●　　　　　\"&IF(K40>1,\"●\",\"○\")&\"　　　　　\"&IF(K40>2,\"●\",\"○\")&\"　　　　　\"&IF(K40>3,\"●\",\"○\")&\"　　 　　\"&IF(K40>4,\"●\",\"○\")&\"　 ／\")","v":""},{"$f":"IF(I40=ラベル!$G$2,\"\",CHAR(10)&\"【\"&M40&\"】\"&REPT(\"　\",8-LEN(M40))&I40&REPT(\" \",22)&L40)","v":""},"257項",{"$f":"装備!L21","v":0},{"$f":"IF(I40=ラベル!$G$2,\"\",CHAR(10)&\"【\"&M40&\"】\"&\"+\"&K40)&IF(Q40>0,\"【腕輪：\"&M40&\"+\"&Q40&\"】\",\"\")","v":""}]
[null,null,"武器：戦槌","戦士系職業向け",{"$f":"IF(COUNTIF(一般技能!$H$51:$H$56,C41)=0,0,VLOOKUP(C41,一般技能!$H$51:$J$56,3,FALSE))","v":0},{"$f":"IF(COUNTIF(一般技能!$H$59:$H$82,C41)=0,0,VLOOKUP(C41,一般技能!$H$59:$J$82,3,FALSE))","v":0},0,{"$f":"VLOOKUP(E41,固定値!$AA$2:$AB$7,2,FALSE)","v":"－－－"},{"$f":"VLOOKUP(G41,固定値!$AA$2:$AB$7,2,FALSE)","v":"－－－"},{"$f":"VLOOKUP(I41,固定値!$AG$1:$AI$7,IF(H41=ラベル!$G$2,2,3),FALSE)","v":0},{"$f":"VLOOKUP(I41,固定値!$BE$2:$BF$7,2,FALSE)","v":0},"257","武器：戦槌",{"$f":"IF(I41=ラベル!$G$2,\"\",CHAR(10)&\"【\"&C41&\"】\"&REPT(\"　\",11-LEN(C41))&\"●　　　　　\"&IF(K41>1,\"●\",\"○\")&\"　　　　　\"&IF(K41>2,\"●\",\"○\")&\"　　　　　\"&IF(K41>3,\"●\",\"○\")&\"　　 　　\"&IF(K41>4,\"●\",\"○\")&\"　 ／\")","v":""},{"$f":"IF(I41=ラベル!$G$2,\"\",CHAR(10)&\"【\"&M41&\"】\"&REPT(\"　\",8-LEN(M41))&I41&REPT(\" \",22)&L41)","v":""},"257項",{"$f":"装備!M21","v":0},{"$f":"IF(I41=ラベル!$G$2,\"\",CHAR(10)&\"【\"&M41&\"】\"&\"+\"&K41)&IF(Q41>0,\"【腕輪：\"&M41&\"+\"&Q41&\"】\",\"\")","v":""}]
[null,null,"武器：棍杖","戦士系職業向け",{"$f":"IF(COUNTIF(一般技能!$H$51:$H$56,C42)=0,0,VLOOKUP(C42,一般技能!$H$51:$J$56,3,FALSE))","v":0},{"$f":"IF(COUNTIF(一般技能!$H$59:$H$82,C42)=0,0,VLOOKUP(C42,一般技能!$H$59:$J$82,3,FALSE))","v":0},0,{"$f":"VLOOKUP(E42,固定値!$AA$2:$AB$7,2,FALSE)","v":"－－－"},{"$f":"VLOOKUP(G42,固定値!$AA$2:$AB$7,2,FALSE)","v":"－－－"},{"$f":"VLOOKUP(I42,固定値!$AG$1:$AI$7,IF(H42=ラベル!$G$2,2,3),FALSE)","v":0},{"$f":"VLOOKUP(I42,固定値!$BE$2:$BF$7,2,FALSE)","v":0},"257","武器：棍杖",{"$f":"IF(I42=ラベル!$G$2,\"\",CHAR(10)&\"【\"&C42&\"】\"&REPT(\"　\",11-LEN(C42))&\"●　　　　　\"&IF(K42>1,\"●\",\"○\")&\"　　　　　\"&IF(K42>2,\"●\",\"○\")&\"　　　　　\"&IF(K42>3,\"●\",\"○\")&\"　　 　　\"&IF(K42>4,\"●\",\"○\")&\"　 ／\")","v":""},{"$f":"IF(I42=ラベル!$G$2,\"\",CHAR(10)&\"【\"&M42&\"】\"&REPT(\"　\",8-LEN(M42))&I42&REPT(\" \",22)&L42)","v":""},"257項",{"$f":"装備!N21","v":0},{"$f":"IF(I42=ラベル!$G$2,\"\",CHAR(10)&\"【\"&M42&\"】\"&\"+\"&K42)&IF(Q42>0,\"【腕輪：\"&M42&\"+\"&Q42&\"】\",\"\")","v":""}]
[null,null,"武器：格闘武器","戦士系職業向け",{"$f":"IF(COUNTIF(一般技能!$H$51:$H$56,C43)=0,0,VLOOKUP(C43,一般技能!$H$51:$J$56,3,FALSE))","v":0},{"$f":"IF(COUNTIF(一般技能!$H$59:$H$82,C43)=0,0,VLOOKUP(C43,一般技能!$H$59:$J$82,3,FALSE))","v":0},0,{"$f":"VLOOKUP(E43,固定値!$AA$2:$AB$7,2,FALSE)","v":"－－－"},{"$f":"VLOOKUP(G43,固定値!$AA$2:$AB$7,2,FALSE)","v":"－－－"},{"$f":"VLOOKUP(I43,固定値!$AG$1:$AI$7,IF(H43=ラベル!$G$2,2,3),FALSE)","v":0},{"$f":"VLOOKUP(I43,固定値!$BE$2:$BF$7,2,FALSE)","v":0},"257","武器：格闘",{"$f":"IF(I43=ラベル!$G$2,\"\",CHAR(10)&\"【\"&C43&\"】\"&REPT(\"　\",11-LEN(C43))&\"●　　　　　\"&IF(K43>1,\"●\",\"○\")&\"　　　　　\"&IF(K43>2,\"●\",\"○\")&\"　　　　　\"&IF(K43>3,\"●\",\"○\")&\"　　 　　\"&IF(K43>4,\"●\",\"○\")&\"　 ／\")","v":""},{"$f":"IF(I43=ラベル!$G$2,\"\",CHAR(10)&\"【\"&M43&\"】\"&REPT(\"　\",8-LEN(M43))&I43&REPT(\" \",22)&L43)","v":""},"257項",{"$f":"装備!O21","v":0},{"$f":"IF(I43=ラベル!$G$2,\"\",CHAR(10)&\"【\"&M43&\"】\"&\"+\"&K43)&IF(Q43>0,\"【腕輪：\"&M43&\"+\"&Q43&\"】\",\"\")","v":""}]
[null,null,"武器：投擲武器","戦士系職業向け",{"$f":"IF(COUNTIF(一般技能!$H$51:$H$56,C44)=0,0,VLOOKUP(C44,一般技能!$H$51:$J$56,3,FALSE))","v":1},{"$f":"IF(COUNTIF(一般技能!$H$59:$H$82,C44)=0,0,VLOOKUP(C44,一般技能!$H$59:$J$82,3,FALSE))","v":0},1,{"$f":"VLOOKUP(E44,固定値!$AA$2:$AB$7,2,FALSE)","v":"初歩"},{"$f":"VLOOKUP(G44,固定値!$AA$2:$AB$7,2,FALSE)","v":"初歩"},{"$f":"VLOOKUP(I44,固定値!$AG$1:$AI$7,IF(H44=ラベル!$G$2,2,3),FALSE)","v":0},{"$f":"VLOOKUP(I44,固定値!$BE$2:$BF$7,2,FALSE)","v":1},"257","武器：投擲",{"$f":"IF(I44=ラベル!$G$2,\"\",CHAR(10)&\"【\"&C44&\"】\"&REPT(\"　\",11-LEN(C44))&\"●　　　　　\"&IF(K44>1,\"●\",\"○\")&\"　　　　　\"&IF(K44>2,\"●\",\"○\")&\"　　　　　\"&IF(K44>3,\"●\",\"○\")&\"　　 　　\"&IF(K44>4,\"●\",\"○\")&\"　 ／\")","v":"\n【武器：投擲武器】　　　　●　　　　　○　　　　　○　　　　　○　　 　　○　 ／"},{"$f":"IF(I44=ラベル!$G$2,\"\",CHAR(10)&\"【\"&M44&\"】\"&REPT(\"　\",8-LEN(M44))&I44&REPT(\" \",22)&L44)","v":"\n【武器：投擲】　　　初歩                      257"},"257項",{"$f":"装備!P21","v":0},{"$f":"IF(I44=ラベル!$G$2,\"\",CHAR(10)&\"【\"&M44&\"】\"&\"+\"&K44)&IF(Q44>0,\"【腕輪：\"&M44&\"+\"&Q44&\"】\",\"\")","v":"\n【武器：投擲】+1"}]
[null,null,"武器：弩弓","戦士系職業向け",{"$f":"IF(COUNTIF(一般技能!$H$51:$H$56,C45)=0,0,VLOOKUP(C45,一般技能!$H$51:$J$56,3,FALSE))","v":0},{"$f":"IF(COUNTIF(一般技能!$H$59:$H$82,C45)=0,0,VLOOKUP(C45,一般技能!$H$59:$J$82,3,FALSE))","v":0},0,{"$f":"VLOOKUP(E45,固定値!$AA$2:$AB$7,2,FALSE)","v":"－－－"},{"$f":"VLOOKUP(G45,固定値!$AA$2:$AB$7,2,FALSE)","v":"－－－"},{"$f":"VLOOKUP(I45,固定値!$AG$1:$AI$7,IF(H45=ラベル!$G$2,2,3),FALSE)","v":0},{"$f":"VLOOKUP(I45,固定値!$BE$2:$BF$7,2,FALSE)","v":0},"257","武器：弩弓",{"$f":"IF(I45=ラベル!$G$2,\"\",CHAR(10)&\"【\"&C45&\"】\"&REPT(\"　\",11-LEN(C45))&\"●　　　　　\"&IF(K45>1,\"●\",\"○\")&\"　　　　　\"&IF(K45>2,\"●\",\"○\")&\"　　　　　\"&IF(K45>3,\"●\",\"○\")&\"　　 　　\"&IF(K45>4,\"●\",\"○\")&\"　 ／\")","v":""},{"$f":"IF(I45=ラベル!$G$2,\"\",CHAR(10)&\"【\"&M45&\"】\"&REPT(\"　\",8-LEN(M45))&I45&REPT(\" \",22)&L45)","v":""},"257項",{"$f":"装備!Q21","v":0},{"$f":"IF(I45=ラベル!$G$2,\"\",CHAR(10)&\"【\"&M45&\"】\"&\"+\"&K45)&IF(Q45>0,\"【腕輪：\"&M45&\"+\"&Q45&\"】\",\"\")","v":""}]
[null,null,"見切り","戦士系職業向け",{"$f":"IF(COUNTIF(一般技能!$H$51:$H$56,C46)=0,0,VLOOKUP(C46,一般技能!$H$51:$J$56,3,FALSE))","v":0},{"$f":"IF(COUNTIF(一般技能!$H$59:$H$82,C46)=0,0,VLOOKUP(C46,一般技能!$H$59:$J$82,3,FALSE))","v":0},0,{"$f":"VLOOKUP(E46,固定値!$AA$2:$AB$7,2,FALSE)","v":"－－－"},{"$f":"VLOOKUP(G46,固定値!$AA$2:$AB$7,2,FALSE)","v":"－－－"},{"$f":"VLOOKUP(I46,固定値!$AG$1:$AI$7,IF(H46=ラベル!$G$2,2,3),FALSE)","v":0},{"$f":"VLOOKUP(I46,固定値!$BE$2:$BF$7,2,FALSE)","v":0},"269","見切り",{"$f":"IF(I46=ラベル!$G$2,\"\",CHAR(10)&\"【\"&C46&\"】\"&REPT(\"　\",11-LEN(C46))&\"●　　　　　\"&IF(K46>1,\"●\",\"○\")&\"　　　　　\"&IF(K46>2,\"●\",\"○\")&\"　　　　　\"&IF(K46>3,\"●\",\"○\")&\"　　 　　\"&IF(K46>4,\"●\",\"○\")&\"　 ／\")","v":""},{"$f":"IF(I46=ラベル!$G$2,\"\",CHAR(10)&\"【\"&M46&\"】\"&REPT(\"　\",8-LEN(M46))&I46&REPT(\" \",22)&L46)","v":""},"269項",{"$f":"IF($K$46>0,\"【\"&C46&\"】により大成功\"&VLOOKUP($I$46,固定値!$EI$2:$EK$7,2,FALSE)&\"、大失敗\"&VLOOKUP($I$46,固定値!$EI$2:$EK$7,3,FALSE)&\"で回避判定が可能。\",\"\")","v":""}]
[null,null,"鎧：衣鎧","戦士系職業向け",{"$f":"IF(COUNTIF(一般技能!$H$51:$H$56,C47)=0,0,VLOOKUP(C47,一般技能!$H$51:$J$56,3,FALSE))","v":0},{"$f":"IF(COUNTIF(一般技能!$H$59:$H$82,C47)=0,0,VLOOKUP(C47,一般技能!$H$59:$J$82,3,FALSE))","v":0},0,{"$f":"VLOOKUP(E47,固定値!$AA$2:$AB$7,2,FALSE)","v":"－－－"},{"$f":"VLOOKUP(G47,固定値!$AA$2:$AB$7,2,FALSE)","v":"－－－"},{"$f":"VLOOKUP(I47,固定値!$AG$1:$AI$7,IF(H47=ラベル!$G$2,2,3),FALSE)","v":0},{"$f":"VLOOKUP(I47,固定値!$BE$2:$BF$7,2,FALSE)","v":0},"257","鎧：衣鎧",{"$f":"IF(I47=ラベル!$G$2,\"\",CHAR(10)&\"【\"&C47&\"】\"&REPT(\"　\",11-LEN(C47))&\"●　　　　　\"&IF(K47>1,\"●\",\"○\")&\"　　　　　\"&IF(K47>2,\"●\",\"○\")&\"　　　　　\"&IF(K47>3,\"●\",\"○\")&\"　　 　　\"&IF(K47>4,\"●\",\"○\")&\"　 ／\")","v":""},{"$f":"IF(I47=ラベル!$G$2,\"\",CHAR(10)&\"【\"&M47&\"】\"&REPT(\"　\",8-LEN(M47))&I47&REPT(\" \",22)&L47)","v":""},"257項",null,null,{"$f":"IF(I47=ラベル!$F$2,\"\",\"【\"&M47&\"】\"&\"+\"&K47)","v":""}]
[null,null,"鎧：軽鎧","戦士系職業向け",{"$f":"IF(COUNTIF(一般技能!$H$51:$H$56,C48)=0,0,VLOOKUP(C48,一般技能!$H$51:$J$56,3,FALSE))","v":0},{"$f":"IF(COUNTIF(一般技能!$H$59:$H$82,C48)=0,0,VLOOKUP(C48,一般技能!$H$59:$J$82,3,FALSE))","v":0},0,{"$f":"VLOOKUP(E48,固定値!$AA$2:$AB$7,2,FALSE)","v":"－－－"},{"$f":"VLOOKUP(G48,固定値!$AA$2:$AB$7,2,FALSE)","v":"－－－"},{"$f":"VLOOKUP(I48,固定値!$AG$1:$AI$7,IF(H48=ラベル!$G$2,2,3),FALSE)","v":0},{"$f":"VLOOKUP(I48,固定値!$BE$2:$BF$7,2,FALSE)","v":0},"257","鎧：軽鎧",{"$f":"IF(I48=ラベル!$G$2,\"\",CHAR(10)&\"【\"&C48&\"】\"&REPT(\"　\",11-LEN(C48))&\"●　　　　　\"&IF(K48>1,\"●\",\"○\")&\"　　　　　\"&IF(K48>2,\"●\",\"○\")&\"　　　　　\"&IF(K48>3,\"●\",\"○\")&\"　　 　　\"&IF(K48>4,\"●\",\"○\")&\"　 ／\")","v":""},{"$f":"IF(I48=ラベル!$G$2,\"\",CHAR(10)&\"【\"&M48&\"】\"&REPT(\"　\",8-LEN(M48))&I48&REPT(\" \",22)&L48)","v":""},"257項",null,null,{"$f":"IF(I48=ラベル!$F$2,\"\",\"【\"&M48&\"】\"&\"+\"&K48)","v":""}]
[null,null,"鎧：重鎧","戦士系職業向け",{"$f":"IF(COUNTIF(一般技能!$H$51:$H$56,C49)=0,0,VLOOKUP(C49,一般技能!$H$51:$J$56,3,FALSE))","v":0},{"$f":"IF(COUNTIF(一般技能!$H$59:$H$82,C49)=0,0,VLOOKUP(C49,一般技能!$H$59:$J$82,3,FALSE))","v":0},0,{"$f":"VLOOKUP(E49,固定値!$AA$2:$AB$7,2,FALSE)","v":"－－－"},{"$f":"VLOOKUP(G49,固定値!$AA$2:$AB$7,2,FALSE)","v":"－－－"},{"$f":"VLOOKUP(I49,固定値!$AG$1:$AI$7,IF(H49=ラベル!$G$2,2,3),FALSE)","v":0},{"$f":"VLOOKUP(I49,固定値!$BE$2:$BF$7,2,FALSE)","v":0},"257","鎧：重鎧",{"$f":"IF(I49=ラベル!$G$2,\"\",CHAR(10)&\"【\"&C49&\"】\"&REPT(\"　\",11-LEN(C49))&\"●　　　　　\"&IF(K49>1,\"●\",\"○\")&\"　　　　　\"&IF(K49>2,\"●\",\"○\")&\"　　　　　\"&IF(K49>3,\"●\",\"○\")&\"　　 　　\"&IF(K49>4,\"●\",\"○\")&\"　 ／\")","v":""},{"$f":"IF(I49=ラベル!$G$2,\"\",CHAR(10)&\"【\"&M49&\"】\"&REPT(\"　\",8-LEN(M49))&I49&REPT(\" \",22)&L49)","v":""},"257項",null,null,{"$f":"IF(I49=ラベル!$F$2,\"\",\"【\"&M49&\"】\"&\"+\"&K49)","v":""}]
[null,null,"火の遣い手","呪文遣い系職業向け",{"$f":"IF(COUNTIF(一般技能!$H$51:$H$56,C50)=0,0,VLOOKUP(C50,一般技能!$H$51:$J$56,3,FALSE))","v":0},{"$f":"IF(COUNTIF(一般技能!$H$59:$H$82,C50)=0,0,VLOOKUP(C50,一般技能!$H$59:$J$82,3,FALSE))","v":0},0,{"$f":"VLOOKUP(E50,固定値!$AA$2:$AB$7,2,FALSE)","v":"－－－"},{"$f":"VLOOKUP(G50,固定値!$AA$2:$AB$7,2,FALSE)","v":"－－－"},{"$f":"VLOOKUP(I50,固定値!$AG$1:$AI$7,IF(H50=ラベル!$G$2,2,3),FALSE)","v":0},{"$f":"VLOOKUP(I50,固定値!$BE$2:$BF$7,2,FALSE)","v":0},"273","火の遣い手",{"$f":"IF(I50=ラベル!$G$2,\"\",CHAR(10)&\"【\"&C50&\"】\"&REPT(\"　\",11-LEN(C50))&\"●　　　　　\"&IF(K50>1,\"●\",\"○\")&\"　　　　　\"&IF(K50>2,\"●\",\"○\")&\"　　　　　\"&IF(K50>3,\"●\",\"○\")&\"　　 　　\"&IF(K50>4,\"●\",\"○\")&\"　 ／\")","v":""},{"$f":"IF(I50=ラベル!$G$2,\"\",CHAR(10)&\"【\"&M50&\"】\"&REPT(\"　\",8-LEN(M50))&I50&REPT(\" \",22)&L50)","v":""},"273項",{"$f":"IF(I50=ラベル!$G$2,\"\",CHAR(10)&\"【\"&M50&\"】\"&\"大成功：\"&VLOOKUP(I50,固定値!$EB$2:$ED$7,2,FALSE)&\"/効果値+\"&VLOOKUP(I50,固定値!$EB$2:$ED$7,3,FALSE))","v":""}]
[null,null,"水の遣い手","呪文遣い系職業向け",{"$f":"IF(COUNTIF(一般技能!$H$51:$H$56,C51)=0,0,VLOOKUP(C51,一般技能!$H$51:$J$56,3,FALSE))","v":0},{"$f":"IF(COUNTIF(一般技能!$H$59:$H$82,C51)=0,0,VLOOKUP(C51,一般技能!$H$59:$J$82,3,FALSE))","v":0},0,{"$f":"VLOOKUP(E51,固定値!$AA$2:$AB$7,2,FALSE)","v":"－－－"},{"$f":"VLOOKUP(G51,固定値!$AA$2:$AB$7,2,FALSE)","v":"－－－"},{"$f":"VLOOKUP(I51,固定値!$AG$1:$AI$7,IF(H51=ラベル!$G$2,2,3),FALSE)","v":0},{"$f":"VLOOKUP(I51,固定値!$BE$2:$BF$7,2,FALSE)","v":0},"273","水の遣い手",{"$f":"IF(I51=ラベル!$G$2,\"\",CHAR(10)&\"【\"&C51&\"】\"&REPT(\"　\",11-LEN(C51))&\"●　　　　　\"&IF(K51>1,\"●\",\"○\")&\"　　　　　\"&IF(K51>2,\"●\",\"○\")&\"　　　　　\"&IF(K51>3,\"●\",\"○\")&\"　　 　　\"&IF(K51>4,\"●\",\"○\")&\"　 ／\")","v":""},{"$f":"IF(I51=ラベル!$G$2,\"\",CHAR(10)&\"【\"&M51&\"】\"&REPT(\"　\",8-LEN(M51))&I51&REPT(\" \",22)&L51)","v":""},"273項",{"$f":"IF(I51=ラベル!$G$2,\"\",CHAR(10)&\"【\"&M51&\"】\"&\"大成功：\"&VLOOKUP(I51,固定値!$EB$2:$ED$7,2,FALSE)&\"/効果値+\"&VLOOKUP(I51,固定値!$EB$2:$ED$7,3,FALSE))","v":""}]
[null,null,"風の遣い手","呪文遣い系職業向け",{"$f":"IF(COUNTIF(一般技能!$H$51:$H$56,C52)=0,0,VLOOKUP(C52,一般技能!$H$51:$J$56,3,FALSE))","v":0},{"$f":"IF(COUNTIF(一般技能!$H$59:$H$82,C52)=0,0,VLOOKUP(C52,一般技能!$H$59:$J$82,3,FALSE))","v":0},0,{"$f":"VLOOKUP(E52,固定値!$AA$2:$AB$7,2,FALSE)","v":"－－－"},{"$f":"VLOOKUP(G52,固定値!$AA$2:$AB$7,2,FALSE)","v":"－－－"},{"$f":"VLOOKUP(I52,固定値!$AG$1:$AI$7,IF(H52=ラベル!$G$2,2,3),FALSE)","v":0},{"$f":"VLOOKUP(I52,固定値!$BE$2:$BF$7,2,FALSE)","v":0},"273","風の遣い手",{"$f":"IF(I52=ラベル!$G$2,\"\",CHAR(10)&\"【\"&C52&\"】\"&REPT(\"　\",11-LEN(C52))&\"●　　　　　\"&IF(K52>1,\"●\",\"○\")&\"　　　　　\"&IF(K52>2,\"●\",\"○\")&\"　　　　　\"&IF(K52>3,\"●\",\"○\")&\"　　 　　\"&IF(K52>4,\"●\",\"○\")&\"　 ／\")","v":""},{"$f":"IF(I52=ラベル!$G$2,\"\",CHAR(10)&\"【\"&M52&\"】\"&REPT(\"　\",8-LEN(M52))&I52&REPT(\" \",22)&L52)","v":""},"273項",{"$f":"IF(I52=ラベル!$G$2,\"\",CHAR(10)&\"【\"&M52&\"】\"&\"大成功：\"&VLOOKUP(I52,固定値!$EB$2:$ED$7,2,FALSE)&\"/効果値+\"&VLOOKUP(I52,固定値!$EB$2:$ED$7,3,FALSE))","v":""}]
[null,null,"土の遣い手","呪文遣い系職業向け",{"$f":"IF(COUNTIF(一般技能!$H$51:$H$56,C53)=0,0,VLOOKUP(C53,一般技能!$H$51:$J$56,3,FALSE))","v":0},{"$f":"IF(COUNTIF(一般技能!$H$59:$H$82,C53)=0,0,VLOOKUP(C53,一般技能!$H$59:$J$82,3,FALSE))","v":0},0,{"$f":"VLOOKUP(E53,固定値!$AA$2:$AB$7,2,FALSE)","v":"－－－"},{"$f":"VLOOKUP(G53,固定値!$AA$2:$AB$7,2,FALSE)","v":"－－－"},{"$f":"VLOOKUP(I53,固定値!$AG$1:$AI$7,IF(H53=ラベル!$G$2,2,3),FALSE)","v":0},{"$f":"VLOOKUP(I53,固定値!$BE$2:$BF$7,2,FALSE)","v":0},"273","土の遣い手",{"$f":"IF(I53=ラベル!$G$2,\"\",CHAR(10)&\"【\"&C53&\"】\"&REPT(\"　\",11-LEN(C53))&\"●　　　　　\"&IF(K53>1,\"●\",\"○\")&\"　　　　　\"&IF(K53>2,\"●\",\"○\")&\"　　　　　\"&IF(K53>3,\"●\",\"○\")&\"　　 　　\"&IF(K53>4,\"●\",\"○\")&\"　 ／\")","v":""},{"$f":"IF(I53=ラベル!$G$2,\"\",CHAR(10)&\"【\"&M53&\"】\"&REPT(\"　\",8-LEN(M53))&I53&REPT(\" \",22)&L53)","v":""},"273項",{"$f":"IF(I53=ラベル!$G$2,\"\",CHAR(10)&\"【\"&M53&\"】\"&\"大成功：\"&VLOOKUP(I53,固定値!$EB$2:$ED$7,2,FALSE)&\"/効果値+\"&VLOOKUP(I53,固定値!$EB$2:$ED$7,3,FALSE))","v":""}]
[null,null,"生命の遣い手","呪文遣い系職業向け",{"$f":"IF(COUNTIF(一般技能!$H$51:$H$56,C54)=0,0,VLOOKUP(C54,一般技能!$H$51:$J$56,3,FALSE))","v":0},{"$f":"IF(COUNTIF(一般技能!$H$59:$H$82,C54)=0,0,VLOOKUP(C54,一般技能!$H$59:$J$82,3,FALSE))","v":0},0,{"$f":"VLOOKUP(E54,固定値!$AA$2:$AB$7,2,FALSE)","v":"－－－"},{"$f":"VLOOKUP(G54,固定値!$AA$2:$AB$7,2,FALSE)","v":"－－－"},{"$f":"VLOOKUP(I54,固定値!$AG$1:$AI$7,IF(H54=ラベル!$G$2,2,3),FALSE)","v":0},{"$f":"VLOOKUP(I54,固定値!$BE$2:$BF$7,2,FALSE)","v":0},"273","生命の遣い手",{"$f":"IF(I54=ラベル!$G$2,\"\",CHAR(10)&\"【\"&C54&\"】\"&REPT(\"　\",11-LEN(C54))&\"●　　　　　\"&IF(K54>1,\"●\",\"○\")&\"　　　　　\"&IF(K54>2,\"●\",\"○\")&\"　　　　　\"&IF(K54>3,\"●\",\"○\")&\"　　 　　\"&IF(K54>4,\"●\",\"○\")&\"　 ／\")","v":""},{"$f":"IF(I54=ラベル!$G$2,\"\",CHAR(10)&\"【\"&M54&\"】\"&REPT(\"　\",8-LEN(M54))&I54&REPT(\" \",22)&L54)","v":""},"273項",{"$f":"IF(I54=ラベル!$G$2,\"\",CHAR(10)&\"【\"&M54&\"】\"&\"大成功：\"&VLOOKUP(I54,固定値!$EB$2:$ED$7,2,FALSE)&\"/効果値+\"&VLOOKUP(I54,固定値!$EB$2:$ED$7,3,FALSE))","v":""}]
[null,null,"怪物知識","呪文遣い系職業向け",{"$f":"IF(COUNTIF(一般技能!$H$51:$H$56,C55)=0,0,VLOOKUP(C55,一般技能!$H$51:$J$56,3,FALSE))","v":0},{"$f":"IF(COUNTIF(一般技能!$H$59:$H$82,C55)=0,0,VLOOKUP(C55,一般技能!$H$59:$J$82,3,FALSE))","v":0},0,{"$f":"VLOOKUP(E55,固定値!$AA$2:$AB$7,2,FALSE)","v":"－－－"},{"$f":"VLOOKUP(G55,固定値!$AA$2:$AB$7,2,FALSE)","v":"－－－"},{"$f":"VLOOKUP(I55,固定値!$AG$1:$AI$7,IF(H55=ラベル!$G$2,2,3),FALSE)","v":0},{"$f":"VLOOKUP(I55,固定値!$BE$2:$BF$7,2,FALSE)","v":0},"273","怪物知識",{"$f":"IF(I55=ラベル!$G$2,\"\",CHAR(10)&\"【\"&C55&\"】\"&REPT(\"　\",11-LEN(C55))&\"●　　　　　\"&IF(K55>1,\"●\",\"○\")&\"　　　　　\"&IF(K55>2,\"●\",\"○\")&\"　　　　　\"&IF(K55>3,\"●\",\"○\")&\"　　 　　\"&IF(K55>4,\"●\",\"○\")&\"　 ／\")","v":""},{"$f":"IF(I55=ラベル!$G$2,\"\",CHAR(10)&\"【\"&M55&\"】\"&REPT(\"　\",8-LEN(M55))&I55&REPT(\" \",22)&L55)","v":""},"273項"]
[null,null,"呪文熟達：攻撃呪文","呪文遣い系職業向け",{"$f":"IF(COUNTIF(一般技能!$H$51:$H$56,C56)=0,0,VLOOKUP(C56,一般技能!$H$51:$J$56,3,FALSE))","v":0},{"$f":"IF(COUNTIF(一般技能!$H$59:$H$82,C56)=0,0,VLOOKUP(C56,一般技能!$H$59:$J$82,3,FALSE))","v":0},0,{"$f":"VLOOKUP(E56,固定値!$AA$2:$AB$7,2,FALSE)","v":"－－－"},{"$f":"VLOOKUP(G56,固定値!$AA$2:$AB$7,2,FALSE)","v":"－－－"},{"$f":"VLOOKUP(I56,固定値!$AG$1:$AI$7,IF(H56=ラベル!$G$2,2,3),FALSE)","v":0},{"$f":"VLOOKUP(I56,固定値!$BE$2:$BF$7,2,FALSE)","v":0},"273","熟達：攻撃呪文",{"$f":"IF(I56=ラベル!$G$2,\"\",CHAR(10)&\"【\"&C56&\"】\"&REPT(\"　\",11-LEN(C56))&\"●　　　　　\"&IF(K56>1,\"●\",\"○\")&\"　　　　　\"&IF(K56>2,\"●\",\"○\")&\"　　　　　\"&IF(K56>3,\"●\",\"○\")&\"　　 　　\"&IF(K56>4,\"●\",\"○\")&\"　 ／\")","v":""},{"$f":"IF(I56=ラベル!$G$2,\"\",CHAR(10)&\"【\"&M56&\"】\"&REPT(\"　\",8-LEN(M56))&I56&REPT(\" \",22)&L56)","v":""},"273項",{"$f":"IF(I56=ラベル!$G$2,\"\",CHAR(10)&\"【\"&M56&\"】\"&\"+\"&K56)","v":""}]
[null,null,"呪文熟達：付与呪文","呪文遣い系職業向け",{"$f":"IF(COUNTIF(一般技能!$H$51:$H$56,C57)=0,0,VLOOKUP(C57,一般技能!$H$51:$J$56,3,FALSE))","v":0},{"$f":"IF(COUNTIF(一般技能!$H$59:$H$82,C57)=0,0,VLOOKUP(C57,一般技能!$H$59:$J$82,3,FALSE))","v":0},0,{"$f":"VLOOKUP(E57,固定値!$AA$2:$AB$7,2,FALSE)","v":"－－－"},{"$f":"VLOOKUP(G57,固定値!$AA$2:$AB$7,2,FALSE)","v":"－－－"},{"$f":"VLOOKUP(I57,固定値!$AG$1:$AI$7,IF(H57=ラベル!$G$2,2,3),FALSE)","v":0},{"$f":"VLOOKUP(I57,固定値!$BE$2:$BF$7,2,FALSE)","v":0},"273","熟達：付与呪文",{"$f":"IF(I57=ラベル!$G$2,\"\",CHAR(10)&\"【\"&C57&\"】\"&REPT(\"　\",11-LEN(C57))&\"●　　　　　\"&IF(K57>1,\"●\",\"○\")&\"　　　　　\"&IF(K57>2,\"●\",\"○\")&\"　　　　　\"&IF(K57>3,\"●\",\"○\")&\"　　 　　\"&IF(K57>4,\"●\",\"○\")&\"　 ／\")","v":""},{"$f":"IF(I57=ラベル!$G$2,\"\",CHAR(10)&\"【\"&M57&\"】\"&REPT(\"　\",8-LEN(M57))&I57&REPT(\" \",22)&L57)","v":""},"273項",{"$f":"IF(I57=ラベル!$G$2,\"\",CHAR(10)&\"【\"&M57&\"】\"&\"+\"&K57)","v":""}]
[null,null,"呪文熟達：創造呪文","呪文遣い系職業向け",{"$f":"IF(COUNTIF(一般技能!$H$51:$H$56,C58)=0,0,VLOOKUP(C58,一般技能!$H$51:$J$56,3,FALSE))","v":0},{"$f":"IF(COUNTIF(一般技能!$H$59:$H$82,C58)=0,0,VLOOKUP(C58,一般技能!$H$59:$J$82,3,FALSE))","v":0},0,{"$f":"VLOOKUP(E58,固定値!$AA$2:$AB$7,2,FALSE)","v":"－－－"},{"$f":"VLOOKUP(G58,固定値!$AA$2:$AB$7,2,FALSE)","v":"－－－"},{"$f":"VLOOKUP(I58,固定値!$AG$1:$AI$7,IF(H58=ラベル!$G$2,2,3),FALSE)","v":0},{"$f":"VLOOKUP(I58,固定値!$BE$2:$BF$7,2,FALSE)","v":0},"273","熟達：創造呪文",{"$f":"IF(I58=ラベル!$G$2,\"\",CHAR(10)&\"【\"&C58&\"】\"&REPT(\"　\",11-LEN(C58))&\"●　　　　　\"&IF(K58>1,\"●\",\"○\")&\"　　　　　\"&IF(K58>2,\"●\",\"○\")&\"　　　　　\"&IF(K58>3,\"●\",\"○\")&\"　　 　　\"&IF(K58>4,\"●\",\"○\")&\"　 ／\")","v":""},{"$f":"IF(I58=ラベル!$G$2,\"\",CHAR(10)&\"【\"&M58&\"】\"&REPT(\"　\",8-LEN(M58))&I58&REPT(\" \",22)&L58)","v":""},"273項",{"$f":"IF(I58=ラベル!$G$2,\"\",CHAR(10)&\"【\"&M58&\"】\"&\"+\"&K58)","v":""}]
[null,null,"呪文熟達：支配呪文","呪文遣い系職業向け",{"$f":"IF(COUNTIF(一般技能!$H$51:$H$56,C59)=0,0,VLOOKUP(C59,一般技能!$H$51:$J$56,3,FALSE))","v":0},{"$f":"IF(COUNTIF(一般技能!$H$59:$H$82,C59)=0,0,VLOOKUP(C59,一般技能!$H$59:$J$82,3,FALSE))","v":0},0,{"$f":"VLOOKUP(E59,固定値!$AA$2:$AB$7,2,FALSE)","v":"－－－"},{"$f":"VLOOKUP(G59,固定値!$AA$2:$AB$7,2,FALSE)","v":"－－－"},{"$f":"VLOOKUP(I59,固定値!$AG$1:$AI$7,IF(H59=ラベル!$G$2,2,3),FALSE)","v":0},{"$f":"VLOOKUP(I59,固定値!$BE$2:$BF$7,2,FALSE)","v":0},"273","熟達：支配呪文",{"$f":"IF(I59=ラベル!$G$2,\"\",CHAR(10)&\"【\"&C59&\"】\"&REPT(\"　\",11-LEN(C59))&\"●　　　　　\"&IF(K59>1,\"●\",\"○\")&\"　　　　　\"&IF(K59>2,\"●\",\"○\")&\"　　　　　\"&IF(K59>3,\"●\",\"○\")&\"　　 　　\"&IF(K59>4,\"●\",\"○\")&\"　 ／\")","v":""},{"$f":"IF(I59=ラベル!$G$2,\"\",CHAR(10)&\"【\"&M59&\"】\"&REPT(\"　\",8-LEN(M59))&I59&REPT(\" \",22)&L59)","v":""},"273項",{"$f":"IF(I59=ラベル!$G$2,\"\",CHAR(10)&\"【\"&M59&\"】\"&\"+\"&K59)","v":""}]
[null,null,"呪文熟達：治癒呪文","呪文遣い系職業向け",{"$f":"IF(COUNTIF(一般技能!$H$51:$H$56,C60)=0,0,VLOOKUP(C60,一般技能!$H$51:$J$56,3,FALSE))","v":0},{"$f":"IF(COUNTIF(一般技能!$H$59:$H$82,C60)=0,0,VLOOKUP(C60,一般技能!$H$59:$J$82,3,FALSE))","v":0},0,{"$f":"VLOOKUP(E60,固定値!$AA$2:$AB$7,2,FALSE)","v":"－－－"},{"$f":"VLOOKUP(G60,固定値!$AA$2:$AB$7,2,FALSE)","v":"－－－"},{"$f":"VLOOKUP(I60,固定値!$AG$1:$AI$7,IF(H60=ラベル!$G$2,2,3),FALSE)","v":0},{"$f":"VLOOKUP(I60,固定値!$BE$2:$BF$7,2,FALSE)","v":0},"273","熟達：治癒呪文",{"$f":"IF(I60=ラベル!$G$2,\"\",CHAR(10)&\"【\"&C60&\"】\"&REPT(\"　\",11-LEN(C60))&\"●　　　　　\"&IF(K60>1,\"●\",\"○\")&\"　　　　　\"&IF(K60>2,\"●\",\"○\")&\"　　　　　\"&IF(K60>3,\"●\",\"○\")&\"　　 　　\"&IF(K60>4,\"●\",\"○\")&\"　 ／\")","v":""},{"$f":"IF(I60=ラベル!$G$2,\"\",CHAR(10)&\"【\"&M60&\"】\"&REPT(\"　\",8-LEN(M60))&I60&REPT(\" \",22)&L60)","v":""},"273項",{"$f":"IF(I60=ラベル!$G$2,\"\",CHAR(10)&\"【\"&M60&\"】\"&\"+\"&K60)","v":""}]
[null,null,"呪文熟達：汎用呪文","呪文遣い系職業向け",{"$f":"IF(COUNTIF(一般技能!$H$51:$H$56,C61)=0,0,VLOOKUP(C61,一般技能!$H$51:$J$56,3,FALSE))","v":0},{"$f":"IF(COUNTIF(一般技能!$H$59:$H$82,C61)=0,0,VLOOKUP(C61,一般技能!$H$59:$J$82,3,FALSE))","v":0},0,{"$f":"VLOOKUP(E61,固定値!$AA$2:$AB$7,2,FALSE)","v":"－－－"},{"$f":"VLOOKUP(G61,固定値!$AA$2:$AB$7,2,FALSE)","v":"－－－"},{"$f":"VLOOKUP(I61,固定値!$AG$1:$AI$7,IF(H61=ラベル!$G$2,2,3),FALSE)","v":0},{"$f":"VLOOKUP(I61,固定値!$BE$2:$BF$7,2,FALSE)","v":0},"273","熟達：汎用呪文",{"$f":"IF(I61=ラベル!$G$2,\"\",CHAR(10)&\"【\"&C61&\"】\"&REPT(\"　\",11-LEN(C61))&\"●　　　　　\"&IF(K61>1,\"●\",\"○\")&\"　　　　　\"&IF(K61>2,\"●\",\"○\")&\"　　　　　\"&IF(K61>3,\"●\",\"○\")&\"　　 　　\"&IF(K61>4,\"●\",\"○\")&\"　 ／\")","v":""},{"$f":"IF(I61=ラベル!$G$2,\"\",CHAR(10)&\"【\"&M61&\"】\"&REPT(\"　\",8-LEN(M61))&I61&REPT(\" \",22)&L61)","v":""},"273項",{"$f":"IF(I61=ラベル!$G$2,\"\",CHAR(10)&\"【\"&M61&\"】\"&\"+\"&K61)","v":""}]
[null,null,"呪文増強：威力","呪文遣い系職業向け",{"$f":"IF(COUNTIF(一般技能!$H$51:$H$56,C62)=0,0,VLOOKUP(C62,一般技能!$H$51:$J$56,3,FALSE))","v":0},{"$f":"IF(COUNTIF(一般技能!$H$59:$H$82,C62)=0,0,VLOOKUP(C62,一般技能!$H$59:$J$82,3,FALSE))","v":0},0,{"$f":"VLOOKUP(E62,固定値!$AA$2:$AB$7,2,FALSE)","v":"－－－"},{"$f":"VLOOKUP(G62,固定値!$AA$2:$AB$7,2,FALSE)","v":"－－－"},{"$f":"VLOOKUP(I62,固定値!$AG$1:$AI$7,IF(H62=ラベル!$G$2,2,3),FALSE)","v":0},{"$f":"VLOOKUP(I62,固定値!$BE$2:$BF$7,2,FALSE)","v":0},"274","呪文増強：威力",{"$f":"IF(I62=ラベル!$G$2,\"\",CHAR(10)&\"【\"&C62&\"】\"&REPT(\"　\",11-LEN(C62))&\"●　　　　　\"&IF(K62>1,\"●\",\"○\")&\"　　　　　\"&IF(K62>2,\"●\",\"○\")&\"　　　　　\"&IF(K62>3,\"●\",\"○\")&\"　　 　　\"&IF(K62>4,\"●\",\"○\")&\"　 ／\")","v":""},{"$f":"IF(I62=ラベル!$G$2,\"\",CHAR(10)&\"【\"&M62&\"】\"&REPT(\"　\",8-LEN(M62))&I62&REPT(\" \",22)&L62)","v":""},"274項"]
[null,null,"呪文追加：真言呪文","呪文遣い系職業向け",{"$f":"IF(COUNTIF(一般技能!$H$51:$H$56,C63)=0,0,VLOOKUP(C63,一般技能!$H$51:$J$56,3,FALSE))","v":0},{"$f":"IF(COUNTIF(一般技能!$H$59:$H$82,C63)=0,0,VLOOKUP(C63,一般技能!$H$59:$J$82,3,FALSE))","v":0},0,{"$f":"VLOOKUP(E63,固定値!$AA$2:$AB$7,2,FALSE)","v":"－－－"},{"$f":"VLOOKUP(G63,固定値!$AA$2:$AB$7,2,FALSE)","v":"－－－"},{"$f":"VLOOKUP(I63,固定値!$AG$1:$AI$7,IF(H63=ラベル!$G$2,2,3),FALSE)","v":0},{"$f":"VLOOKUP(I63,固定値!$BE$2:$BF$7,2,FALSE)","v":0},"275","追加：真言呪文",{"$f":"IF(I63=ラベル!$G$2,\"\",CHAR(10)&\"【\"&C63&\"】\"&REPT(\"　\",11-LEN(C63))&\"●　　　　　\"&IF(K63>1,\"●\",\"○\")&\"　　　　　\"&IF(K63>2,\"●\",\"○\")&\"　　　　　\"&IF(K63>3,\"●\",\"○\")&\"　　 　　\"&IF(K63>4,\"●\",\"○\")&\"　 ／\")","v":""},{"$f":"IF(I63=ラベル!$G$2,\"\",CHAR(10)&\"【\"&M63&\"】\"&REPT(\"　\",8-LEN(M63))&I63&REPT(\" \",22)&L63)","v":""},"275項"]
[null,null,"呪文追加：奇跡","呪文遣い系職業向け",{"$f":"IF(COUNTIF(一般技能!$H$51:$H$56,C64)=0,0,VLOOKUP(C64,一般技能!$H$51:$J$56,3,FALSE))","v":0},{"$f":"IF(COUNTIF(一般技能!$H$59:$H$82,C64)=0,0,VLOOKUP(C64,一般技能!$H$59:$J$82,3,FALSE))","v":0},0,{"$f":"VLOOKUP(E64,固定値!$AA$2:$AB$7,2,FALSE)","v":"－－－"},{"$f":"VLOOKUP(G64,固定値!$AA$2:$AB$7,2,FALSE)","v":"－－－"},{"$f":"VLOOKUP(I64,固定値!$AG$1:$AI$7,IF(H64=ラベル!$G$2,2,3),FALSE)","v":0},{"$f":"VLOOKUP(I64,固定値!$BE$2:$BF$7,2,FALSE)","v":0},"275","追加：奇跡",{"$f":"IF(I64=ラベル!$G$2,\"\",CHAR(10)&\"【\"&C64&\"】\"&REPT(\"　\",11-LEN(C64))&\"●　　　　　\"&IF(K64>1,\"●\",\"○\")&\"　　　　　\"&IF(K64>2,\"●\",\"○\")&\"　　　　　\"&IF(K64>3,\"●\",\"○\")&\"　　 　　\"&IF(K64>4,\"●\",\"○\")&\"　 ／\")","v":""},{"$f":"IF(I64=ラベル!$G$2,\"\",CHAR(10)&\"【\"&M64&\"】\"&REPT(\"　\",8-LEN(M64))&I64&REPT(\" \",22)&L64)","v":""},"275項"]
[null,null,"呪文追加：祖竜術","呪文遣い系職業向け",{"$f":"IF(COUNTIF(一般技能!$H$51:$H$56,C65)=0,0,VLOOKUP(C65,一般技能!$H$51:$J$56,3,FALSE))","v":0},{"$f":"IF(COUNTIF(一般技能!$H$59:$H$82,C65)=0,0,VLOOKUP(C65,一般技能!$H$59:$J$82,3,FALSE))","v":0},0,{"$f":"VLOOKUP(E65,固定値!$AA$2:$AB$7,2,FALSE)","v":"－－－"},{"$f":"VLOOKUP(G65,固定値!$AA$2:$AB$7,2,FALSE)","v":"－－－"},{"$f":"VLOOKUP(I65,固定値!$AG$1:$AI$7,IF(H65=ラベル!$G$2,2,3),FALSE)","v":0},{"$f":"VLOOKUP(I65,固定値!$BE$2:$BF$7,2,FALSE)","v":0},"275","追加：祖竜術",{"$f":"IF(I65=ラベル!$G$2,\"\",CHAR(10)&\"【\"&C65&\"】\"&REPT(\"　\",11-LEN(C65))&\"●　　　　　\"&IF(K65>1,\"●\",\"○\")&\"　　　　　\"&IF(K65>2,\"●\",\"○\")&\"　　　　　\"&IF(K65>3,\"●\",\"○\")&\"　　 　　\"&IF(K65>4,\"●\",\"○\")&\"　 ／\")","v":""},{"$f":"IF(I65=ラベル!$G$2,\"\",CHAR(10)&\"【\"&M65&\"】\"&REPT(\"　\",8-LEN(M65))&I65&REPT(\" \",22)&L65)","v":""},"275項"]
[null,null,"呪文追加：精霊術","呪文遣い系職業向け",{"$f":"IF(COUNTIF(一般技能!$H$51:$H$56,C66)=0,0,VLOOKUP(C66,一般技能!$H$51:$J$56,3,FALSE))","v":0},{"$f":"IF(COUNTIF(一般技能!$H$59:$H$82,C66)=0,0,VLOOKUP(C66,一般技能!$H$59:$J$82,3,FALSE))","v":0},0,{"$f":"VLOOKUP(E66,固定値!$AA$2:$AB$7,2,FALSE)","v":"－－－"},{"$f":"VLOOKUP(G66,固定値!$AA$2:$AB$7,2,FALSE)","v":"－－－"},{"$f":"VLOOKUP(I66,固定値!$AG$1:$AI$7,IF(H66=ラベル!$G$2,2,3),FALSE)","v":0},{"$f":"VLOOKUP(I66,固定値!$BE$2:$BF$7,2,FALSE)","v":0},"275","追加：精霊術",{"$f":"IF(I66=ラベル!$G$2,\"\",CHAR(10)&\"【\"&C66&\"】\"&REPT(\"　\",11-LEN(C66))&\"●　　　　　\"&IF(K66>1,\"●\",\"○\")&\"　　　　　\"&IF(K66>2,\"●\",\"○\")&\"　　　　　\"&IF(K66>3,\"●\",\"○\")&\"　　 　　\"&IF(K66>4,\"●\",\"○\")&\"　 ／\")","v":""},{"$f":"IF(I66=ラベル!$G$2,\"\",CHAR(10)&\"【\"&M66&\"】\"&REPT(\"　\",8-LEN(M66))&I66&REPT(\" \",22)&L66)","v":""},"275項"]
[null,null,"魔法の才","呪文遣い系職業向け",{"$f":"IF(COUNTIF(一般技能!$H$51:$H$56,C67)=0,0,VLOOKUP(C67,一般技能!$H$51:$J$56,3,FALSE))","v":0},{"$f":"IF(COUNTIF(一般技能!$H$59:$H$82,C67)=0,0,VLOOKUP(C67,一般技能!$H$59:$J$82,3,FALSE))","v":0},0,{"$f":"VLOOKUP(E67,固定値!$AA$2:$AB$7,2,FALSE)","v":"－－－"},{"$f":"VLOOKUP(G67,固定値!$AA$2:$AB$7,2,FALSE)","v":"－－－"},{"$f":"VLOOKUP(I67,固定値!$AG$1:$AI$7,IF(H67=ラベル!$G$2,2,3),FALSE)","v":0},{"$f":"VLOOKUP(I67,固定値!$BE$2:$BF$7,2,FALSE)","v":0},"275","魔法の才",{"$f":"IF(I67=ラベル!$G$2,\"\",CHAR(10)&\"【\"&C67&\"】\"&REPT(\"　\",11-LEN(C67))&\"●　　　　　\"&IF(K67>1,\"●\",\"○\")&\"　　　　　\"&IF(K67>2,\"●\",\"○\")&\"　　　　　\"&IF(K67>3,\"●\",\"○\")&\"　　 　　\"&IF(K67>4,\"●\",\"○\")&\"　 ／\")","v":""},{"$f":"IF(I67=ラベル!$G$2,\"\",CHAR(10)&\"【\"&M67&\"】\"&REPT(\"　\",8-LEN(M67))&I67&REPT(\" \",22)&L67)","v":""},"275項"]

{"sheet":"一般技能","index":15,"n_rows":82,"n_cols":14,"rows_kept":82,"cut":false,"hidden":false,"merged":[]}
[null,null,null,null,null,null,null,null,null,null,{"$f":"\nK3&K4&K5&K6&K8&K9&K10&K11&\nK12&K13&K14&K15&K16&K17&K18&K19&K20&K21&\nK22&K23&K24&K25&K26&K27&K28&K29&K30&K31&\nK32&K33&K34&K35&K36&K37&K38&K39&K40&K41&\nK42&K43&K44&K45&K46&K47","v":"\n【長距離移動】　　　　　　●　　　　　○　　　　　○　 ／"},{"$f":"\nL3&L4&L5&L6&L8&L9&L10&L11&\nL12&L13&L14&L15&L16&L17&L18&L19&L20&L21&\nL22&L23&L24&L25&L26&L27&L28&L29&L30&L31&\nL32&L33&L34&L35&L36&L37&L38&L39&L40&L41&\nL42&L43&L44&L45&L46&L47","v":"\n【長距離移動】　　　初歩                      289"},{"$f":"MID(L1,1,114)","v":"\n【長距離移動】　　　初歩                      289"},{"$f":"MID(L1,115,114)","v":""}]
[null,"一般技能",null,null,null,"出自・来歴ボーナス","習熟段階","消費成長点","効果","参照項",null,null,"参照項"]
[null,"暗視",{"$f":"IF(COUNTIF($H$51:$H$56,B3)=0,0,VLOOKUP(B3,$H$51:$J$56,3,FALSE))","v":0},{"$f":"IF(COUNTIF($H$59:$H$82,B3)=0,0,VLOOKUP(B3,$H$59:$J$82,3,FALSE))","v":0},{"$f":"MAX(C3:D3)","v":0},{"$f":"VLOOKUP(C3,固定値!$AA$2:$AB$7,2,FALSE)","v":"－－－"},{"$f":"VLOOKUP(E3,固定値!$AA$2:$AB$7,2,FALSE)","v":"－－－"},{"$f":"VLOOKUP(G3,固定値!$AK$2:$AM$5,IF(F3=ラベル!$G$2,2,3),FALSE)","v":0},{"$f":"VLOOKUP(G3,固定値!$BE$2:$BG$7,3,FALSE)","v":0},{"$f":"LEFT(M3,3)","v":"292"},{"$f":"IF(G3=ラベル!$G$2,\"\",CHAR(10)&\"【\"&B3&\"】\"&REPT(\"　\",11-LEN(B3))&\"●　　　　　\"&IF(I3>1,\"●\",\"○\")&\"　　　　　\"&IF(I3>2,\"●\",\"○\")&\"　 ／\")","v":""},{"$f":"IF(G3=ラベル!$G$2,\"\",CHAR(10)&\"【\"&B3&\"】\"&REPT(\"　\",8-LEN(B3))&G3&REPT(\" \",22)&J3)","v":""},"292項"]
[null,"鑑定",{"$f":"IF(COUNTIF($H$51:$H$56,B4)=0,0,VLOOKUP(B4,$H$51:$J$56,3,FALSE))","v":0},{"$f":"IF(COUNTIF($H$59:$H$82,B4)=0,0,VLOOKUP(B4,$H$59:$J$82,3,FALSE))","v":0},{"$f":"MAX(C4:D4)","v":0},{"$f":"VLOOKUP(C4,固定値!$AA$2:$AB$7,2,FALSE)","v":"－－－"},{"$f":"VLOOKUP(E4,固定値!$AA$2:$AB$7,2,FALSE)","v":"－－－"},{"$f":"VLOOKUP(G4,固定値!$AK$2:$AM$5,IF(F4=ラベル!$G$2,2,3),FALSE)","v":0},{"$f":"VLOOKUP(G4,固定値!$BE$2:$BG$7,3,FALSE)","v":0},{"$f":"LEFT(M4,3)","v":"278"},{"$f":"IF(G4=ラベル!$G$2,\"\",CHAR(10)&\"【\"&B4&\"】\"&REPT(\"　\",11-LEN(B4))&\"●　　　　　\"&IF(I4>1,\"●\",\"○\")&\"　　　　　\"&IF(I4>2,\"●\",\"○\")&\"　 ／\")","v":""},{"$f":"IF(G4=ラベル!$G$2,\"\",CHAR(10)&\"【\"&B4&\"】\"&REPT(\"　\",8-LEN(B4))&G4&REPT(\" \",22)&J4)","v":""},"278項"]
[null,"騎乗",0,0,0,{"$f":"VLOOKUP(C5,固定値!$AA$2:$AB$7,2,FALSE)","v":"－－－"},{"$f":"VLOOKUP(E5,固定値!$AA$2:$AB$7,2,FALSE)","v":"－－－"},{"$f":"VLOOKUP(G5,固定値!$AK$2:$AM$5,IF(F5=ラベル!$G$2,2,3),FALSE)","v":0},{"$f":"VLOOKUP(G5,固定値!$BE$2:$BG$7,3,FALSE)","v":0},"289",{"$f":"IF(G5=ラベル!$G$2,\"\",CHAR(10)&\"【\"&B5&\"】\"&REPT(\"　\",11-LEN(B5))&\"●　　　　　\"&IF(I5>1,\"●\",\"○\")&\"　　　　　\"&IF(I5>2,\"●\",\"○\")&\"　 ／\")","v":""},{"$f":"IF(G5=ラベル!$G$2,\"\",CHAR(10)&\"【\"&B5&\"】\"&REPT(\"　\",8-LEN(B5))&G5&REPT(\" \",22)&J5)","v":""},"289項"]
[null,"祈祷",0,0,0,{"$f":"VLOOKUP(C6,固定値!$AA$2:$AB$7,2,FALSE)","v":"－－－"},{"$f":"VLOOKUP(E6,固定値!$AA$2:$AB$7,2,FALSE)","v":"－－－"},{"$f":"VLOOKUP(G6,固定値!$AK$2:$AM$5,IF(F6=ラベル!$G$2,2,3),FALSE)","v":0},{"$f":"VLOOKUP(G6,固定値!$BE$2:$BG$7,3,FALSE)","v":0},"277",{"$f":"IF(G6=ラベル!$G$2,\"\",CHAR(10)&\"【\"&B6&\"】\"&REPT(\"　\",11-LEN(B6))&\"●　　　　　\"&IF(I6>1,\"●\",\"○\")&\"　　　　　\"&IF(I6>2,\"●\",\"○\")&\"　 ／\")","v":""},{"$f":"IF(G6=ラベル!$G$2,\"\",CHAR(10)&\"【\"&B6&\"】\"&REPT(\"　\",8-LEN(B6))&G6&REPT(\" \",22)&J6)","v":""},"277項"]
[null,"芸能：歌唱",{"$f":"IF(COUNTIF($H$51:$H$56,B7)=0,0,VLOOKUP(B7,$H$51:$J$56,3,FALSE))","v":0},{"$f":"IF(COUNTIF($H$59:$H$82,B7)=0,0,VLOOKUP(B7,$H$59:$J$82,3,FALSE))","v":0},{"$f":"MAX(C7:D7)","v":0},{"$f":"VLOOKUP(C7,固定値!$AA$2:$AB$7,2,FALSE)","v":"－－－"},{"$f":"VLOOKUP(E7,固定値!$AA$2:$AB$7,2,FALSE)","v":"－－－"},{"$f":"VLOOKUP(G7,固定値!$AK$2:$AM$5,IF(F7=ラベル!$G$2,2,3),FALSE)","v":0},{"$f":"VLOOKUP(G7,固定値!$BE$2:$BG$7,3,FALSE)","v":0},{"$f":"LEFT(M7,3)","v":"286"},{"$f":"IF(G7=ラベル!$G$2,\"\",CHAR(10)&\"【\"&B7&\"】\"&REPT(\"　\",11-LEN(B7))&\"●　　　　　\"&IF(I7>1,\"●\",\"○\")&\"　　　　　\"&IF(I7>2,\"●\",\"○\")&\"　 ／\")","v":""},{"$f":"IF(G7=ラベル!$G$2,\"\",CHAR(10)&\"【\"&B7&\"】\"&REPT(\"　\",8-LEN(B7))&G7&REPT(\" \",22)&J7)","v":""},"286項"]
[null,"芸能：即興詩",0,0,0,{"$f":"VLOOKUP(C8,固定値!$AA$2:$AB$7,2,FALSE)","v":"－－－"},{"$f":"VLOOKUP(E8,固定値!$AA$2:$AB$7,2,FALSE)","v":"－－－"},{"$f":"VLOOKUP(G8,固定値!$AK$2:$AM$5,IF(F8=ラベル!$G$2,2,3),FALSE)","v":0},{"$f":"VLOOKUP(G8,固定値!$BE$2:$BG$7,3,FALSE)","v":0},"286",{"$f":"IF(G8=ラベル!$G$2,\"\",CHAR(10)&\"【\"&B8&\"】\"&REPT(\"　\",11-LEN(B8))&\"●　　　　　\"&IF(I8>1,\"●\",\"○\")&\"　　　　　\"&IF(I8>2,\"●\",\"○\")&\"　 ／\")","v":""},{"$f":"IF(G8=ラベル!$G$2,\"\",CHAR(10)&\"【\"&B8&\"】\"&REPT(\"　\",8-LEN(B8))&G8&REPT(\" \",22)&J8)","v":""},"286項"]
[null,"芸能：演奏",0,0,0,{"$f":"VLOOKUP(C9,固定値!$AA$2:$AB$7,2,FALSE)","v":"－－－"},{"$f":"VLOOKUP(E9,固定値!$AA$2:$AB$7,2,FALSE)","v":"－－－"},{"$f":"VLOOKUP(G9,固定値!$AK$2:$AM$5,IF(F9=ラベル!$G$2,2,3),FALSE)","v":0},{"$f":"VLOOKUP(G9,固定値!$BE$2:$BG$7,3,FALSE)","v":0},"286",{"$f":"IF(G9=ラベル!$G$2,\"\",CHAR(10)&\"【\"&B9&\"】\"&REPT(\"　\",11-LEN(B9))&\"●　　　　　\"&IF(I9>1,\"●\",\"○\")&\"　　　　　\"&IF(I9>2,\"●\",\"○\")&\"　 ／\")","v":""},{"$f":"IF(G9=ラベル!$G$2,\"\",CHAR(10)&\"【\"&B9&\"】\"&REPT(\"　\",8-LEN(B9))&G9&REPT(\" \",22)&J9)","v":""},"286項"]
[null,"芸能：舞踊",0,0,0,{"$f":"VLOOKUP(C10,固定値!$AA$2:$AB$7,2,FALSE)","v":"－－－"},{"$f":"VLOOKUP(E10,固定値!$AA$2:$AB$7,2,FALSE)","v":"－－－"},{"$f":"VLOOKUP(G10,固定値!$AK$2:$AM$5,IF(F10=ラベル!$G$2,2,3),FALSE)","v":0},{"$f":"VLOOKUP(G10,固定値!$BE$2:$BG$7,3,FALSE)","v":0},"286",{"$f":"IF(G10=ラベル!$G$2,\"\",CHAR(10)&\"【\"&B10&\"】\"&REPT(\"　\",11-LEN(B10))&\"●　　　　　\"&IF(I10>1,\"●\",\"○\")&\"　　　　　\"&IF(I10>2,\"●\",\"○\")&\"　 ／\")","v":""},{"$f":"IF(G10=ラベル!$G$2,\"\",CHAR(10)&\"【\"&B10&\"】\"&REPT(\"　\",8-LEN(B10))&G10&REPT(\" \",22)&J10)","v":""},"286項"]
[null,"芸能：大道芸",0,0,0,{"$f":"VLOOKUP(C11,固定値!$AA$2:$AB$7,2,FALSE)","v":"－－－"},{"$f":"VLOOKUP(E11,固定値!$AA$2:$AB$7,2,FALSE)","v":"－－－"},{"$f":"VLOOKUP(G11,固定値!$AK$2:$AM$5,IF(F11=ラベル!$G$2,2,3),FALSE)","v":0},{"$f":"VLOOKUP(G11,固定値!$BE$2:$BG$7,3,FALSE)","v":0},"286",{"$f":"IF(G11=ラベル!$G$2,\"\",CHAR(10)&\"【\"&B11&\"】\"&REPT(\"　\",11-LEN(B11))&\"●　　　　　\"&IF(I11>1,\"●\",\"○\")&\"　　　　　\"&IF(I11>2,\"●\",\"○\")&\"　 ／\")","v":""},{"$f":"IF(G11=ラベル!$G$2,\"\",CHAR(10)&\"【\"&B11&\"】\"&REPT(\"　\",8-LEN(B11))&G11&REPT(\" \",22)&J11)","v":""},"286項"]
[null,"芸能：演劇",0,0,0,{"$f":"VLOOKUP(C12,固定値!$AA$2:$AB$7,2,FALSE)","v":"－－－"},{"$f":"VLOOKUP(E12,固定値!$AA$2:$AB$7,2,FALSE)","v":"－－－"},{"$f":"VLOOKUP(G12,固定値!$AK$2:$AM$5,IF(F12=ラベル!$G$2,2,3),FALSE)","v":0},{"$f":"VLOOKUP(G12,固定値!$BE$2:$BG$7,3,FALSE)","v":0},"286",{"$f":"IF(G12=ラベル!$G$2,\"\",CHAR(10)&\"【\"&B12&\"】\"&REPT(\"　\",11-LEN(B12))&\"●　　　　　\"&IF(I12>1,\"●\",\"○\")&\"　　　　　\"&IF(I12>2,\"●\",\"○\")&\"　 ／\")","v":""},{"$f":"IF(G12=ラベル!$G$2,\"\",CHAR(10)&\"【\"&B12&\"】\"&REPT(\"　\",8-LEN(B12))&G12&REPT(\" \",22)&J12)","v":""},"286項"]
[null,"工作",0,0,0,{"$f":"VLOOKUP(C13,固定値!$AA$2:$AB$7,2,FALSE)","v":"－－－"},{"$f":"VLOOKUP(E13,固定値!$AA$2:$AB$7,2,FALSE)","v":"－－－"},{"$f":"VLOOKUP(G13,固定値!$AK$2:$AM$5,IF(F13=ラベル!$G$2,2,3),FALSE)","v":0},{"$f":"VLOOKUP(G13,固定値!$BE$2:$BG$7,3,FALSE)","v":0},"288",{"$f":"IF(G13=ラベル!$G$2,\"\",CHAR(10)&\"【\"&B13&\"】\"&REPT(\"　\",11-LEN(B13))&\"●　　　　　\"&IF(I13>1,\"●\",\"○\")&\"　　　　　\"&IF(I13>2,\"●\",\"○\")&\"　 ／\")","v":""},{"$f":"IF(G13=ラベル!$G$2,\"\",CHAR(10)&\"【\"&B13&\"】\"&REPT(\"　\",8-LEN(B13))&G13&REPT(\" \",22)&J13)","v":""},"288項"]
[null,"交渉：説得",0,0,0,{"$f":"VLOOKUP(C14,固定値!$AA$2:$AB$7,2,FALSE)","v":"－－－"},{"$f":"VLOOKUP(E14,固定値!$AA$2:$AB$7,2,FALSE)","v":"－－－"},{"$f":"VLOOKUP(G14,固定値!$AK$2:$AM$5,IF(F14=ラベル!$G$2,2,3),FALSE)","v":0},{"$f":"VLOOKUP(G14,固定値!$BE$2:$BG$7,3,FALSE)","v":0},"278",{"$f":"IF(G14=ラベル!$G$2,\"\",CHAR(10)&\"【\"&B14&\"】\"&REPT(\"　\",11-LEN(B14))&\"●　　　　　\"&IF(I14>1,\"●\",\"○\")&\"　　　　　\"&IF(I14>2,\"●\",\"○\")&\"　 ／\")","v":""},{"$f":"IF(G14=ラベル!$G$2,\"\",CHAR(10)&\"【\"&B14&\"】\"&REPT(\"　\",8-LEN(B14))&G14&REPT(\" \",22)&J14)","v":""},"278項"]
[null,"交渉：誘惑",0,0,0,{"$f":"VLOOKUP(C15,固定値!$AA$2:$AB$7,2,FALSE)","v":"－－－"},{"$f":"VLOOKUP(E15,固定値!$AA$2:$AB$7,2,FALSE)","v":"－－－"},{"$f":"VLOOKUP(G15,固定値!$AK$2:$AM$5,IF(F15=ラベル!$G$2,2,3),FALSE)","v":0},{"$f":"VLOOKUP(G15,固定値!$BE$2:$BG$7,3,FALSE)","v":0},"278",{"$f":"IF(G15=ラベル!$G$2,\"\",CHAR(10)&\"【\"&B15&\"】\"&REPT(\"　\",11-LEN(B15))&\"●　　　　　\"&IF(I15>1,\"●\",\"○\")&\"　　　　　\"&IF(I15>2,\"●\",\"○\")&\"　 ／\")","v":""},{"$f":"IF(G15=ラベル!$G$2,\"\",CHAR(10)&\"【\"&B15&\"】\"&REPT(\"　\",8-LEN(B15))&G15&REPT(\" \",22)&J15)","v":""},"278項"]
[null,"交渉：脅迫",0,0,0,{"$f":"VLOOKUP(C16,固定値!$AA$2:$AB$7,2,FALSE)","v":"－－－"},{"$f":"VLOOKUP(E16,固定値!$AA$2:$AB$7,2,FALSE)","v":"－－－"},{"$f":"VLOOKUP(G16,固定値!$AK$2:$AM$5,IF(F16=ラベル!$G$2,2,3),FALSE)","v":0},{"$f":"VLOOKUP(G16,固定値!$BE$2:$BG$7,3,FALSE)","v":0},"278",{"$f":"IF(G16=ラベル!$G$2,\"\",CHAR(10)&\"【\"&B16&\"】\"&REPT(\"　\",11-LEN(B16))&\"●　　　　　\"&IF(I16>1,\"●\",\"○\")&\"　　　　　\"&IF(I16>2,\"●\",\"○\")&\"　 ／\")","v":""},{"$f":"IF(G16=ラベル!$G$2,\"\",CHAR(10)&\"【\"&B16&\"】\"&REPT(\"　\",8-LEN(B16))&G16&REPT(\" \",22)&J16)","v":""},"278項"]
[null,"交渉：言いくるめ",0,0,0,{"$f":"VLOOKUP(C17,固定値!$AA$2:$AB$7,2,FALSE)","v":"－－－"},{"$f":"VLOOKUP(E17,固定値!$AA$2:$AB$7,2,FALSE)","v":"－－－"},{"$f":"VLOOKUP(G17,固定値!$AK$2:$AM$5,IF(F17=ラベル!$G$2,2,3),FALSE)","v":0},{"$f":"VLOOKUP(G17,固定値!$BE$2:$BG$7,3,FALSE)","v":0},"278",{"$f":"IF(G17=ラベル!$G$2,\"\",CHAR(10)&\"【\"&B17&\"】\"&REPT(\"　\",11-LEN(B17))&\"●　　　　　\"&IF(I17>1,\"●\",\"○\")&\"　　　　　\"&IF(I17>2,\"●\",\"○\")&\"　 ／\")","v":""},{"$f":"IF(G17=ラベル!$G$2,\"\",CHAR(10)&\"【\"&B17&\"】\"&REPT(\"　\",8-LEN(B17))&G17&REPT(\" \",22)&J17)","v":""},"278項"]
[null,"職人：鍛冶",0,0,0,{"$f":"VLOOKUP(C18,固定値!$AA$2:$AB$7,2,FALSE)","v":"－－－"},{"$f":"VLOOKUP(E18,固定値!$AA$2:$AB$7,2,FALSE)","v":"－－－"},{"$f":"VLOOKUP(G18,固定値!$AK$2:$AM$5,IF(F18=ラベル!$G$2,2,3),FALSE)","v":0},{"$f":"VLOOKUP(G18,固定値!$BE$2:$BG$7,3,FALSE)","v":0},"285",{"$f":"IF(G18=ラベル!$G$2,\"\",CHAR(10)&\"【\"&B18&\"】\"&REPT(\"　\",11-LEN(B18))&\"●　　　　　\"&IF(I18>1,\"●\",\"○\")&\"　　　　　\"&IF(I18>2,\"●\",\"○\")&\"　 ／\")","v":""},{"$f":"IF(G18=ラベル!$G$2,\"\",CHAR(10)&\"【\"&B18&\"】\"&REPT(\"　\",8-LEN(B18))&G18&REPT(\" \",22)&J18)","v":""},"285項"]
[null,"職人：裁縫",0,0,0,{"$f":"VLOOKUP(C19,固定値!$AA$2:$AB$7,2,FALSE)","v":"－－－"},{"$f":"VLOOKUP(E19,固定値!$AA$2:$AB$7,2,FALSE)","v":"－－－"},{"$f":"VLOOKUP(G19,固定値!$AK$2:$AM$5,IF(F19=ラベル!$G$2,2,3),FALSE)","v":0},{"$f":"VLOOKUP(G19,固定値!$BE$2:$BG$7,3,FALSE)","v":0},"285",{"$f":"IF(G19=ラベル!$G$2,\"\",CHAR(10)&\"【\"&B19&\"】\"&REPT(\"　\",11-LEN(B19))&\"●　　　　　\"&IF(I19>1,\"●\",\"○\")&\"　　　　　\"&IF(I19>2,\"●\",\"○\")&\"　 ／\")","v":""},{"$f":"IF(G19=ラベル!$G$2,\"\",CHAR(10)&\"【\"&B19&\"】\"&REPT(\"　\",8-LEN(B19))&G19&REPT(\" \",22)&J19)","v":""},"285項"]
[null,"職人：木工",0,0,0,{"$f":"VLOOKUP(C20,固定値!$AA$2:$AB$7,2,FALSE)","v":"－－－"},{"$f":"VLOOKUP(E20,固定値!$AA$2:$AB$7,2,FALSE)","v":"－－－"},{"$f":"VLOOKUP(G20,固定値!$AK$2:$AM$5,IF(F20=ラベル!$G$2,2,3),FALSE)","v":0},{"$f":"VLOOKUP(G20,固定値!$BE$2:$BG$7,3,FALSE)","v":0},"285",{"$f":"IF(G20=ラベル!$G$2,\"\",CHAR(10)&\"【\"&B20&\"】\"&REPT(\"　\",11-LEN(B20))&\"●　　　　　\"&IF(I20>1,\"●\",\"○\")&\"　　　　　\"&IF(I20>2,\"●\",\"○\")&\"　 ／\")","v":""},{"$f":"IF(G20=ラベル!$G$2,\"\",CHAR(10)&\"【\"&B20&\"】\"&REPT(\"　\",8-LEN(B20))&G20&REPT(\" \",22)&J20)","v":""},"285項"]
[null,"職人：革細工",0,0,0,{"$f":"VLOOKUP(C21,固定値!$AA$2:$AB$7,2,FALSE)","v":"－－－"},{"$f":"VLOOKUP(E21,固定値!$AA$2:$AB$7,2,FALSE)","v":"－－－"},{"$f":"VLOOKUP(G21,固定値!$AK$2:$AM$5,IF(F21=ラベル!$G$2,2,3),FALSE)","v":0},{"$f":"VLOOKUP(G21,固定値!$BE$2:$BG$7,3,FALSE)","v":0},"285",{"$f":"IF(G21=ラベル!$G$2,\"\",CHAR(10)&\"【\"&B21&\"】\"&REPT(\"　\",11-LEN(B21))&\"●　　　　　\"&IF(I21>1,\"●\",\"○\")&\"　　　　　\"&IF(I21>2,\"●\",\"○\")&\"　 ／\")","v":""},{"$f":"IF(G21=ラベル!$G$2,\"\",CHAR(10)&\"【\"&B21&\"】\"&REPT(\"　\",8-LEN(B21))&G21&REPT(\" \",22)&J21)","v":""},"285項"]
[null,"職人：彫金",0,0,0,{"$f":"VLOOKUP(C22,固定値!$AA$2:$AB$7,2,FALSE)","v":"－－－"},{"$f":"VLOOKUP(E22,固定値!$AA$2:$AB$7,2,FALSE)","v":"－－－"},{"$f":"VLOOKUP(G22,固定値!$AK$2:$AM$5,IF(F22=ラベル!$G$2,2,3),FALSE)","v":0},{"$f":"VLOOKUP(G22,固定値!$BE$2:$BG$7,3,FALSE)","v":0},"285",{"$f":"IF(G22=ラベル!$G$2,\"\",CHAR(10)&\"【\"&B22&\"】\"&REPT(\"　\",11-LEN(B22))&\"●　　　　　\"&IF(I22>1,\"●\",\"○\")&\"　　　　　\"&IF(I22>2,\"●\",\"○\")&\"　 ／\")","v":""},{"$f":"IF(G22=ラベル!$G$2,\"\",CHAR(10)&\"【\"&B22&\"】\"&REPT(\"　\",8-LEN(B22))&G22&REPT(\" \",22)&J22)","v":""},"285項"]
[null,"神学",0,0,0,{"$f":"VLOOKUP(C23,固定値!$AA$2:$AB$7,2,FALSE)","v":"－－－"},{"$f":"VLOOKUP(E23,固定値!$AA$2:$AB$7,2,FALSE)","v":"－－－"},{"$f":"VLOOKUP(G23,固定値!$AK$2:$AM$5,IF(F23=ラベル!$G$2,2,3),FALSE)","v":0},{"$f":"VLOOKUP(G23,固定値!$BE$2:$BG$7,3,FALSE)","v":0},"280",{"$f":"IF(G23=ラベル!$G$2,\"\",CHAR(10)&\"【\"&B23&\"】\"&REPT(\"　\",11-LEN(B23))&\"●　　　　　\"&IF(I23>1,\"●\",\"○\")&\"　　　　　\"&IF(I23>2,\"●\",\"○\")&\"　 ／\")","v":""},{"$f":"IF(G23=ラベル!$G$2,\"\",CHAR(10)&\"【\"&B23&\"】\"&REPT(\"　\",8-LEN(B23))&G23&REPT(\" \",22)&J23)","v":""},"280項"]
[null,"信仰心：至高神",0,0,0,{"$f":"VLOOKUP(C24,固定値!$AA$2:$AB$7,2,FALSE)","v":"－－－"},{"$f":"VLOOKUP(E24,固定値!$AA$2:$AB$7,2,FALSE)","v":"－－－"},{"$f":"VLOOKUP(G24,固定値!$AK$2:$AM$5,IF(F24=ラベル!$G$2,2,3),FALSE)","v":0},{"$f":"VLOOKUP(G24,固定値!$BE$2:$BG$7,3,FALSE)","v":0},"290",{"$f":"IF(G24=ラベル!$G$2,\"\",CHAR(10)&\"【\"&B24&\"】\"&REPT(\"　\",11-LEN(B24))&\"●　　　　　\"&IF(I24>1,\"●\",\"○\")&\"　　　　　\"&IF(I24>2,\"●\",\"○\")&\"　 ／\")","v":""},{"$f":"IF(G24=ラベル!$G$2,\"\",CHAR(10)&\"【\"&B24&\"】\"&REPT(\"　\",8-LEN(B24))&G24&REPT(\" \",22)&J24)","v":""},"290項"]
[null,"信仰心：地母神",0,0,0,{"$f":"VLOOKUP(C25,固定値!$AA$2:$AB$7,2,FALSE)","v":"－－－"},{"$f":"VLOOKUP(E25,固定値!$AA$2:$AB$7,2,FALSE)","v":"－－－"},{"$f":"VLOOKUP(G25,固定値!$AK$2:$AM$5,IF(F25=ラベル!$G$2,2,3),FALSE)","v":0},{"$f":"VLOOKUP(G25,固定値!$BE$2:$BG$7,3,FALSE)","v":0},"290",{"$f":"IF(G25=ラベル!$G$2,\"\",CHAR(10)&\"【\"&B25&\"】\"&REPT(\"　\",11-LEN(B25))&\"●　　　　　\"&IF(I25>1,\"●\",\"○\")&\"　　　　　\"&IF(I25>2,\"●\",\"○\")&\"　 ／\")","v":""},{"$f":"IF(G25=ラベル!$G$2,\"\",CHAR(10)&\"【\"&B25&\"】\"&REPT(\"　\",8-LEN(B25))&G25&REPT(\" \",22)&J25)","v":""},"290項"]
[null,"信仰心：交易神",0,0,0,{"$f":"VLOOKUP(C26,固定値!$AA$2:$AB$7,2,FALSE)","v":"－－－"},{"$f":"VLOOKUP(E26,固定値!$AA$2:$AB$7,2,FALSE)","v":"－－－"},{"$f":"VLOOKUP(G26,固定値!$AK$2:$AM$5,IF(F26=ラベル!$G$2,2,3),FALSE)","v":0},{"$f":"VLOOKUP(G26,固定値!$BE$2:$BG$7,3,FALSE)","v":0},"290",{"$f":"IF(G26=ラベル!$G$2,\"\",CHAR(10)&\"【\"&B26&\"】\"&REPT(\"　\",11-LEN(B26))&\"●　　　　　\"&IF(I26>1,\"●\",\"○\")&\"　　　　　\"&IF(I26>2,\"●\",\"○\")&\"　 ／\")","v":""},{"$f":"IF(G26=ラベル!$G$2,\"\",CHAR(10)&\"【\"&B26&\"】\"&REPT(\"　\",8-LEN(B26))&G26&REPT(\" \",22)&J26)","v":""},"290項"]
[null,"信仰心：知識神",0,0,0,{"$f":"VLOOKUP(C27,固定値!$AA$2:$AB$7,2,FALSE)","v":"－－－"},{"$f":"VLOOKUP(E27,固定値!$AA$2:$AB$7,2,FALSE)","v":"－－－"},{"$f":"VLOOKUP(G27,固定値!$AK$2:$AM$5,IF(F27=ラベル!$G$2,2,3),FALSE)","v":0},{"$f":"VLOOKUP(G27,固定値!$BE$2:$BG$7,3,FALSE)","v":0},"290",{"$f":"IF(G27=ラベル!$G$2,\"\",CHAR(10)&\"【\"&B27&\"】\"&REPT(\"　\",11-LEN(B27))&\"●　　　　　\"&IF(I27>1,\"●\",\"○\")&\"　　　　　\"&IF(I27>2,\"●\",\"○\")&\"　 ／\")","v":""},{"$f":"IF(G27=ラベル!$G$2,\"\",CHAR(10)&\"【\"&B27&\"】\"&REPT(\"　\",8-LEN(B27))&G27&REPT(\" \",22)&J27)","v":""},"290項"]
[null,"信仰心：戦女神",0,0,0,{"$f":"VLOOKUP(C28,固定値!$AA$2:$AB$7,2,FALSE)","v":"－－－"},{"$f":"VLOOKUP(E28,固定値!$AA$2:$AB$7,2,FALSE)","v":"－－－"},{"$f":"VLOOKUP(G28,固定値!$AK$2:$AM$5,IF(F28=ラベル!$G$2,2,3),FALSE)","v":0},{"$f":"VLOOKUP(G28,固定値!$BE$2:$BG$7,3,FALSE)","v":0},"290",{"$f":"IF(G28=ラベル!$G$2,\"\",CHAR(10)&\"【\"&B28&\"】\"&REPT(\"　\",11-LEN(B28))&\"●　　　　　\"&IF(I28>1,\"●\",\"○\")&\"　　　　　\"&IF(I28>2,\"●\",\"○\")&\"　 ／\")","v":""},{"$f":"IF(G28=ラベル!$G$2,\"\",CHAR(10)&\"【\"&B28&\"】\"&REPT(\"　\",8-LEN(B28))&G28&REPT(\" \",22)&J28)","v":""},"290項"]
[null,"信仰心：祖竜",0,0,0,{"$f":"VLOOKUP(C29,固定値!$AA$2:$AB$7,2,FALSE)","v":"－－－"},{"$f":"VLOOKUP(E29,固定値!$AA$2:$AB$7,2,FALSE)","v":"－－－"},{"$f":"VLOOKUP(G29,固定値!$AK$2:$AM$5,IF(F29=ラベル!$G$2,2,3),FALSE)","v":0},{"$f":"VLOOKUP(G29,固定値!$BE$2:$BG$7,3,FALSE)","v":0},"290",{"$f":"IF(G29=ラベル!$G$2,\"\",CHAR(10)&\"【\"&B29&\"】\"&REPT(\"　\",11-LEN(B29))&\"●　　　　　\"&IF(I29>1,\"●\",\"○\")&\"　　　　　\"&IF(I29>2,\"●\",\"○\")&\"　 ／\")","v":""},{"$f":"IF(G29=ラベル!$G$2,\"\",CHAR(10)&\"【\"&B29&\"】\"&REPT(\"　\",8-LEN(B29))&G29&REPT(\" \",22)&J29)","v":""},"290項"]
[null,"生産業：農業",0,0,0,{"$f":"VLOOKUP(C30,固定値!$AA$2:$AB$7,2,FALSE)","v":"－－－"},{"$f":"VLOOKUP(E30,固定値!$AA$2:$AB$7,2,FALSE)","v":"－－－"},{"$f":"VLOOKUP(G30,固定値!$AK$2:$AM$5,IF(F30=ラベル!$G$2,2,3),FALSE)","v":0},{"$f":"VLOOKUP(G30,固定値!$BE$2:$BG$7,3,FALSE)","v":0},"285",{"$f":"IF(G30=ラベル!$G$2,\"\",CHAR(10)&\"【\"&B30&\"】\"&REPT(\"　\",11-LEN(B30))&\"●　　　　　\"&IF(I30>1,\"●\",\"○\")&\"　　　　　\"&IF(I30>2,\"●\",\"○\")&\"　 ／\")","v":""},{"$f":"IF(G30=ラベル!$G$2,\"\",CHAR(10)&\"【\"&B30&\"】\"&REPT(\"　\",8-LEN(B30))&G30&REPT(\" \",22)&J30)","v":""},"285項"]
[null,"生産業：漁業",0,0,0,{"$f":"VLOOKUP(C31,固定値!$AA$2:$AB$7,2,FALSE)","v":"－－－"},{"$f":"VLOOKUP(E31,固定値!$AA$2:$AB$7,2,FALSE)","v":"－－－"},{"$f":"VLOOKUP(G31,固定値!$AK$2:$AM$5,IF(F31=ラベル!$G$2,2,3),FALSE)","v":0},{"$f":"VLOOKUP(G31,固定値!$BE$2:$BG$7,3,FALSE)","v":0},"285",{"$f":"IF(G31=ラベル!$G$2,\"\",CHAR(10)&\"【\"&B31&\"】\"&REPT(\"　\",11-LEN(B31))&\"●　　　　　\"&IF(I31>1,\"●\",\"○\")&\"　　　　　\"&IF(I31>2,\"●\",\"○\")&\"　 ／\")","v":""},{"$f":"IF(G31=ラベル!$G$2,\"\",CHAR(10)&\"【\"&B31&\"】\"&REPT(\"　\",8-LEN(B31))&G31&REPT(\" \",22)&J31)","v":""},"285項"]
[null,"生産業：林業",0,0,0,{"$f":"VLOOKUP(C32,固定値!$AA$2:$AB$7,2,FALSE)","v":"－－－"},{"$f":"VLOOKUP(E32,固定値!$AA$2:$AB$7,2,FALSE)","v":"－－－"},{"$f":"VLOOKUP(G32,固定値!$AK$2:$AM$5,IF(F32=ラベル!$G$2,2,3),FALSE)","v":0},{"$f":"VLOOKUP(G32,固定値!$BE$2:$BG$7,3,FALSE)","v":0},"285",{"$f":"IF(G32=ラベル!$G$2,\"\",CHAR(10)&\"【\"&B32&\"】\"&REPT(\"　\",11-LEN(B32))&\"●　　　　　\"&IF(I32>1,\"●\",\"○\")&\"　　　　　\"&IF(I32>2,\"●\",\"○\")&\"　 ／\")","v":""},{"$f":"IF(G32=ラベル!$G$2,\"\",CHAR(10)&\"【\"&B32&\"】\"&REPT(\"　\",8-LEN(B32))&G32&REPT(\" \",22)&J32)","v":""},"285項"]
[null,"生産業：採掘",0,0,0,{"$f":"VLOOKUP(C33,固定値!$AA$2:$AB$7,2,FALSE)","v":"－－－"},{"$f":"VLOOKUP(E33,固定値!$AA$2:$AB$7,2,FALSE)","v":"－－－"},{"$f":"VLOOKUP(G33,固定値!$AK$2:$AM$5,IF(F33=ラベル!$G$2,2,3),FALSE)","v":0},{"$f":"VLOOKUP(G33,固定値!$BE$2:$BG$7,3,FALSE)","v":0},"285",{"$f":"IF(G33=ラベル!$G$2,\"\",CHAR(10)&\"【\"&B33&\"】\"&REPT(\"　\",11-LEN(B33))&\"●　　　　　\"&IF(I33>1,\"●\",\"○\")&\"　　　　　\"&IF(I33>2,\"●\",\"○\")&\"　 ／\")","v":""},{"$f":"IF(G33=ラベル!$G$2,\"\",CHAR(10)&\"【\"&B33&\"】\"&REPT(\"　\",8-LEN(B33))&G33&REPT(\" \",22)&J33)","v":""},"285項"]
[null,"生存術",0,0,0,{"$f":"VLOOKUP(C34,固定値!$AA$2:$AB$7,2,FALSE)","v":"－－－"},{"$f":"VLOOKUP(E34,固定値!$AA$2:$AB$7,2,FALSE)","v":"－－－"},{"$f":"VLOOKUP(G34,固定値!$AK$2:$AM$5,IF(F34=ラベル!$G$2,2,3),FALSE)","v":0},{"$f":"VLOOKUP(G34,固定値!$BE$2:$BG$7,3,FALSE)","v":0},"280",{"$f":"IF(G34=ラベル!$G$2,\"\",CHAR(10)&\"【\"&B34&\"】\"&REPT(\"　\",11-LEN(B34))&\"●　　　　　\"&IF(I34>1,\"●\",\"○\")&\"　　　　　\"&IF(I34>2,\"●\",\"○\")&\"　 ／\")","v":""},{"$f":"IF(G34=ラベル!$G$2,\"\",CHAR(10)&\"【\"&B34&\"】\"&REPT(\"　\",8-LEN(B34))&G34&REPT(\" \",22)&J34)","v":""},"280項"]
[null,"精霊の愛し子",0,0,0,{"$f":"VLOOKUP(C35,固定値!$AA$2:$AB$7,2,FALSE)","v":"－－－"},{"$f":"VLOOKUP(E35,固定値!$AA$2:$AB$7,2,FALSE)","v":"－－－"},{"$f":"VLOOKUP(G35,固定値!$AK$2:$AM$5,IF(F35=ラベル!$G$2,2,3),FALSE)","v":0},{"$f":"VLOOKUP(G35,固定値!$BE$2:$BG$7,3,FALSE)","v":0},"291",{"$f":"IF(G35=ラベル!$G$2,\"\",CHAR(10)&\"【\"&B35&\"】\"&REPT(\"　\",11-LEN(B35))&\"●　　　　　\"&IF(I35>1,\"●\",\"○\")&\"　　　　　\"&IF(I35>2,\"●\",\"○\")&\"　 ／\")","v":""},{"$f":"IF(G35=ラベル!$G$2,\"\",CHAR(10)&\"【\"&B35&\"】\"&REPT(\"　\",8-LEN(B35))&G35&REPT(\" \",22)&J35)","v":""},"291項"]
[null,"先入観なし",0,0,0,{"$f":"VLOOKUP(C36,固定値!$AA$2:$AB$7,2,FALSE)","v":"－－－"},{"$f":"VLOOKUP(E36,固定値!$AA$2:$AB$7,2,FALSE)","v":"－－－"},{"$f":"VLOOKUP(G36,固定値!$AK$2:$AM$5,IF(F36=ラベル!$G$2,2,3),FALSE)","v":0},{"$f":"VLOOKUP(G36,固定値!$BE$2:$BG$7,3,FALSE)","v":0},"281",{"$f":"IF(G36=ラベル!$G$2,\"\",CHAR(10)&\"【\"&B36&\"】\"&REPT(\"　\",11-LEN(B36))&\"●　　　　　\"&IF(I36>1,\"●\",\"○\")&\"　　　　　\"&IF(I36>2,\"●\",\"○\")&\"　 ／\")","v":""},{"$f":"IF(G36=ラベル!$G$2,\"\",CHAR(10)&\"【\"&B36&\"】\"&REPT(\"　\",8-LEN(B36))&G36&REPT(\" \",22)&J36)","v":""},"281項"]
[null,"長距離移動",1,0,1,{"$f":"VLOOKUP(C37,固定値!$AA$2:$AB$7,2,FALSE)","v":"初歩"},{"$f":"VLOOKUP(E37,固定値!$AA$2:$AB$7,2,FALSE)","v":"初歩"},{"$f":"VLOOKUP(G37,固定値!$AK$2:$AM$5,IF(F37=ラベル!$G$2,2,3),FALSE)","v":0},{"$f":"VLOOKUP(G37,固定値!$BE$2:$BG$7,3,FALSE)","v":1},"289",{"$f":"IF(G37=ラベル!$G$2,\"\",CHAR(10)&\"【\"&B37&\"】\"&REPT(\"　\",11-LEN(B37))&\"●　　　　　\"&IF(I37>1,\"●\",\"○\")&\"　　　　　\"&IF(I37>2,\"●\",\"○\")&\"　 ／\")","v":"\n【長距離移動】　　　　　　●　　　　　○　　　　　○　 ／"},{"$f":"IF(G37=ラベル!$G$2,\"\",CHAR(10)&\"【\"&B37&\"】\"&REPT(\"　\",8-LEN(B37))&G37&REPT(\" \",22)&J37)","v":"\n【長距離移動】　　　初歩                      289"},"289項"]
[null,"調理",0,0,0,{"$f":"VLOOKUP(C38,固定値!$AA$2:$AB$7,2,FALSE)","v":"－－－"},{"$f":"VLOOKUP(E38,固定値!$AA$2:$AB$7,2,FALSE)","v":"－－－"},{"$f":"VLOOKUP(G38,固定値!$AK$2:$AM$5,IF(F38=ラベル!$G$2,2,3),FALSE)","v":0},{"$f":"VLOOKUP(G38,固定値!$BE$2:$BG$7,3,FALSE)","v":0},"290",{"$f":"IF(G38=ラベル!$G$2,\"\",CHAR(10)&\"【\"&B38&\"】\"&REPT(\"　\",11-LEN(B38))&\"●　　　　　\"&IF(I38>1,\"●\",\"○\")&\"　　　　　\"&IF(I38>2,\"●\",\"○\")&\"　 ／\")","v":""},{"$f":"IF(G38=ラベル!$G$2,\"\",CHAR(10)&\"【\"&B38&\"】\"&REPT(\"　\",8-LEN(B38))&G38&REPT(\" \",22)&J38)","v":""},"290項"]
[null,"沈着冷静",0,0,0,{"$f":"VLOOKUP(C39,固定値!$AA$2:$AB$7,2,FALSE)","v":"－－－"},{"$f":"VLOOKUP(E39,固定値!$AA$2:$AB$7,2,FALSE)","v":"－－－"},{"$f":"VLOOKUP(G39,固定値!$AK$2:$AM$5,IF(F39=ラベル!$G$2,2,3),FALSE)","v":0},{"$f":"VLOOKUP(G39,固定値!$BE$2:$BG$7,3,FALSE)","v":0},"282",{"$f":"IF(G39=ラベル!$G$2,\"\",CHAR(10)&\"【\"&B39&\"】\"&REPT(\"　\",11-LEN(B39))&\"●　　　　　\"&IF(I39>1,\"●\",\"○\")&\"　　　　　\"&IF(I39>2,\"●\",\"○\")&\"　 ／\")","v":""},{"$f":"IF(G39=ラベル!$G$2,\"\",CHAR(10)&\"【\"&B39&\"】\"&REPT(\"　\",8-LEN(B39))&G39&REPT(\" \",22)&J39)","v":""},"282項"]
[null,"統率",0,0,0,{"$f":"VLOOKUP(C40,固定値!$AA$2:$AB$7,2,FALSE)","v":"－－－"},{"$f":"VLOOKUP(E40,固定値!$AA$2:$AB$7,2,FALSE)","v":"－－－"},{"$f":"VLOOKUP(G40,固定値!$AK$2:$AM$5,IF(F40=ラベル!$G$2,2,3),FALSE)","v":0},{"$f":"VLOOKUP(G40,固定値!$BE$2:$BG$7,3,FALSE)","v":0},"276",{"$f":"IF(G40=ラベル!$G$2,\"\",CHAR(10)&\"【\"&B40&\"】\"&REPT(\"　\",11-LEN(B40))&\"●　　　　　\"&IF(I40>1,\"●\",\"○\")&\"　　　　　\"&IF(I40>2,\"●\",\"○\")&\"　 ／\")","v":""},{"$f":"IF(G40=ラベル!$G$2,\"\",CHAR(10)&\"【\"&B40&\"】\"&REPT(\"　\",8-LEN(B40))&G40&REPT(\" \",22)&J40)","v":""},"276項"]
[null,"博識",0,0,0,{"$f":"VLOOKUP(C41,固定値!$AA$2:$AB$7,2,FALSE)","v":"－－－"},{"$f":"VLOOKUP(E41,固定値!$AA$2:$AB$7,2,FALSE)","v":"－－－"},{"$f":"VLOOKUP(G41,固定値!$AK$2:$AM$5,IF(F41=ラベル!$G$2,2,3),FALSE)","v":0},{"$f":"VLOOKUP(G41,固定値!$BE$2:$BG$7,3,FALSE)","v":0},"282",{"$f":"IF(G41=ラベル!$G$2,\"\",CHAR(10)&\"【\"&B41&\"】\"&REPT(\"　\",11-LEN(B41))&\"●　　　　　\"&IF(I41>1,\"●\",\"○\")&\"　　　　　\"&IF(I41>2,\"●\",\"○\")&\"　 ／\")","v":""},{"$f":"IF(G41=ラベル!$G$2,\"\",CHAR(10)&\"【\"&B41&\"】\"&REPT(\"　\",8-LEN(B41))&G41&REPT(\" \",22)&J41)","v":""},"282項"]
[null,"犯罪知識",0,0,0,{"$f":"VLOOKUP(C42,固定値!$AA$2:$AB$7,2,FALSE)","v":"－－－"},{"$f":"VLOOKUP(E42,固定値!$AA$2:$AB$7,2,FALSE)","v":"－－－"},{"$f":"VLOOKUP(G42,固定値!$AK$2:$AM$5,IF(F42=ラベル!$G$2,2,3),FALSE)","v":0},{"$f":"VLOOKUP(G42,固定値!$BE$2:$BG$7,3,FALSE)","v":0},"283",{"$f":"IF(G42=ラベル!$G$2,\"\",CHAR(10)&\"【\"&B42&\"】\"&REPT(\"　\",11-LEN(B42))&\"●　　　　　\"&IF(I42>1,\"●\",\"○\")&\"　　　　　\"&IF(I42>2,\"●\",\"○\")&\"　 ／\")","v":""},{"$f":"IF(G42=ラベル!$G$2,\"\",CHAR(10)&\"【\"&B42&\"】\"&REPT(\"　\",8-LEN(B42))&G42&REPT(\" \",22)&J42)","v":""},"283項"]
[null,"文献調査",0,0,0,{"$f":"VLOOKUP(C43,固定値!$AA$2:$AB$7,2,FALSE)","v":"－－－"},{"$f":"VLOOKUP(E43,固定値!$AA$2:$AB$7,2,FALSE)","v":"－－－"},{"$f":"VLOOKUP(G43,固定値!$AK$2:$AM$5,IF(F43=ラベル!$G$2,2,3),FALSE)","v":0},{"$f":"VLOOKUP(G43,固定値!$BE$2:$BG$7,3,FALSE)","v":0},"283",{"$f":"IF(G43=ラベル!$G$2,\"\",CHAR(10)&\"【\"&B43&\"】\"&REPT(\"　\",11-LEN(B43))&\"●　　　　　\"&IF(I43>1,\"●\",\"○\")&\"　　　　　\"&IF(I43>2,\"●\",\"○\")&\"　 ／\")","v":""},{"$f":"IF(G43=ラベル!$G$2,\"\",CHAR(10)&\"【\"&B43&\"】\"&REPT(\"　\",8-LEN(B43))&G43&REPT(\" \",22)&J43)","v":""},"283項"]
[null,"瞑想",0,0,0,{"$f":"VLOOKUP(C44,固定値!$AA$2:$AB$7,2,FALSE)","v":"－－－"},{"$f":"VLOOKUP(E44,固定値!$AA$2:$AB$7,2,FALSE)","v":"－－－"},{"$f":"VLOOKUP(G44,固定値!$AK$2:$AM$5,IF(F44=ラベル!$G$2,2,3),FALSE)","v":0},{"$f":"VLOOKUP(G44,固定値!$BE$2:$BG$7,3,FALSE)","v":0},"277",{"$f":"IF(G44=ラベル!$G$2,\"\",CHAR(10)&\"【\"&B44&\"】\"&REPT(\"　\",11-LEN(B44))&\"●　　　　　\"&IF(I44>1,\"●\",\"○\")&\"　　　　　\"&IF(I44>2,\"●\",\"○\")&\"　 ／\")","v":""},{"$f":"IF(G44=ラベル!$G$2,\"\",CHAR(10)&\"【\"&B44&\"】\"&REPT(\"　\",8-LEN(B44))&G44&REPT(\" \",22)&J44)","v":""},"277項"]
[null,"竜の末裔",0,0,0,{"$f":"VLOOKUP(C45,固定値!$AA$2:$AB$7,2,FALSE)","v":"－－－"},{"$f":"VLOOKUP(E45,固定値!$AA$2:$AB$7,2,FALSE)","v":"－－－"},{"$f":"VLOOKUP(G45,固定値!$AK$2:$AM$5,IF(F45=ラベル!$G$2,2,3),FALSE)","v":0},{"$f":"VLOOKUP(G45,固定値!$BE$2:$BH$7,4,FALSE)","v":0},"292",{"$f":"IF(G45=ラベル!$G$2,\"\",CHAR(10)&\"【\"&B45&\"】\"&REPT(\"　\",11-LEN(B45))&\"●　　　　　\"&IF(I45>1,\"●\",\"○\")&\"　　　　　\"&IF(I45>2,\"●\",\"○\")&\"　 ／\")","v":""},{"$f":"IF(G45=ラベル!$G$2,\"\",CHAR(10)&\"【\"&B45&\"】\"&REPT(\"　\",8-LEN(B45))&G45&REPT(\" \",22)&J45)","v":""},"292項"]
[null,"礼儀作法",0,0,0,{"$f":"VLOOKUP(C46,固定値!$AA$2:$AB$7,2,FALSE)","v":"－－－"},{"$f":"VLOOKUP(E46,固定値!$AA$2:$AB$7,2,FALSE)","v":"－－－"},{"$f":"VLOOKUP(G46,固定値!$AK$2:$AM$5,IF(F46=ラベル!$G$2,2,3),FALSE)","v":0},{"$f":"VLOOKUP(G46,固定値!$BE$2:$BG$7,3,FALSE)","v":0},"284",{"$f":"IF(G46=ラベル!$G$2,\"\",CHAR(10)&\"【\"&B46&\"】\"&REPT(\"　\",11-LEN(B46))&\"●　　　　　\"&IF(I46>1,\"●\",\"○\")&\"　　　　　\"&IF(I46>2,\"●\",\"○\")&\"　 ／\")","v":""},{"$f":"IF(G46=ラベル!$G$2,\"\",CHAR(10)&\"【\"&B46&\"】\"&REPT(\"　\",8-LEN(B46))&G46&REPT(\" \",22)&J46)","v":""},"284項"]
[null,"労働",0,0,0,{"$f":"VLOOKUP(C47,固定値!$AA$2:$AB$7,2,FALSE)","v":"－－－"},{"$f":"VLOOKUP(E47,固定値!$AA$2:$AB$7,2,FALSE)","v":"－－－"},{"$f":"VLOOKUP(G47,固定値!$AK$2:$AM$5,IF(F47=ラベル!$G$2,2,3),FALSE)","v":0},{"$f":"VLOOKUP(G47,固定値!$BE$2:$BG$7,3,FALSE)","v":0},"284",{"$f":"IF(G47=ラベル!$G$2,\"\",CHAR(10)&\"【\"&B47&\"】\"&REPT(\"　\",11-LEN(B47))&\"●　　　　　\"&IF(I47>1,\"●\",\"○\")&\"　　　　　\"&IF(I47>2,\"●\",\"○\")&\"　 ／\")","v":""},{"$f":"IF(G47=ラベル!$G$2,\"\",CHAR(10)&\"【\"&B47&\"】\"&REPT(\"　\",8-LEN(B47))&G47&REPT(\" \",22)&J47)","v":""},"284項"]
[]
[]
[]
[null,"生得技能(1)",null,null,null,{"$f":"VLOOKUP(プロフィール!C3,固定値!DC2:DF6,2,FALSE)","v":"荷重行動：初歩"},{"$f":"IF(F51=\"なし\",\"\",IF(K51=1,FIND(\"：\",F51),FIND(\"：\",F51,FIND(\"：\",F51)+1)))","v":5},{"$f":"IF(G51=\"\",\"\",LEFT(F51,G51-1))","v":"荷重行動"},{"$f":"IF(H51=\"\",0,RIGHT(F51,LEN(F51)-G51))","v":"初歩"},{"$f":"IF(H51=\"\",0,VLOOKUP(I51,固定値!$AD$2:$AE$7,2,FALSE))","v":1},{"$f":"LEN(F51)-LEN(SUBSTITUTE(F51,\"：\",\"\"))","v":1}]
[null,"生得技能(2)",null,null,null,{"$f":"VLOOKUP(プロフィール!C3,固定値!DC2:DF6,3,FALSE)","v":"武器：投擲武器：初歩"},8,{"$f":"IF(G52=\"\",\"\",LEFT(F52,G52-1))","v":"武器：投擲武器"},{"$f":"IF(H52=\"\",0,RIGHT(F52,LEN(F52)-G52))","v":"初歩"},{"$f":"IF(H52=\"\",0,VLOOKUP(I52,固定値!$AD$2:$AE$7,2,FALSE))","v":1},2]
[null,"生得技能(3)",null,null,null,{"$f":"VLOOKUP(プロフィール!C3,固定値!DC2:DF6,4,FALSE)","v":"長距離移動：初歩"},6,"長距離移動","初歩",{"$f":"IF(H53=\"\",0,VLOOKUP(I53,固定値!$AD$2:$AE$7,2,FALSE))","v":1},1]
[null,{"$f":"作成シート!B35","v":"技能出自ボーナス(1)"},null,null,null,{"$f":"作成シート!C35","v":"なし"},"",{"$f":"IF(G54=\"\",\"\",LEFT(F54,G54-1))","v":""},{"$f":"IF(H54=\"\",0,RIGHT(F54,LEN(F54)-G54))","v":0},{"$f":"IF(H54=\"\",0,VLOOKUP(I54,固定値!$AD$2:$AE$7,2,FALSE))","v":0},0]
[null,{"$f":"作成シート!B36","v":"技能出自ボーナス(2)"},null,null,null,{"$f":"作成シート!C36","v":"なし"},"","",0,{"$f":"IF(H55=\"\",0,VLOOKUP(I55,固定値!$AD$2:$AE$7,2,FALSE))","v":0},0]
[null,{"$f":"作成シート!B37","v":"技能来歴ボーナス"},null,null,null,{"$f":"作成シート!C37","v":"なし"},"","",0,{"$f":"IF(H56=\"\",0,VLOOKUP(I56,固定値!$AD$2:$AE$7,2,FALSE))","v":0},0]
[]
[]
[null,{"$f":"作成シート!B54","v":"習得技能(1)"},null,null,null,{"$f":"作成シート!C54","v":"なし"},{"$f":"IF(F59=\"なし\",\"\",IF(K59=1,FIND(\"：\",F59),FIND(\"：\",F59,FIND(\"：\",F59)+1)))","v":""},{"$f":"IF(G59=\"\",\"\",LEFT(F59,G59-1))","v":""},{"$f":"IF(H59=\"\",0,RIGHT(F59,LEN(F59)-G59))","v":0},{"$f":"IF(H59=\"\",0,VLOOKUP(I59,固定値!$AD$2:$AE$7,2,FALSE))","v":0},{"$f":"LEN(F59)-LEN(SUBSTITUTE(F59,\"：\",\"\"))","v":0}]
[null,{"$f":"作成シート!B55","v":"習得技能(2)"},null,null,null,{"$f":"作成シート!C55","v":"なし"},"","",0,{"$f":"IF(H60=\"\",0,VLOOKUP(I60,固定値!$AD$2:$AE$7,2,FALSE))","v":0},0]
[null,{"$f":"作成シート!B56","v":"習得技能(3)"},null,null,null,{"$f":"作成シート!C56","v":"なし"},"","",0,{"$f":"IF(H61=\"\",0,VLOOKUP(I61,固定値!$AD$2:$AE$7,2,FALSE))","v":0},0]
[null,{"$f":"作成シート!B57","v":"習得技能(4)"},null,null,null,{"$f":"作成シート!C57","v":"なし"},"","",0,{"$f":"IF(H62=\"\",0,VLOOKUP(I62,固定値!$AD$2:$AE$7,2,FALSE))","v":0},0]
[null,{"$f":"作成シート!B58","v":"習得技能(5)"},null,null,null,{"$f":"作成シート!C58","v":"なし"},"","",0,{"$f":"IF(H63=\"\",0,VLOOKUP(I63,固定値!$AD$2:$AE$7,2,FALSE))","v":0},0]
[null,{"$f":"作成シート!B59","v":"習得技能(6)"},null,null,null,{"$f":"作成シート!C59","v":"なし"},"","",0,{"$f":"IF(H64=\"\",0,VLOOKUP(I64,固定値!$AD$2:$AE$7,2,FALSE))","v":0},0]
[null,{"$f":"作成シート!B60","v":"習得技能(7)"},null,null,null,{"$f":"作成シート!C60","v":"なし"},"","",0,{"$f":"IF(H65=\"\",0,VLOOKUP(I65,固定値!$AD$2:$AE$7,2,FALSE))","v":0},0]
[null,{"$f":"作成シート!B61","v":"習得技能(8)"},null,null,null,{"$f":"作成シート!C61","v":"なし"},"","",0,{"$f":"IF(H66=\"\",0,VLOOKUP(I66,固定値!$AD$2:$AE$7,2,FALSE))","v":0},0]
[null,{"$f":"作成シート!B62","v":"習得技能(9)"},null,null,null,{"$f":"作成シート!C62","v":"なし"},"","",0,{"$f":"IF(H67=\"\",0,VLOOKUP(I67,固定値!$AD$2:$AE$7,2,FALSE))","v":0},0]
[null,{"$f":"作成シート!B63","v":"習得技能(10)"},null,null,null,{"$f":"作成シート!C63","v":"なし"},"","",0,{"$f":"IF(H68=\"\",0,VLOOKUP(I68,固定値!$AD$2:$AE$7,2,FALSE))","v":0},0]
[null,{"$f":"作成シート!B64","v":"習得技能(11)"},null,null,null,{"$f":"作成シート!C64","v":"なし"},"","",0,{"$f":"IF(H69=\"\",0,VLOOKUP(I69,固定値!$AD$2:$AE$7,2,FALSE))","v":0},0]
[null,{"$f":"作成シート!B65","v":"習得技能(12)"},null,null,null,{"$f":"作成シート!C65","v":"なし"},"","",0,{"$f":"IF(H70=\"\",0,VLOOKUP(I70,固定値!$AD$2:$AE$7,2,FALSE))","v":0},0]
[null,{"$f":"作成シート!B66","v":"習得技能(13)"},null,null,null,{"$f":"作成シート!C66","v":"なし"},"","",0,{"$f":"IF(H71=\"\",0,VLOOKUP(I71,固定値!$AD$2:$AE$7,2,FALSE))","v":0},0]
[null,{"$f":"作成シート!B67","v":"習得技能(14)"},null,null,null,{"$f":"作成シート!C67","v":"なし"},"","",0,{"$f":"IF(H72=\"\",0,VLOOKUP(I72,固定値!$AD$2:$AE$7,2,FALSE))","v":0},0]
[null,{"$f":"作成シート!B68","v":"習得技能(15)"},null,null,null,{"$f":"作成シート!C68","v":"なし"},"","",0,{"$f":"IF(H73=\"\",0,VLOOKUP(I73,固定値!$AD$2:$AE$7,2,FALSE))","v":0},0]
[null,{"$f":"作成シート!B69","v":"習得技能(16)"},null,null,null,{"$f":"作成シート!C69","v":"なし"},"","",0,{"$f":"IF(H74=\"\",0,VLOOKUP(I74,固定値!$AD$2:$AE$7,2,FALSE))","v":0},0]
[null,{"$f":"作成シート!B70","v":"習得技能(17)"},null,null,null,{"$f":"作成シート!C70","v":"なし"},"","",0,{"$f":"IF(H75=\"\",0,VLOOKUP(I75,固定値!$AD$2:$AE$7,2,FALSE))","v":0},0]
[null,{"$f":"作成シート!B71","v":"習得技能(18)"},null,null,null,{"$f":"作成シート!C71","v":"なし"},"","",0,{"$f":"IF(H76=\"\",0,VLOOKUP(I76,固定値!$AD$2:$AE$7,2,FALSE))","v":0},0]
[null,{"$f":"作成シート!B72","v":"習得技能(19)"},null,null,null,{"$f":"作成シート!C72","v":"なし"},"","",0,{"$f":"IF(H77=\"\",0,VLOOKUP(I77,固定値!$AD$2:$AE$7,2,FALSE))","v":0},0]
[null,{"$f":"作成シート!B73","v":"習得技能(20)"},null,null,null,{"$f":"作成シート!C73","v":"なし"},"","",0,{"$f":"IF(H78=\"\",0,VLOOKUP(I78,固定値!$AD$2:$AE$7,2,FALSE))","v":0},0]
[null,{"$f":"作成シート!B74","v":"習得技能(21)"},null,null,null,{"$f":"作成シート!C74","v":"なし"},"","",0,{"$f":"IF(H79=\"\",0,VLOOKUP(I79,固定値!$AD$2:$AE$7,2,FALSE))","v":0},0]
[null,{"$f":"作成シート!B75","v":"習得技能(22)"},null,null,null,{"$f":"作成シート!C75","v":"なし"},"","",0,{"$f":"IF(H80=\"\",0,VLOOKUP(I80,固定値!$AD$2:$AE$7,2,FALSE))","v":0},0]
[null,{"$f":"作成シート!B76","v":"習得技能(23)"},null,null,null,{"$f":"作成シート!C76","v":"なし"},"","",0,{"$f":"IF(H81=\"\",0,VLOOKUP(I81,固定値!$AD$2:$AE$7,2,FALSE))","v":0},0]
[null,{"$f":"作成シート!B77","v":"習得技能(24)"},null,null,null,{"$f":"作成シート!C77","v":"なし"},"","",0,{"$f":"IF(H82=\"\",0,VLOOKUP(I82,固定値!$AD$2:$AE$7,2,FALSE))","v":0},0]

{"sheet":"追加成長点","index":16,"n_rows":3,"n_cols":3,"rows_kept":3,"cut":false,"hidden":false,"merged":[]}
[]
[null,"追加成長点","消費経験値"]
[null,{"$f":"作成シート!C43","v":0},{"$f":"B3*500","v":0}]

{"sheet":"エラー","index":17,"n_rows":131,"n_cols":7,"rows_kept":131,"cut":false,"hidden":false,"merged":[]}
[null,null,"基準値",{"$f":"D2&D3&D4&D5&D6&D7&D8&D9&D10&D11&D12&D13&D14&D15&D16&D17&D18&D19&D20&D21&D22&D23&D24&D25&D26&D27&D28&D29&D30&D31&D32&D33&D34&D35&D36&D37&D38&D39&D40&D41&D42&D43&D44&D45&D46&D47&D48&D49&D50&D51&D52&D53&D54&D55&D56&D57&D58&D59&D60&D61&D62&D63&D64&D65&D66&D67&D68&D69&D70&D71&D72&D73&D74&D75&D76&D77&D78&D79&D80&D81&D82&D83&D84&D85&D86&D87&D88&D89&D90&D91&D92&D93&D94&D95&D96&D97&D98&D99&D100&D101&D102&D103&D104&D105&D106&D107&D108&D109&D110&D111&D112&D113&D114&D115&D116&D117&D118&D119&D120&D121&D122&D123&D124&D125&D126&D127&D128&D129&D130&D131","v":""}]
[null,"真言呪文が少なすぎます",{"$f":"冒険者職業レベル!E27+冒険者職業レベル!F27-冒険者職業レベル!G27","v":0},{"$f":"IF(C2>0,CHAR(10)&B2,\"\")","v":""}]
[null,"真言呪文が多すぎます",{"$f":"冒険者職業レベル!E27+冒険者職業レベル!F27-冒険者職業レベル!G27","v":0},{"$f":"IF(C3<0,CHAR(10)&B3,\"\")","v":""}]
[null,"奇跡が少なすぎます",{"$f":"冒険者職業レベル!E28+冒険者職業レベル!F28-冒険者職業レベル!G28","v":0},{"$f":"IF(C4>0,CHAR(10)&B4,\"\")","v":""}]
[null,"奇跡が多すぎます",{"$f":"冒険者職業レベル!E28+冒険者職業レベル!F28-冒険者職業レベル!G28","v":0},{"$f":"IF(C5<0,CHAR(10)&B5,\"\")","v":""}]
[null,"祖竜術が少なすぎます",{"$f":"冒険者職業レベル!E29+冒険者職業レベル!F29-冒険者職業レベル!G29","v":0},{"$f":"IF(C6>0,CHAR(10)&B6,\"\")","v":""}]
[null,"祖竜術が多すぎます",{"$f":"冒険者職業レベル!E29+冒険者職業レベル!F29-冒険者職業レベル!G29","v":0},{"$f":"IF(C7<0,CHAR(10)&B7,\"\")","v":""}]
[null,"精霊術が少なすぎます",{"$f":"冒険者職業レベル!E30+冒険者職業レベル!F30-冒険者職業レベル!G30","v":0},{"$f":"IF(C8>0,CHAR(10)&B8,\"\")","v":""}]
[null,"精霊術が多すぎます",{"$f":"冒険者職業レベル!E30+冒険者職業レベル!F30-冒険者職業レベル!G30","v":0},{"$f":"IF(C9<0,CHAR(10)&B9,\"\")","v":""}]
[null,{"$f":"F10&G10&E10","v":"戦士のレベルが出自・来歴ボーナスがあるのに、現在値に反映されていません"},{"$f":"冒険者職業レベル!D3-冒険者職業レベル!E3","v":0},{"$f":"IF(C10>0,CHAR(10)&B10,\"\")","v":""},"が出自・来歴ボーナスがあるのに、現在値に反映されていません","戦士","のレベル"]
[null,{"$f":"F11&G11&E11","v":"武道家のレベルが出自・来歴ボーナスがあるのに、現在値に反映されていません"},{"$f":"冒険者職業レベル!D4-冒険者職業レベル!E4","v":0},{"$f":"IF(C11>0,CHAR(10)&B11,\"\")","v":""},"が出自・来歴ボーナスがあるのに、現在値に反映されていません","武道家","のレベル"]
[null,"野伏のレベルが出自・来歴ボーナスがあるのに、現在値に反映されていません",{"$f":"冒険者職業レベル!D5-冒険者職業レベル!E5","v":0},"","が出自・来歴ボーナスがあるのに、現在値に反映されていません","野伏","のレベル"]
[null,"斥候のレベルが出自・来歴ボーナスがあるのに、現在値に反映されていません",{"$f":"冒険者職業レベル!D6-冒険者職業レベル!E6","v":0},"","が出自・来歴ボーナスがあるのに、現在値に反映されていません","斥候","のレベル"]
[null,"魔術師のレベルが出自・来歴ボーナスがあるのに、現在値に反映されていません",{"$f":"冒険者職業レベル!D7-冒険者職業レベル!E7","v":0},"","が出自・来歴ボーナスがあるのに、現在値に反映されていません","魔術師","のレベル"]
[null,"神官のレベルが出自・来歴ボーナスがあるのに、現在値に反映されていません",{"$f":"冒険者職業レベル!D8-冒険者職業レベル!E8","v":0},"","が出自・来歴ボーナスがあるのに、現在値に反映されていません","神官","のレベル"]
[null,"竜司祭のレベルが出自・来歴ボーナスがあるのに、現在値に反映されていません",{"$f":"冒険者職業レベル!D9-冒険者職業レベル!E9","v":0},"","が出自・来歴ボーナスがあるのに、現在値に反映されていません","竜司祭","のレベル"]
[null,"精霊使いのレベルが出自・来歴ボーナスがあるのに、現在値に反映されていません",{"$f":"冒険者職業レベル!D10-冒険者職業レベル!E10","v":0},{"$f":"IF(C17>0,CHAR(10)&B17,\"\")","v":""},"が出自・来歴ボーナスがあるのに、現在値に反映されていません","精霊使い","のレベル"]
[null,"能力値ボーナスが設定されていません",{"$f":"SUM(能力値!F4:F7)","v":1},{"$f":"IF(C18=0,CHAR(10)&B18,\"\")","v":""}]
[null,"受身の習熟段階が出自・来歴ボーナスがあるのに、現在値に反映されていません",null,{"$f":"IF(冒険者技能!H3=ラベル!$G$3,IF(冒険者技能!I3=ラベル!$G$2,CHAR(10)&B19,\"\"),\"\")","v":""},"が出自・来歴ボーナスがあるのに、現在値に反映されていません","受身","の習熟段階"]
[null,"応急手当の習熟段階が出自・来歴ボーナスがあるのに、現在値に反映されていません",null,{"$f":"IF(冒険者技能!H4=ラベル!$G$3,IF(冒険者技能!I4=ラベル!$G$2,CHAR(10)&B20,\"\"),\"\")","v":""},"が出自・来歴ボーナスがあるのに、現在値に反映されていません","応急手当","の習熟段階"]
[null,"隠密の習熟段階が出自・来歴ボーナスがあるのに、現在値に反映されていません",null,{"$f":"IF(冒険者技能!H5=ラベル!$G$3,IF(冒険者技能!I5=ラベル!$G$2,CHAR(10)&B21,\"\"),\"\")","v":""},"が出自・来歴ボーナスがあるのに、現在値に反映されていません","隠密","の習熟段階"]
[null,"頑健の習熟段階が出自・来歴ボーナスがあるのに、現在値に反映されていません",null,{"$f":"IF(冒険者技能!H6=ラベル!$G$3,IF(冒険者技能!I6=ラベル!$G$2,CHAR(10)&B22,\"\"),\"\")","v":""},"が出自・来歴ボーナスがあるのに、現在値に反映されていません","頑健","の習熟段階"]
[null,"観察の習熟段階が出自・来歴ボーナスがあるのに、現在値に反映されていません",null,{"$f":"IF(冒険者技能!H7=ラベル!$G$3,IF(冒険者技能!I7=ラベル!$G$2,CHAR(10)&B23,\"\"),\"\")","v":""},"が出自・来歴ボーナスがあるのに、現在値に反映されていません","観察","の習熟段階"]
[null,"機先の習熟段階が出自・来歴ボーナスがあるのに、現在値に反映されていません",null,{"$f":"IF(冒険者技能!H8=ラベル!$G$3,IF(冒険者技能!I8=ラベル!$G$2,CHAR(10)&B24,\"\"),\"\")","v":""},"が出自・来歴ボーナスがあるのに、現在値に反映されていません","機先","の習熟段階"]
[null,"幸運の習熟段階が出自・来歴ボーナスがあるのに、現在値に反映されていません",null,{"$f":"IF(冒険者技能!H9=ラベル!$G$3,IF(冒険者技能!I9=ラベル!$G$2,CHAR(10)&B25,\"\"),\"\")","v":""},"が出自・来歴ボーナスがあるのに、現在値に反映されていません","幸運","の習熟段階"]
[null,"呪文抵抗の習熟段階が出自・来歴ボーナスがあるのに、現在値に反映されていません",null,{"$f":"IF(冒険者技能!H10=ラベル!$G$3,IF(冒険者技能!I10=ラベル!$G$2,CHAR(10)&B26,\"\"),\"\")","v":""},"が出自・来歴ボーナスがあるのに、現在値に反映されていません","呪文抵抗","の習熟段階"]
[null,"戦術移動の習熟段階が出自・来歴ボーナスがあるのに、現在値に反映されていません",null,{"$f":"IF(冒険者技能!H11=ラベル!$G$3,IF(冒険者技能!I11=ラベル!$G$2,CHAR(10)&B27,\"\"),\"\")","v":""},"が出自・来歴ボーナスがあるのに、現在値に反映されていません","戦術移動","の習熟段階"]
[null,"第六感の習熟段階が出自・来歴ボーナスがあるのに、現在値に反映されていません",null,{"$f":"IF(冒険者技能!H12=ラベル!$G$3,IF(冒険者技能!I12=ラベル!$G$2,CHAR(10)&B28,\"\"),\"\")","v":""},"が出自・来歴ボーナスがあるのに、現在値に反映されていません","第六感","の習熟段階"]
[null,"治癒適正の習熟段階が出自・来歴ボーナスがあるのに、現在値に反映されていません",null,{"$f":"IF(冒険者技能!H13=ラベル!$G$3,IF(冒険者技能!I13=ラベル!$G$2,CHAR(10)&B29,\"\"),\"\")","v":""},"が出自・来歴ボーナスがあるのに、現在値に反映されていません","治癒適正","の習熟段階"]
[null,"手仕事の習熟段階が出自・来歴ボーナスがあるのに、現在値に反映されていません",null,{"$f":"IF(冒険者技能!H14=ラベル!$G$3,IF(冒険者技能!I14=ラベル!$G$2,CHAR(10)&B30,\"\"),\"\")","v":""},"が出自・来歴ボーナスがあるのに、現在値に反映されていません","手仕事","の習熟段階"]
[null,"忍耐の習熟段階が出自・来歴ボーナスがあるのに、現在値に反映されていません",null,{"$f":"IF(冒険者技能!H15=ラベル!$G$3,IF(冒険者技能!I15=ラベル!$G$2,CHAR(10)&B31,\"\"),\"\")","v":""},"が出自・来歴ボーナスがあるのに、現在値に反映されていません","忍耐","の習熟段階"]
[null,"免疫強化の習熟段階が出自・来歴ボーナスがあるのに、現在値に反映されていません",null,{"$f":"IF(冒険者技能!H16=ラベル!$G$3,IF(冒険者技能!I16=ラベル!$G$2,CHAR(10)&B32,\"\"),\"\")","v":""},"が出自・来歴ボーナスがあるのに、現在値に反映されていません","免疫強化","の習熟段階"]
[null,"受け流しの習熟段階が出自・来歴ボーナスがあるのに、現在値に反映されていません",null,{"$f":"IF(冒険者技能!H17=ラベル!$G$3,IF(冒険者技能!I17=ラベル!$G$2,CHAR(10)&B33,\"\"),\"\")","v":""},"が出自・来歴ボーナスがあるのに、現在値に反映されていません","受け流し","の習熟段階"]
[null,"荷重行動の習熟段階が出自・来歴ボーナスがあるのに、現在値に反映されていません",null,{"$f":"IF(冒険者技能!H18=ラベル!$G$3,IF(冒険者技能!I18=ラベル!$G$2,CHAR(10)&B34,\"\"),\"\")","v":""},"が出自・来歴ボーナスがあるのに、現在値に反映されていません","荷重行動","の習熟段階"]
[null,"強打攻撃・斬の習熟段階が出自・来歴ボーナスがあるのに、現在値に反映されていません",null,{"$f":"IF(冒険者技能!H19=ラベル!$G$3,IF(冒険者技能!I19=ラベル!$G$2,CHAR(10)&B35,\"\"),\"\")","v":""},"が出自・来歴ボーナスがあるのに、現在値に反映されていません","強打攻撃・斬","の習熟段階"]
[null,"強打攻撃・殴の習熟段階が出自・来歴ボーナスがあるのに、現在値に反映されていません",null,{"$f":"IF(冒険者技能!H20=ラベル!$G$3,IF(冒険者技能!I20=ラベル!$G$2,CHAR(10)&B36,\"\"),\"\")","v":""},"が出自・来歴ボーナスがあるのに、現在値に反映されていません","強打攻撃・殴","の習熟段階"]
[null,"曲射の習熟段階が出自・来歴ボーナスがあるのに、現在値に反映されていません",null,{"$f":"IF(冒険者技能!H21=ラベル!$G$3,IF(冒険者技能!I21=ラベル!$G$2,CHAR(10)&B37,\"\"),\"\")","v":""},"が出自・来歴ボーナスがあるのに、現在値に反映されていません","曲射","の習熟段階"]
[null,"斬落攻撃の習熟段階が出自・来歴ボーナスがあるのに、現在値に反映されていません",null,{"$f":"IF(冒険者技能!H22=ラベル!$G$3,IF(冒険者技能!I22=ラベル!$G$2,CHAR(10)&B38,\"\"),\"\")","v":""},"が出自・来歴ボーナスがあるのに、現在値に反映されていません","斬落攻撃","の習熟段階"]
[null,"拘束攻撃の習熟段階が出自・来歴ボーナスがあるのに、現在値に反映されていません",null,{"$f":"IF(冒険者技能!H23=ラベル!$G$3,IF(冒険者技能!I23=ラベル!$G$2,CHAR(10)&B39,\"\"),\"\")","v":""},"が出自・来歴ボーナスがあるのに、現在値に反映されていません","拘束攻撃","の習熟段階"]
[null,"護衛の習熟段階が出自・来歴ボーナスがあるのに、現在値に反映されていません",null,{"$f":"IF(冒険者技能!H24=ラベル!$G$3,IF(冒険者技能!I24=ラベル!$G$2,CHAR(10)&B40,\"\"),\"\")","v":""},"が出自・来歴ボーナスがあるのに、現在値に反映されていません","護衛","の習熟段階"]
[null,"死角移動の習熟段階が出自・来歴ボーナスがあるのに、現在値に反映されていません",null,{"$f":"IF(冒険者技能!H25=ラベル!$G$3,IF(冒険者技能!I25=ラベル!$G$2,CHAR(10)&B41,\"\"),\"\")","v":""},"が出自・来歴ボーナスがあるのに、現在値に反映されていません","死角移動","の習熟段階"]
[null,"刺突攻撃の習熟段階が出自・来歴ボーナスがあるのに、現在値に反映されていません",null,{"$f":"IF(冒険者技能!H26=ラベル!$G$3,IF(冒険者技能!I26=ラベル!$G$2,CHAR(10)&B42,\"\"),\"\")","v":""},"が出自・来歴ボーナスがあるのに、現在値に反映されていません","刺突攻撃","の習熟段階"]
[null,"狙撃の習熟段階が出自・来歴ボーナスがあるのに、現在値に反映されていません",null,{"$f":"IF(冒険者技能!H27=ラベル!$G$3,IF(冒険者技能!I27=ラベル!$G$2,CHAR(10)&B43,\"\"),\"\")","v":""},"が出自・来歴ボーナスがあるのに、現在値に反映されていません","狙撃","の習熟段階"]
[null,"速射の習熟段階が出自・来歴ボーナスがあるのに、現在値に反映されていません",null,{"$f":"IF(冒険者技能!H28=ラベル!$G$3,IF(冒険者技能!I28=ラベル!$G$2,CHAR(10)&B44,\"\"),\"\")","v":""},"が出自・来歴ボーナスがあるのに、現在値に反映されていません","速射","の習熟段階"]
[null,"体術の習熟段階が出自・来歴ボーナスがあるのに、現在値に反映されていません",null,{"$f":"IF(冒険者技能!H29=ラベル!$G$3,IF(冒険者技能!I29=ラベル!$G$2,CHAR(10)&B45,\"\"),\"\")","v":""},"が出自・来歴ボーナスがあるのに、現在値に反映されていません","体術","の習熟段階"]
[null,"盾の習熟段階が出自・来歴ボーナスがあるのに、現在値に反映されていません",null,{"$f":"IF(冒険者技能!H30=ラベル!$G$3,IF(冒険者技能!I30=ラベル!$G$2,CHAR(10)&B46,\"\"),\"\")","v":""},"が出自・来歴ボーナスがあるのに、現在値に反映されていません","盾","の習熟段階"]
[null,"挑発の習熟段階が出自・来歴ボーナスがあるのに、現在値に反映されていません",null,{"$f":"IF(冒険者技能!H31=ラベル!$G$3,IF(冒険者技能!I31=ラベル!$G$2,CHAR(10)&B47,\"\"),\"\")","v":""},"が出自・来歴ボーナスがあるのに、現在値に反映されていません","挑発","の習熟段階"]
[null,"鉄の拳の習熟段階が出自・来歴ボーナスがあるのに、現在値に反映されていません",null,{"$f":"IF(冒険者技能!H32=ラベル!$G$3,IF(冒険者技能!I32=ラベル!$G$2,CHAR(10)&B48,\"\"),\"\")","v":""},"が出自・来歴ボーナスがあるのに、現在値に反映されていません","鉄の拳","の習熟段階"]
[null,"鉄壁の習熟段階が出自・来歴ボーナスがあるのに、現在値に反映されていません",null,{"$f":"IF(冒険者技能!H33=ラベル!$G$3,IF(冒険者技能!I33=ラベル!$G$2,CHAR(10)&B49,\"\"),\"\")","v":""},"が出自・来歴ボーナスがあるのに、現在値に反映されていません","鉄壁","の習熟段階"]
[null,"薙ぎ払いの習熟段階が出自・来歴ボーナスがあるのに、現在値に反映されていません",null,{"$f":"IF(冒険者技能!H34=ラベル!$G$3,IF(冒険者技能!I34=ラベル!$G$2,CHAR(10)&B50,\"\"),\"\")","v":""},"が出自・来歴ボーナスがあるのに、現在値に反映されていません","薙ぎ払い","の習熟段階"]
[null,"二刀流の習熟段階が出自・来歴ボーナスがあるのに、現在値に反映されていません",null,{"$f":"IF(冒険者技能!H35=ラベル!$G$3,IF(冒険者技能!I35=ラベル!$G$2,CHAR(10)&B51,\"\"),\"\")","v":""},"が出自・来歴ボーナスがあるのに、現在値に反映されていません","二刀流","の習熟段階"]
[null,"発勁の習熟段階が出自・来歴ボーナスがあるのに、現在値に反映されていません",null,{"$f":"IF(冒険者技能!H36=ラベル!$G$3,IF(冒険者技能!I36=ラベル!$G$2,CHAR(10)&B52,\"\"),\"\")","v":""},"が出自・来歴ボーナスがあるのに、現在値に反映されていません","発勁","の習熟段階"]
[null,"武器：片手剣の習熟段階が出自・来歴ボーナスがあるのに、現在値に反映されていません",null,{"$f":"IF(冒険者技能!H37=ラベル!$G$3,IF(冒険者技能!I37=ラベル!$G$2,CHAR(10)&B53,\"\"),\"\")","v":""},"が出自・来歴ボーナスがあるのに、現在値に反映されていません","武器：片手剣","の習熟段階"]
[null,"武器：両手剣の習熟段階が出自・来歴ボーナスがあるのに、現在値に反映されていません",null,{"$f":"IF(冒険者技能!H38=ラベル!$G$3,IF(冒険者技能!I38=ラベル!$G$2,CHAR(10)&B54,\"\"),\"\")","v":""},"が出自・来歴ボーナスがあるのに、現在値に反映されていません","武器：両手剣","の習熟段階"]
[null,"武器：斧の習熟段階が出自・来歴ボーナスがあるのに、現在値に反映されていません",null,{"$f":"IF(冒険者技能!H39=ラベル!$G$3,IF(冒険者技能!I39=ラベル!$G$2,CHAR(10)&B55,\"\"),\"\")","v":""},"が出自・来歴ボーナスがあるのに、現在値に反映されていません","武器：斧","の習熟段階"]
[null,"武器：槍の習熟段階が出自・来歴ボーナスがあるのに、現在値に反映されていません",null,{"$f":"IF(冒険者技能!H40=ラベル!$G$3,IF(冒険者技能!I40=ラベル!$G$2,CHAR(10)&B56,\"\"),\"\")","v":""},"が出自・来歴ボーナスがあるのに、現在値に反映されていません","武器：槍","の習熟段階"]
[null,"武器：戦槌の習熟段階が出自・来歴ボーナスがあるのに、現在値に反映されていません",null,{"$f":"IF(冒険者技能!H41=ラベル!$G$3,IF(冒険者技能!I41=ラベル!$G$2,CHAR(10)&B57,\"\"),\"\")","v":""},"が出自・来歴ボーナスがあるのに、現在値に反映されていません","武器：戦槌","の習熟段階"]
[null,"武器：棍杖の習熟段階が出自・来歴ボーナスがあるのに、現在値に反映されていません",null,{"$f":"IF(冒険者技能!H42=ラベル!$G$3,IF(冒険者技能!I42=ラベル!$G$2,CHAR(10)&B58,\"\"),\"\")","v":""},"が出自・来歴ボーナスがあるのに、現在値に反映されていません","武器：棍杖","の習熟段階"]
[null,"武器：格闘武器の習熟段階が出自・来歴ボーナスがあるのに、現在値に反映されていません",null,{"$f":"IF(冒険者技能!H43=ラベル!$G$3,IF(冒険者技能!I43=ラベル!$G$2,CHAR(10)&B59,\"\"),\"\")","v":""},"が出自・来歴ボーナスがあるのに、現在値に反映されていません","武器：格闘武器","の習熟段階"]
[null,"武器：投擲武器の習熟段階が出自・来歴ボーナスがあるのに、現在値に反映されていません",null,{"$f":"IF(冒険者技能!H44=ラベル!$G$3,IF(冒険者技能!I44=ラベル!$G$2,CHAR(10)&B60,\"\"),\"\")","v":""},"が出自・来歴ボーナスがあるのに、現在値に反映されていません","武器：投擲武器","の習熟段階"]
[null,"武器：弩弓の習熟段階が出自・来歴ボーナスがあるのに、現在値に反映されていません",null,{"$f":"IF(冒険者技能!H45=ラベル!$G$3,IF(冒険者技能!I45=ラベル!$G$2,CHAR(10)&B61,\"\"),\"\")","v":""},"が出自・来歴ボーナスがあるのに、現在値に反映されていません","武器：弩弓","の習熟段階"]
[null,"見切りの習熟段階が出自・来歴ボーナスがあるのに、現在値に反映されていません",null,{"$f":"IF(冒険者技能!H46=ラベル!$G$3,IF(冒険者技能!I46=ラベル!$G$2,CHAR(10)&B62,\"\"),\"\")","v":""},"が出自・来歴ボーナスがあるのに、現在値に反映されていません","見切り","の習熟段階"]
[null,"鎧：衣鎧の習熟段階が出自・来歴ボーナスがあるのに、現在値に反映されていません",null,{"$f":"IF(冒険者技能!H47=ラベル!$G$3,IF(冒険者技能!I47=ラベル!$G$2,CHAR(10)&B63,\"\"),\"\")","v":""},"が出自・来歴ボーナスがあるのに、現在値に反映されていません","鎧：衣鎧","の習熟段階"]
[null,"鎧：軽鎧の習熟段階が出自・来歴ボーナスがあるのに、現在値に反映されていません",null,{"$f":"IF(冒険者技能!H48=ラベル!$G$3,IF(冒険者技能!I48=ラベル!$G$2,CHAR(10)&B64,\"\"),\"\")","v":""},"が出自・来歴ボーナスがあるのに、現在値に反映されていません","鎧：軽鎧","の習熟段階"]
[null,"鎧：重鎧の習熟段階が出自・来歴ボーナスがあるのに、現在値に反映されていません",null,{"$f":"IF(冒険者技能!H49=ラベル!$G$3,IF(冒険者技能!I49=ラベル!$G$2,CHAR(10)&B65,\"\"),\"\")","v":""},"が出自・来歴ボーナスがあるのに、現在値に反映されていません","鎧：重鎧","の習熟段階"]
[null,"火の遣い手の習熟段階が出自・来歴ボーナスがあるのに、現在値に反映されていません",null,{"$f":"IF(冒険者技能!H50=ラベル!$G$3,IF(冒険者技能!I50=ラベル!$G$2,CHAR(10)&B66,\"\"),\"\")","v":""},"が出自・来歴ボーナスがあるのに、現在値に反映されていません","火の遣い手","の習熟段階"]
[null,"水の遣い手の習熟段階が出自・来歴ボーナスがあるのに、現在値に反映されていません",null,{"$f":"IF(冒険者技能!H51=ラベル!$G$3,IF(冒険者技能!I51=ラベル!$G$2,CHAR(10)&B67,\"\"),\"\")","v":""},"が出自・来歴ボーナスがあるのに、現在値に反映されていません","水の遣い手","の習熟段階"]
[null,"風の遣い手の習熟段階が出自・来歴ボーナスがあるのに、現在値に反映されていません",null,{"$f":"IF(冒険者技能!H52=ラベル!$G$3,IF(冒険者技能!I52=ラベル!$G$2,CHAR(10)&B68,\"\"),\"\")","v":""},"が出自・来歴ボーナスがあるのに、現在値に反映されていません","風の遣い手","の習熟段階"]
[null,"土の遣い手の習熟段階が出自・来歴ボーナスがあるのに、現在値に反映されていません",null,{"$f":"IF(冒険者技能!H53=ラベル!$G$3,IF(冒険者技能!I53=ラベル!$G$2,CHAR(10)&B69,\"\"),\"\")","v":""},"が出自・来歴ボーナスがあるのに、現在値に反映されていません","土の遣い手","の習熟段階"]
[null,"生命の遣い手の習熟段階が出自・来歴ボーナスがあるのに、現在値に反映されていません",null,{"$f":"IF(冒険者技能!H54=ラベル!$G$3,IF(冒険者技能!I54=ラベル!$G$2,CHAR(10)&B70,\"\"),\"\")","v":""},"が出自・来歴ボーナスがあるのに、現在値に反映されていません","生命の遣い手","の習熟段階"]
[null,"怪物知識の習熟段階が出自・来歴ボーナスがあるのに、現在値に反映されていません",null,{"$f":"IF(冒険者技能!H55=ラベル!$G$3,IF(冒険者技能!I55=ラベル!$G$2,CHAR(10)&B71,\"\"),\"\")","v":""},"が出自・来歴ボーナスがあるのに、現在値に反映されていません","怪物知識","の習熟段階"]
[null,"呪文熟達：攻撃呪文の習熟段階が出自・来歴ボーナスがあるのに、現在値に反映されていません",null,{"$f":"IF(冒険者技能!H56=ラベル!$G$3,IF(冒険者技能!I56=ラベル!$G$2,CHAR(10)&B72,\"\"),\"\")","v":""},"が出自・来歴ボーナスがあるのに、現在値に反映されていません","呪文熟達：攻撃呪文","の習熟段階"]
[null,"呪文熟達：付与呪文の習熟段階が出自・来歴ボーナスがあるのに、現在値に反映されていません",null,{"$f":"IF(冒険者技能!H57=ラベル!$G$3,IF(冒険者技能!I57=ラベル!$G$2,CHAR(10)&B73,\"\"),\"\")","v":""},"が出自・来歴ボーナスがあるのに、現在値に反映されていません","呪文熟達：付与呪文","の習熟段階"]
[null,"呪文熟達：創造呪文の習熟段階が出自・来歴ボーナスがあるのに、現在値に反映されていません",null,{"$f":"IF(冒険者技能!H58=ラベル!$G$3,IF(冒険者技能!I58=ラベル!$G$2,CHAR(10)&B74,\"\"),\"\")","v":""},"が出自・来歴ボーナスがあるのに、現在値に反映されていません","呪文熟達：創造呪文","の習熟段階"]
[null,{"$f":"F75&G75&E75","v":"呪文熟達：支配呪文の習熟段階が出自・来歴ボーナスがあるのに、現在値に反映されていません"},null,{"$f":"IF(冒険者技能!H59=ラベル!$G$3,IF(冒険者技能!I59=ラベル!$G$2,CHAR(10)&B75,\"\"),\"\")","v":""},"が出自・来歴ボーナスがあるのに、現在値に反映されていません","呪文熟達：支配呪文","の習熟段階"]
[null,"呪文熟達：治癒呪文の習熟段階が出自・来歴ボーナスがあるのに、現在値に反映されていません",null,{"$f":"IF(冒険者技能!H60=ラベル!$G$3,IF(冒険者技能!I60=ラベル!$G$2,CHAR(10)&B76,\"\"),\"\")","v":""},"が出自・来歴ボーナスがあるのに、現在値に反映されていません","呪文熟達：治癒呪文","の習熟段階"]
[null,"呪文熟達：汎用呪文の習熟段階が出自・来歴ボーナスがあるのに、現在値に反映されていません",null,{"$f":"IF(冒険者技能!H61=ラベル!$G$3,IF(冒険者技能!I61=ラベル!$G$2,CHAR(10)&B77,\"\"),\"\")","v":""},"が出自・来歴ボーナスがあるのに、現在値に反映されていません","呪文熟達：汎用呪文","の習熟段階"]
[null,"呪文増強：威力の習熟段階が出自・来歴ボーナスがあるのに、現在値に反映されていません",null,{"$f":"IF(冒険者技能!H62=ラベル!$G$3,IF(冒険者技能!I62=ラベル!$G$2,CHAR(10)&B78,\"\"),\"\")","v":""},"が出自・来歴ボーナスがあるのに、現在値に反映されていません","呪文増強：威力","の習熟段階"]
[null,"呪文追加：真言呪文の習熟段階が出自・来歴ボーナスがあるのに、現在値に反映されていません",null,{"$f":"IF(冒険者技能!H63=ラベル!$G$3,IF(冒険者技能!I63=ラベル!$G$2,CHAR(10)&B79,\"\"),\"\")","v":""},"が出自・来歴ボーナスがあるのに、現在値に反映されていません","呪文追加：真言呪文","の習熟段階"]
[null,"呪文追加：奇跡の習熟段階が出自・来歴ボーナスがあるのに、現在値に反映されていません",null,{"$f":"IF(冒険者技能!H64=ラベル!$G$3,IF(冒険者技能!I64=ラベル!$G$2,CHAR(10)&B80,\"\"),\"\")","v":""},"が出自・来歴ボーナスがあるのに、現在値に反映されていません","呪文追加：奇跡","の習熟段階"]
[null,"呪文追加：祖竜術の習熟段階が出自・来歴ボーナスがあるのに、現在値に反映されていません",null,{"$f":"IF(冒険者技能!H65=ラベル!$G$3,IF(冒険者技能!I65=ラベル!$G$2,CHAR(10)&B81,\"\"),\"\")","v":""},"が出自・来歴ボーナスがあるのに、現在値に反映されていません","呪文追加：祖竜術","の習熟段階"]
[null,"呪文追加：精霊術の習熟段階が出自・来歴ボーナスがあるのに、現在値に反映されていません",null,{"$f":"IF(冒険者技能!H66=ラベル!$G$3,IF(冒険者技能!I66=ラベル!$G$2,CHAR(10)&B82,\"\"),\"\")","v":""},"が出自・来歴ボーナスがあるのに、現在値に反映されていません","呪文追加：精霊術","の習熟段階"]
[null,"魔法の才の習熟段階が出自・来歴ボーナスがあるのに、現在値に反映されていません",null,{"$f":"IF(冒険者技能!H67=ラベル!$G$3,IF(冒険者技能!I67=ラベル!$G$2,CHAR(10)&B83,\"\"),\"\")","v":""},"が出自・来歴ボーナスがあるのに、現在値に反映されていません","魔法の才","の習熟段階"]
[null,"暗視の習熟段階が出自・来歴ボーナスがあるのに、現在値に反映されていません",null,{"$f":"IF(冒険者技能!H68=ラベル!$G$3,IF(冒険者技能!I68=ラベル!$G$2,CHAR(10)&B84,\"\"),\"\")","v":""},"が出自・来歴ボーナスがあるのに、現在値に反映されていません","暗視","の習熟段階"]
[null,"鑑定の習熟段階が出自・来歴ボーナスがあるのに、現在値に反映されていません",null,{"$f":"IF(冒険者技能!H69=ラベル!$G$3,IF(冒険者技能!I69=ラベル!$G$2,CHAR(10)&B85,\"\"),\"\")","v":""},"が出自・来歴ボーナスがあるのに、現在値に反映されていません","鑑定","の習熟段階"]
[null,"騎乗の習熟段階が出自・来歴ボーナスがあるのに、現在値に反映されていません",null,{"$f":"IF(冒険者技能!H70=ラベル!$G$3,IF(冒険者技能!I70=ラベル!$G$2,CHAR(10)&B86,\"\"),\"\")","v":""},"が出自・来歴ボーナスがあるのに、現在値に反映されていません","騎乗","の習熟段階"]
[null,"祈祷の習熟段階が出自・来歴ボーナスがあるのに、現在値に反映されていません",null,{"$f":"IF(冒険者技能!H71=ラベル!$G$3,IF(冒険者技能!I71=ラベル!$G$2,CHAR(10)&B87,\"\"),\"\")","v":""},"が出自・来歴ボーナスがあるのに、現在値に反映されていません","祈祷","の習熟段階"]
[null,"芸能：歌唱の習熟段階が出自・来歴ボーナスがあるのに、現在値に反映されていません",null,{"$f":"IF(冒険者技能!H72=ラベル!$G$3,IF(冒険者技能!I72=ラベル!$G$2,CHAR(10)&B88,\"\"),\"\")","v":""},"が出自・来歴ボーナスがあるのに、現在値に反映されていません","芸能：歌唱","の習熟段階"]
[null,"芸能：演奏の習熟段階が出自・来歴ボーナスがあるのに、現在値に反映されていません",null,{"$f":"IF(冒険者技能!H73=ラベル!$G$3,IF(冒険者技能!I73=ラベル!$G$2,CHAR(10)&B89,\"\"),\"\")","v":""},"が出自・来歴ボーナスがあるのに、現在値に反映されていません","芸能：演奏","の習熟段階"]
[null,"芸能：舞踊の習熟段階が出自・来歴ボーナスがあるのに、現在値に反映されていません",null,{"$f":"IF(冒険者技能!H74=ラベル!$G$3,IF(冒険者技能!I74=ラベル!$G$2,CHAR(10)&B90,\"\"),\"\")","v":""},"が出自・来歴ボーナスがあるのに、現在値に反映されていません","芸能：舞踊","の習熟段階"]
[null,"芸能：大道芸の習熟段階が出自・来歴ボーナスがあるのに、現在値に反映されていません",null,{"$f":"IF(冒険者技能!H75=ラベル!$G$3,IF(冒険者技能!I75=ラベル!$G$2,CHAR(10)&B91,\"\"),\"\")","v":""},"が出自・来歴ボーナスがあるのに、現在値に反映されていません","芸能：大道芸","の習熟段階"]
[null,"芸能：演劇の習熟段階が出自・来歴ボーナスがあるのに、現在値に反映されていません",null,{"$f":"IF(冒険者技能!H76=ラベル!$G$3,IF(冒険者技能!I76=ラベル!$G$2,CHAR(10)&B92,\"\"),\"\")","v":""},"が出自・来歴ボーナスがあるのに、現在値に反映されていません","芸能：演劇","の習熟段階"]
[null,"工作の習熟段階が出自・来歴ボーナスがあるのに、現在値に反映されていません",null,{"$f":"IF(冒険者技能!H77=ラベル!$G$3,IF(冒険者技能!I77=ラベル!$G$2,CHAR(10)&B93,\"\"),\"\")","v":""},"が出自・来歴ボーナスがあるのに、現在値に反映されていません","工作","の習熟段階"]
[null,"交渉：説得の習熟段階が出自・来歴ボーナスがあるのに、現在値に反映されていません",null,{"$f":"IF(冒険者技能!H78=ラベル!$G$3,IF(冒険者技能!I78=ラベル!$G$2,CHAR(10)&B94,\"\"),\"\")","v":""},"が出自・来歴ボーナスがあるのに、現在値に反映されていません","交渉：説得","の習熟段階"]
[null,"交渉：誘惑の習熟段階が出自・来歴ボーナスがあるのに、現在値に反映されていません",null,{"$f":"IF(冒険者技能!H79=ラベル!$G$3,IF(冒険者技能!I79=ラベル!$G$2,CHAR(10)&B95,\"\"),\"\")","v":""},"が出自・来歴ボーナスがあるのに、現在値に反映されていません","交渉：誘惑","の習熟段階"]
[null,"交渉：脅迫の習熟段階が出自・来歴ボーナスがあるのに、現在値に反映されていません",null,{"$f":"IF(冒険者技能!H80=ラベル!$G$3,IF(冒険者技能!I80=ラベル!$G$2,CHAR(10)&B96,\"\"),\"\")","v":""},"が出自・来歴ボーナスがあるのに、現在値に反映されていません","交渉：脅迫","の習熟段階"]
[null,"交渉：言いくるめの習熟段階が出自・来歴ボーナスがあるのに、現在値に反映されていません",null,{"$f":"IF(冒険者技能!H81=ラベル!$G$3,IF(冒険者技能!I81=ラベル!$G$2,CHAR(10)&B97,\"\"),\"\")","v":""},"が出自・来歴ボーナスがあるのに、現在値に反映されていません","交渉：言いくるめ","の習熟段階"]
[null,"職人：火事の習熟段階が出自・来歴ボーナスがあるのに、現在値に反映されていません",null,{"$f":"IF(冒険者技能!H82=ラベル!$G$3,IF(冒険者技能!I82=ラベル!$G$2,CHAR(10)&B98,\"\"),\"\")","v":""},"が出自・来歴ボーナスがあるのに、現在値に反映されていません","職人：火事","の習熟段階"]
[null,"職人：裁縫の習熟段階が出自・来歴ボーナスがあるのに、現在値に反映されていません",null,{"$f":"IF(冒険者技能!H83=ラベル!$G$3,IF(冒険者技能!I83=ラベル!$G$2,CHAR(10)&B99,\"\"),\"\")","v":""},"が出自・来歴ボーナスがあるのに、現在値に反映されていません","職人：裁縫","の習熟段階"]
[null,"職人：木工の習熟段階が出自・来歴ボーナスがあるのに、現在値に反映されていません",null,{"$f":"IF(冒険者技能!H84=ラベル!$G$3,IF(冒険者技能!I84=ラベル!$G$2,CHAR(10)&B100,\"\"),\"\")","v":""},"が出自・来歴ボーナスがあるのに、現在値に反映されていません","職人：木工","の習熟段階"]
[null,"職人：革細工の習熟段階が出自・来歴ボーナスがあるのに、現在値に反映されていません",null,{"$f":"IF(冒険者技能!H85=ラベル!$G$3,IF(冒険者技能!I85=ラベル!$G$2,CHAR(10)&B101,\"\"),\"\")","v":""},"が出自・来歴ボーナスがあるのに、現在値に反映されていません","職人：革細工","の習熟段階"]
[null,"職人：彫金の習熟段階が出自・来歴ボーナスがあるのに、現在値に反映されていません",null,{"$f":"IF(冒険者技能!H86=ラベル!$G$3,IF(冒険者技能!I86=ラベル!$G$2,CHAR(10)&B102,\"\"),\"\")","v":""},"が出自・来歴ボーナスがあるのに、現在値に反映されていません","職人：彫金","の習熟段階"]
[null,"神学の習熟段階が出自・来歴ボーナスがあるのに、現在値に反映されていません",null,{"$f":"IF(冒険者技能!H87=ラベル!$G$3,IF(冒険者技能!I87=ラベル!$G$2,CHAR(10)&B103,\"\"),\"\")","v":""},"が出自・来歴ボーナスがあるのに、現在値に反映されていません","神学","の習熟段階"]
[null,"信仰心：至高神の習熟段階が出自・来歴ボーナスがあるのに、現在値に反映されていません",null,{"$f":"IF(冒険者技能!H88=ラベル!$G$3,IF(冒険者技能!I88=ラベル!$G$2,CHAR(10)&B104,\"\"),\"\")","v":""},"が出自・来歴ボーナスがあるのに、現在値に反映されていません","信仰心：至高神","の習熟段階"]
[null,"信仰心：地母神の習熟段階が出自・来歴ボーナスがあるのに、現在値に反映されていません",null,{"$f":"IF(冒険者技能!H89=ラベル!$G$3,IF(冒険者技能!I89=ラベル!$G$2,CHAR(10)&B105,\"\"),\"\")","v":""},"が出自・来歴ボーナスがあるのに、現在値に反映されていません","信仰心：地母神","の習熟段階"]
[null,"信仰心：交易神の習熟段階が出自・来歴ボーナスがあるのに、現在値に反映されていません",null,{"$f":"IF(冒険者技能!H90=ラベル!$G$3,IF(冒険者技能!I90=ラベル!$G$2,CHAR(10)&B106,\"\"),\"\")","v":""},"が出自・来歴ボーナスがあるのに、現在値に反映されていません","信仰心：交易神","の習熟段階"]
[null,"信仰心：知識神の習熟段階が出自・来歴ボーナスがあるのに、現在値に反映されていません",null,{"$f":"IF(冒険者技能!H91=ラベル!$G$3,IF(冒険者技能!I91=ラベル!$G$2,CHAR(10)&B107,\"\"),\"\")","v":""},"が出自・来歴ボーナスがあるのに、現在値に反映されていません","信仰心：知識神","の習熟段階"]
[null,"信仰心：戦女神の習熟段階が出自・来歴ボーナスがあるのに、現在値に反映されていません",null,{"$f":"IF(冒険者技能!H92=ラベル!$G$3,IF(冒険者技能!I92=ラベル!$G$2,CHAR(10)&B108,\"\"),\"\")","v":""},"が出自・来歴ボーナスがあるのに、現在値に反映されていません","信仰心：戦女神","の習熟段階"]
[null,"信仰心：祖竜の習熟段階が出自・来歴ボーナスがあるのに、現在値に反映されていません",null,{"$f":"IF(冒険者技能!H93=ラベル!$G$3,IF(冒険者技能!I93=ラベル!$G$2,CHAR(10)&B109,\"\"),\"\")","v":""},"が出自・来歴ボーナスがあるのに、現在値に反映されていません","信仰心：祖竜","の習熟段階"]
[null,"生産業：農業の習熟段階が出自・来歴ボーナスがあるのに、現在値に反映されていません",null,{"$f":"IF(冒険者技能!H94=ラベル!$G$3,IF(冒険者技能!I94=ラベル!$G$2,CHAR(10)&B110,\"\"),\"\")","v":""},"が出自・来歴ボーナスがあるのに、現在値に反映されていません","生産業：農業","の習熟段階"]
[null,"生産業：漁業の習熟段階が出自・来歴ボーナスがあるのに、現在値に反映されていません",null,{"$f":"IF(冒険者技能!H95=ラベル!$G$3,IF(冒険者技能!I95=ラベル!$G$2,CHAR(10)&B111,\"\"),\"\")","v":""},"が出自・来歴ボーナスがあるのに、現在値に反映されていません","生産業：漁業","の習熟段階"]
[null,"生産業：林業の習熟段階が出自・来歴ボーナスがあるのに、現在値に反映されていません",null,{"$f":"IF(冒険者技能!H96=ラベル!$G$3,IF(冒険者技能!I96=ラベル!$G$2,CHAR(10)&B112,\"\"),\"\")","v":""},"が出自・来歴ボーナスがあるのに、現在値に反映されていません","生産業：林業","の習熟段階"]
[null,"生産業：採掘の習熟段階が出自・来歴ボーナスがあるのに、現在値に反映されていません",null,{"$f":"IF(冒険者技能!H97=ラベル!$G$3,IF(冒険者技能!I97=ラベル!$G$2,CHAR(10)&B113,\"\"),\"\")","v":""},"が出自・来歴ボーナスがあるのに、現在値に反映されていません","生産業：採掘","の習熟段階"]
[null,"生存術の習熟段階が出自・来歴ボーナスがあるのに、現在値に反映されていません",null,{"$f":"IF(冒険者技能!H98=ラベル!$G$3,IF(冒険者技能!I98=ラベル!$G$2,CHAR(10)&B114,\"\"),\"\")","v":""},"が出自・来歴ボーナスがあるのに、現在値に反映されていません","生存術","の習熟段階"]
[null,"精霊の愛し子の習熟段階が出自・来歴ボーナスがあるのに、現在値に反映されていません",null,{"$f":"IF(冒険者技能!H99=ラベル!$G$3,IF(冒険者技能!I99=ラベル!$G$2,CHAR(10)&B115,\"\"),\"\")","v":""},"が出自・来歴ボーナスがあるのに、現在値に反映されていません","精霊の愛し子","の習熟段階"]
[null,"先入観なしの習熟段階が出自・来歴ボーナスがあるのに、現在値に反映されていません",null,{"$f":"IF(冒険者技能!H100=ラベル!$G$3,IF(冒険者技能!I100=ラベル!$G$2,CHAR(10)&B116,\"\"),\"\")","v":""},"が出自・来歴ボーナスがあるのに、現在値に反映されていません","先入観なし","の習熟段階"]
[null,"長距離移動の習熟段階が出自・来歴ボーナスがあるのに、現在値に反映されていません",null,{"$f":"IF(冒険者技能!H101=ラベル!$G$3,IF(冒険者技能!I101=ラベル!$G$2,CHAR(10)&B117,\"\"),\"\")","v":""},"が出自・来歴ボーナスがあるのに、現在値に反映されていません","長距離移動","の習熟段階"]
[null,"調理の習熟段階が出自・来歴ボーナスがあるのに、現在値に反映されていません",null,{"$f":"IF(冒険者技能!H102=ラベル!$G$3,IF(冒険者技能!I102=ラベル!$G$2,CHAR(10)&B118,\"\"),\"\")","v":""},"が出自・来歴ボーナスがあるのに、現在値に反映されていません","調理","の習熟段階"]
[null,"冷静沈着の習熟段階が出自・来歴ボーナスがあるのに、現在値に反映されていません",null,{"$f":"IF(冒険者技能!H103=ラベル!$G$3,IF(冒険者技能!I103=ラベル!$G$2,CHAR(10)&B119,\"\"),\"\")","v":""},"が出自・来歴ボーナスがあるのに、現在値に反映されていません","冷静沈着","の習熟段階"]
[null,"統率の習熟段階が出自・来歴ボーナスがあるのに、現在値に反映されていません",null,{"$f":"IF(冒険者技能!H104=ラベル!$G$3,IF(冒険者技能!I104=ラベル!$G$2,CHAR(10)&B120,\"\"),\"\")","v":""},"が出自・来歴ボーナスがあるのに、現在値に反映されていません","統率","の習熟段階"]
[null,"博識の習熟段階が出自・来歴ボーナスがあるのに、現在値に反映されていません",null,{"$f":"IF(冒険者技能!H105=ラベル!$G$3,IF(冒険者技能!I105=ラベル!$G$2,CHAR(10)&B121,\"\"),\"\")","v":""},"が出自・来歴ボーナスがあるのに、現在値に反映されていません","博識","の習熟段階"]
[null,"犯罪知識の習熟段階が出自・来歴ボーナスがあるのに、現在値に反映されていません",null,{"$f":"IF(冒険者技能!H106=ラベル!$G$3,IF(冒険者技能!I106=ラベル!$G$2,CHAR(10)&B122,\"\"),\"\")","v":""},"が出自・来歴ボーナスがあるのに、現在値に反映されていません","犯罪知識","の習熟段階"]
[null,"文献調査の習熟段階が出自・来歴ボーナスがあるのに、現在値に反映されていません",null,{"$f":"IF(冒険者技能!H107=ラベル!$G$3,IF(冒険者技能!I107=ラベル!$G$2,CHAR(10)&B123,\"\"),\"\")","v":""},"が出自・来歴ボーナスがあるのに、現在値に反映されていません","文献調査","の習熟段階"]
[null,"瞑想の習熟段階が出自・来歴ボーナスがあるのに、現在値に反映されていません",null,{"$f":"IF(冒険者技能!H108=ラベル!$G$3,IF(冒険者技能!I108=ラベル!$G$2,CHAR(10)&B124,\"\"),\"\")","v":""},"が出自・来歴ボーナスがあるのに、現在値に反映されていません","瞑想","の習熟段階"]
[null,"竜の末裔の習熟段階が出自・来歴ボーナスがあるのに、現在値に反映されていません",null,{"$f":"IF(冒険者技能!H109=ラベル!$G$3,IF(冒険者技能!I109=ラベル!$G$2,CHAR(10)&B125,\"\"),\"\")","v":""},"が出自・来歴ボーナスがあるのに、現在値に反映されていません","竜の末裔","の習熟段階"]
[null,"礼儀作法の習熟段階が出自・来歴ボーナスがあるのに、現在値に反映されていません",null,{"$f":"IF(冒険者技能!H110=ラベル!$G$3,IF(冒険者技能!I110=ラベル!$G$2,CHAR(10)&B126,\"\"),\"\")","v":""},"が出自・来歴ボーナスがあるのに、現在値に反映されていません","礼儀作法","の習熟段階"]
[null,"労働の習熟段階が出自・来歴ボーナスがあるのに、現在値に反映されていません",null,{"$f":"IF(冒険者技能!H111=ラベル!$G$3,IF(冒険者技能!I111=ラベル!$G$2,CHAR(10)&B127,\"\"),\"\")","v":""},"が出自・来歴ボーナスがあるのに、現在値に反映されていません","労働","の習熟段階"]
[null,"習得可能最大習熟段階を超過しています",{"$f":"冒険者職業レベル!E20-冒険者職業レベル!E21","v":0},{"$f":"IF(C128<0,CHAR(10)&B128,\"\")","v":""}]
[null,"冒険者等級の条件を満たしていません",{"$f":"MIN(冒険者職業レベル!D19-冒険者職業レベル!E19,冒険者職業レベル!D31-冒険者職業レベル!E31)","v":0},{"$f":"IF(C129<0,CHAR(10)&B129,\"\")","v":""}]
[null,"成長点が足りません",{"$f":"冒険者職業レベル!D18","v":10},{"$f":"IF(C130<0,CHAR(10)&B130,\"\")","v":""}]
[null,"経験値が足りません",{"$f":"冒険者職業レベル!D15","v":3000},{"$f":"IF(C131<0,CHAR(10)&B131,\"\")","v":""}]

{"sheet":"ラベル","index":18,"n_rows":462,"n_cols":75,"rows_kept":462,"cut":false,"hidden":false,"merged":[]}
["能力値タイプ","状態タイプ","種族","冒険者等級","状態タイプ選択","初期習熟段階","冒険者技能習熟段階","一般技能習熟段階","出自ボーナス","冒険者職業レベル","真言呪文","奇跡","祖竜術","精霊術","冒険アイテム","冒険結果","数値","近接職","盾受け職","回避職","出目","年齢","性別","ボーナス","出目","出目","出目","能力値ボーナス","冒険者職業レベル出自ボーナス","冒険者職業レベル","技能一覧","技能一覧：初歩","消耗品一覧","呪文種別","種別絞り込みなし","技能絞り込み","技能絞り込みなし","冒険者技能：職業共通","冒険者技能：戦士系職業向け","冒険者技能：戦士系職業向け：攻撃","冒険者技能：戦士系職業向け：武器","冒険者技能：戦士系職業向け：鎧","冒険者技能：呪文遣い職業向け","冒険者技能：呪文遣い職業向け：遣い手","冒険者技能：呪文遣い職業向け：呪文熟達","冒険者技能：呪文遣い職業向け：呪文増強","冒険者技能：呪文遣い職業向け：呪文追加","一般技能","一般技能：芸能","一般技能：交渉","一般技能：職人","一般技能：信仰心","一般技能：生産業","武器種別","武器種別絞り込みなし","武器_片手剣","武器_両手剣","武器_戦槌","武器_弩弓","武器_投擲武器","武器_斧","武器_槍","武器_棍杖","武器_格闘武器","鎧種別","鎧種別絞り込みなし","鎧_衣鎧","鎧_軽鎧","鎧_重鎧","盾種別","盾種別絞り込みなし","小型盾","大型盾","信仰","入手手段"]
["固定値","固定値","只人","白磁等級","状態／2D6(1回目)","－－－","－－－","－－－",0,0,"なし","なし","なし","なし","なし",null,0,"戦士","戦士","戦士",2,"不明","男性",0,1,"1,2",1,"体力点","なし","なし","なし","なし",null,"種別絞り込みなし","なし","技能絞り込みなし","なし","なし","なし","なし","なし","なし","なし","なし","なし","なし","なし","なし","なし","なし","なし","なし","なし","武器種別絞り込みなし","なし","なし","なし","なし","なし","なし","なし","なし","なし","なし","鎧種別絞り込みなし","なし","なし","なし","なし","盾種別絞り込みなし","なし","なし","なし","なし","購入"]
["ランダム","ランダム","鉱人","黒曜等級","状態／2D6(2回目)","初歩","初歩","初歩",1,1,"分身","解毒","擬態","命水","冒険者ツール(鈎縄10m、楔10個、小槌、火口箱、背負い袋、携帯用食器、水袋、白墨、小刀、松明(6本))","達成",1,"武道家","斥候","武道家",3,"不詳","女性",1,2,"3,4",2,"魂魄点","戦士(出自ボーナス)","戦士：1","受身：初歩","受身：初歩","携帯食","真言呪文","分身","冒険者技能_職業共通","受身：初歩","受身：初歩","受け流し：初歩","強打攻撃・斬：初歩","武器：片手剣：初歩","鎧：衣鎧：初歩","火の遣い手：初歩","火の遣い手：初歩","呪文熟達：攻撃呪文：初歩","呪文増強：威力：初歩","呪文追加：真言呪文：初歩","暗視：初歩","芸能：歌唱：初歩","交渉：説得：初歩","職人：鍛冶：初歩","信仰心：至高神：初歩","生産業：農業：初歩","武器_片手剣","粗悪な剣","粗悪な剣","鮫刃の剣","袋棍","短弓","投石","粗悪な斧","粗悪な槍","投石杖（棍杖）","素手攻撃（片手）","鎧_衣鎧","外套","外套","野伏の外套","鎖帷子","小型盾","大篭手","大篭手","尖盾","地母神","拾得"]
[null,null,"森人","鋼鉄等級","状態／2D6(3回目)",null,"習熟","習熟",null,2,"解錠","沈黙","念話","燐光","携帯食","未達成",2,"野伏","なし","斥候",4,"14歳以下","その他",null,3,"5,6",3,"技量点","武道家(出自ボーナス)","戦士：2","受身：習熟","応急手当：初歩","水袋","奇跡","解錠","冒険者技能_戦士系職業向け","受身：習熟","受身：習熟","受け流し：習熟","強打攻撃・斬：習熟","武器：片手剣：習熟","鎧：衣鎧：習熟","火の遣い手：習熟","火の遣い手：習熟","呪文熟達：攻撃呪文：習熟","呪文増強：威力：習熟","呪文追加：真言呪文：習熟","暗視：習熟","芸能：歌唱：習熟","交渉：説得：習熟","職人：鍛冶：習熟","信仰心：至高神：習熟","生産業：農業：習熟","武器_両手剣","短剣","短剣","湾刀","棍棒","投矢銃","投矢","鉈","投槍","紅玉の杖","素手攻撃（両手）","鎧_軽鎧","布鎧","布鎧","狩人の外套","鱗状鎧","大型盾","小盾","小盾","馬上盾","至高神"]
[null,null,"蜥蜴人","青玉等級",null,null,"熟練","熟練",null,3,"贋金","聖域","竜牙刀／竜爪","隠蔽","携帯食：3",null,3,"斥候",null,"なし",5,"自称15","不詳",null,null,null,4,"知力点","野伏(出自ボーナス)","戦士：3","受身：熟練","隠密：初歩","松明","祖竜術","贋金","冒険者技能_戦士系職業向け_強打攻撃","受身：熟練","受身：熟練","受け流し：熟練","強打攻撃・斬：熟練","武器：片手剣：熟練","鎧：衣鎧：熟練","火の遣い手：熟練","火の遣い手：熟練","呪文熟達：攻撃呪文：熟練","呪文増強：威力：熟練","呪文追加：真言呪文：熟練","暗視：熟練","芸能：歌唱：熟練","交渉：説得：熟練","職人：鍛冶：熟練","信仰心：至高神：熟練","生産業：農業：熟練","武器_戦槌","拳剣","拳剣","片手半剣（片手）","戦棍","弩","投分銅","手斧","短槍","錫杖","拳帯（片手）","鎧_重鎧","旅人の外套","旅人の外套","革鎧","板状鎧",null,"円盾","円盾","騎士盾","知識神"]
[null,null,"圃人","翠玉等級",null,null,"達人",null,null,4,"通訳","敵意","敵意（祖霊術）","風化","携帯食：21",null,4,"なし",null,null,6,15,"不明",null,null,null,5,null,"斥候(出自ボーナス)","戦士：4","受身：達人","頑健：初歩","油","精霊術","通訳","冒険者技能_戦士系職業向け_武器","受身：達人","受身：達人","受け流し：達人","強打攻撃・斬：達人","武器：片手剣：達人","鎧：衣鎧：達人","火の遣い手：達人","火の遣い手：達人","呪文熟達：攻撃呪文：達人","呪文増強：威力：達人","呪文追加：真言呪文：達人","鑑定：初歩","芸能：即興詩：初歩","交渉：誘惑：初歩","職人：裁縫：初歩","信仰心：地母神：初歩","生産業：漁業：初歩","武器_弩弓","黒曜の剣","黒曜の剣","片手半剣（両手）","片鶴嘴","長弓","飛棍","投斧","小槍（片手）","司教杖","拳帯（両手）",null,"綿鎧","綿鎧","硬い革鎧","小札鎧",null,"吊盾","吊盾","大盾","交易神"]
[null,null,null,"紅玉等級",null,null,"伝説",null,null,5,"天候","看破","突撃","水歩","衣類",null,5,null,null,null,7,16,"中性",null,null,null,6,null,"魔術師(出自ボーナス)","戦士：5","受身：伝説","観察：初歩","石弾",null,"天候","冒険者技能_戦士系職業向け_鎧","受身：伝説","受身：伝説","受け流し：伝説","強打攻撃・斬：伝説","武器：片手剣：伝説","鎧：衣鎧：伝説","火の遣い手：伝説","火の遣い手：伝説","呪文熟達：攻撃呪文：伝説","呪文増強：威力：伝説","呪文追加：真言呪文：伝説","鑑定：習熟","芸能：即興詩：習熟","交渉：誘惑：習熟","職人：裁縫：習熟","信仰心：地母神：習熟","生産業：漁業：習熟","武器_投擲武器","舶刀","舶刀","鎧通し","槌鉾","大弓","投石紐","戦斧（片手）","小槍（両手）","六尺棒","打布槍",null,"神官服","神官服","胸甲","胴鎧",null,"投火盾","投火盾",null,"戦女神"]
[null,null,null,"銅等級",null,null,"なし",null,null,6,"脱出","解呪","狩場","猫目","鍵開け道具",null,6,null,null,null,8,17,"両性具有",null,null,null,null,null,"神官(出自ボーナス)","戦士：6","応急手当：初歩","機先：初歩","矢",null,"脱出","冒険者技能_呪文遣い職業向け","応急手当：初歩","応急手当：初歩","荷重行動：初歩","強打攻撃・殴：初歩","武器：両手剣：初歩","鎧：軽鎧：初歩","水の遣い手：初歩","水の遣い手：初歩","呪文熟達：付与呪文：初歩",null,"呪文追加：奇跡：初歩","鑑定：熟練","芸能：即興詩：熟練","交渉：誘惑：熟練","職人：裁縫：熟練","信仰心：地母神：熟練","生産業：漁業：熟練","武器_斧","小剣","小剣","炎紋剣","刺鉄球","弩砲","飛刀","戦斧（両手）","鉄小槍（片手）","双節棍","旋棍",null,"司教服","司教服","下着鎧","板金鎧",null,"尖盾","魔法の小盾（＋１）",null,"上位神"]
[null,null,null,"銀等級",null,null,null,null,null,7,"力与","鎮静","竜眼","雨乞","化粧道具",null,7,null,null,null,9,18,null,null,null,null,null,null,"竜司祭(出自ボーナス)","戦士：7","応急手当：習熟","幸運：初歩","太矢",null,"力与","冒険者技能_呪文遣い職業向け_遣い手","応急手当：習熟","応急手当：習熟","荷重行動：習熟","強打攻撃・殴：習熟","武器：両手剣：習熟","鎧：軽鎧：習熟","水の遣い手：習熟","水の遣い手：習熟","呪文熟達：付与呪文：習熟",null,"呪文追加：奇跡：習熟","騎乗：初歩","芸能：演奏：初歩","交渉：脅迫：初歩","職人：木工：初歩","信仰心：交易神：初歩","生産業：林業：初歩","武器_槍","偃月刀","偃月刀","大剣","戦嘴","抱大筒","戦輪","大斧","鉄小槍（両手）","打狗棒","虎爪（片手）",null,"野伏の外套",null,"鋲付きの革鎧","当世具足",null,"馬上盾","竜鱗の吊盾",null,"邪神"]
[null,null,null,"金等級",null,null,null,null,null,8,"火与","賦活","竜鱗","使役","調理道具",null,8,null,null,null,10,19,null,null,null,null,null,null,"精霊使い(出自ボーナス)","戦士：8","応急手当：熟練","呪文抵抗：初歩","投矢",null,"火与","冒険者技能_呪文遣い職業向け_呪文熟達","応急手当：熟練","応急手当：熟練","荷重行動：熟練","強打攻撃・殴：熟練","武器：両手剣：熟練","鎧：軽鎧：熟練","水の遣い手：熟練","水の遣い手：熟練","呪文熟達：付与呪文：熟練",null,"呪文追加：奇跡：熟練","騎乗：習熟","芸能：演奏：習熟","交渉：脅迫：習熟","職人：木工：習熟","信仰心：交易神：習熟","生産業：林業：習熟","武器_棍杖","突剣","突剣",null,"大戦槌","竜髭の短弓","南洋式投げナイフ","斧槍","農叉","連節棍","虎爪（両手）",null,"狩人の外套",null,"魔法の鋲付きの革鎧（＋１）",null,null,"騎士盾",null,null,"覚知神"]
[null,null,null,null,null,null,null,null,null,9,"抗魔","小癒","竜牙兵","雷矢","手当道具",null,9,null,null,null,11,20,null,null,null,null,null,null,null,"戦士：9","応急手当：達人","戦術移動：初歩","弾丸",null,"抗魔","冒険者技能_呪文遣い職業向け_呪文増強","応急手当：達人","応急手当：達人","荷重行動：達人","強打攻撃・殴：達人","武器：両手剣：達人","鎧：軽鎧：達人","水の遣い手：達人","水の遣い手：達人","呪文熟達：付与呪文：達人",null,"呪文追加：奇跡：達人","騎乗：熟練","芸能：演奏：熟練","交渉：脅迫：熟練","職人：木工：熟練","信仰心：交易神：熟練","生産業：林業：熟練","武器_格闘武器","広刃の剣","広刃の剣",null,"大金棒",null,"投石杖",null,"三叉槍","金砕棒","長傘",null,"革鎧",null,"魔法の鋲付きの革鎧（＋２）",null,null,"大盾",null,null,"自然"]
[null,null,null,null,null,null,null,null,null,10,"魅了","聖歌","竜血","石弾","手当道具：5",null,10,null,null,null,12,21,null,null,null,null,null,null,null,"戦士：10","応急手当：伝説","第六感：初歩","火の秘薬",null,"魅了","冒険者技能_呪文遣い職業向け_呪文追加","応急手当：伝説","応急手当：伝説","荷重行動：伝説","強打攻撃・殴：伝説","武器：両手剣：伝説","鎧：軽鎧：伝説","水の遣い手：伝説","水の遣い手：伝説","呪文熟達：付与呪文：伝説",null,"呪文追加：奇跡：伝説","祈祷：初歩","芸能：舞踊：初歩",null,"職人：革細工：初歩","信仰心：知識神：初歩","生産業：採掘：初歩",null,"曲刀","曲刀",null,"松明",null,"血滴子",null,"長槍","鞭","鉄靴",null,"硬い革鎧",null,null,null,null,"魔法の小盾（＋１）",null,null,"恐るべき竜"]
[null,null,null,null,null,null,null,null,null,null,"破裂","浄化","竜命","泥罠","罠師道具",null,11,null,null,null,null,22,null,null,null,null,null,null,null,"武道家：1","隠密：初歩","治癒適正：初歩","手当道具",null,"破裂","一般技能","隠密：初歩","隠密：初歩","強打攻撃・斬：初歩","斬落攻撃：初歩","武器：斧：初歩","鎧：重鎧：初歩","風の遣い手：初歩","風の遣い手：初歩","呪文熟達：創造呪文：初歩",null,"呪文追加：祖竜術：初歩","祈祷：習熟","芸能：舞踊：習熟",null,"職人：革細工：習熟","信仰心：知識神：習熟","生産業：採掘：習熟",null,"長剣（片手）","長剣（片手）",null,"円匙",null,"投石紐（店石）",null,"薙刀","聖鞭","拳鍔（片手）",null,"胸甲",null,null,null,null,"竜鱗の吊盾",null,null,"その他"]
[null,null,null,null,null,null,null,null,null,null,"流砂","祝福","竜息（火）","霊壁","罠師道具：5",null,12,null,null,null,null,23,null,null,null,null,null,null,null,"武道家：2","隠密：習熟","手仕事：初歩",null,null,"流砂","一般技能_芸能","隠密：習熟","隠密：習熟","強打攻撃・斬：習熟","斬落攻撃：習熟","武器：斧：習熟","鎧：重鎧：習熟","風の遣い手：習熟","風の遣い手：習熟","呪文熟達：創造呪文：習熟",null,"呪文追加：祖竜術：習熟","祈祷：熟練","芸能：舞踊：熟練",null,"職人：革細工：熟練","信仰心：知識神：熟練","生産業：採掘：熟練",null,"長剣（両手）","長剣（両手）",null,null,null,"投石杖（店石）",null,"戦槍",null,"拳鍔（両手）",null,"下着鎧"]
[null,null,null,null,null,null,null,null,null,null,"無手","聖壁","竜息（稲妻）","暗黒","職人道具：鍛冶",null,13,null,null,null,null,24,null,null,null,null,null,null,null,"武道家：3","隠密：熟練","忍耐：初歩",null,null,"無手","一般技能_交渉","隠密：熟練","隠密：熟練","強打攻撃・斬：熟練","斬落攻撃：熟練","武器：斧：熟練","鎧：重鎧：熟練","風の遣い手：熟練","風の遣い手：熟練","呪文熟達：創造呪文：熟練",null,"呪文追加：祖竜術：熟練","芸能：歌唱：初歩","芸能：大道芸：初歩",null,"職人：彫金：初歩","信仰心：戦女神：初歩",null,null,"鮫刃の剣","朝露の短剣",null,null,null,null,null,null,null,"鉄拳",null,"鋲付きの革鎧"]
[null,null,null,null,null,null,null,null,null,null,"小鬼","聖撃","竜息（氷）","追風","職人道具：裁縫",null,14,null,null,null,null,25,null,null,null,null,null,null,null,"武道家：4","隠密：達人","免疫強化：初歩",null,null,"小鬼","一般技能_職人","隠密：達人","隠密：達人","強打攻撃・斬：達人","斬落攻撃：達人","武器：斧：達人","鎧：重鎧：達人","風の遣い手：達人","風の遣い手：達人","呪文熟達：創造呪文：達人",null,"呪文追加：祖竜術：達人","芸能：歌唱：習熟","芸能：大道芸：習熟",null,"職人：彫金：習熟","信仰心：戦女神：習熟",null,null,"湾刀","魔法の短剣（＋１）",null,null,null,null,null,null,null,"竜の末裔初歩素手攻撃（片手）",null,"鎖帷子"]
[null,null,null,null,null,null,null,null,null,null,"巨人","聖光","竜息（毒）","着火","職人道具：木工",null,15,null,null,null,null,26,null,null,null,null,null,null,null,"武道家：5","隠密：伝説","受け流し：初歩",null,null,"巨人","一般技能_信仰心","隠密：伝説","隠密：伝説","強打攻撃・斬：伝説","斬落攻撃：伝説","武器：斧：伝説","鎧：重鎧：伝説","風の遣い手：伝説","風の遣い手：伝説","呪文熟達：創造呪文：伝説",null,"呪文追加：祖竜術：伝説","芸能：歌唱：熟練","芸能：大道芸：熟練",null,"職人：彫金：熟練","信仰心：戦女神：熟練",null,null,"片手半剣（片手）","銀の短剣",null,null,null,null,null,null,null,"竜の末裔初歩素手攻撃（両手）",null,"鱗状鎧"]
[null,null,null,null,null,null,null,null,null,null,"水薬","戦槍","竜吠","酩酊","職人道具：革細工",null,16,null,null,null,null,27,null,null,null,null,null,null,null,"武道家：6","頑健：初歩","荷重行動：初歩",null,null,"水薬","一般技能_生産業","頑健：初歩","頑健：初歩","強打攻撃・殴：初歩","拘束攻撃：初歩","武器：槍：初歩",null,"土の遣い手：初歩","土の遣い手：初歩","呪文熟達：支配呪文：初歩",null,"呪文追加：精霊術：初歩","芸能：即興詩：初歩","芸能：演劇：初歩",null,null,"信仰心：祖竜：初歩",null,null,"片手半剣（両手）","魔法の短剣（＋２）",null,null,null,null,null,null,null,"竜の末裔習熟素手攻撃（片手）",null,"板状鎧"]
[null,null,null,null,null,null,null,null,null,null,"支配","鼓舞","対決","隧道","職人道具：彫金",null,17,null,null,null,null,28,null,null,null,null,null,null,null,"武道家：7","頑健：習熟","強打攻撃・斬：初歩",null,null,"支配",null,"頑健：習熟","頑健：習熟","強打攻撃・殴：習熟","拘束攻撃：習熟","武器：槍：習熟",null,"土の遣い手：習熟","土の遣い手：習熟","呪文熟達：支配呪文：習熟",null,"呪文追加：精霊術：習熟","芸能：即興詩：習熟","芸能：演劇：習熟",null,null,"信仰心：祖竜：習熟",null,null,"鎧通し","邪紋の短剣",null,null,null,null,null,null,null,"竜の末裔習熟素手攻撃（両手）",null,"小札鎧"]
[null,null,null,null,null,null,null,null,null,null,"混乱","聖鎧","擬竜","放逐","真言呪文の発動体（＋１）",null,18,null,null,null,null,29,null,null,null,null,null,null,null,"武道家：8","頑健：熟練","強打攻撃・殴：初歩",null,null,"混乱",null,"頑健：熟練","頑健：熟練","強打攻撃・殴：熟練","拘束攻撃：熟練","武器：槍：熟練",null,"土の遣い手：熟練","土の遣い手：熟練","呪文熟達：支配呪文：熟練",null,"呪文追加：精霊術：熟練","芸能：即興詩：熟練","芸能：演劇：熟練",null,null,"信仰心：祖竜：熟練",null,null,"炎紋剣","邪紋の短剣（＋２）",null,null,null,null,null,null,null,"竜の末裔熟練素手攻撃（片手）",null,"胴鎧"]
[null,null,null,null,null,null,null,null,null,null,"石壁","契約","賦活（祖霊術）","力球","真言呪文の発動体（＋２）",null,19,null,null,null,null,30,null,null,null,null,null,null,null,"武道家：9","頑健：達人","曲射：初歩",null,null,"石壁",null,"頑健：達人","頑健：達人","強打攻撃・殴：達人","拘束攻撃：達人","武器：槍：達人",null,"土の遣い手：達人","土の遣い手：達人","呪文熟達：支配呪文：達人",null,"呪文追加：精霊術：達人","芸能：演奏：初歩",null,null,null,null,null,null,"大剣",null,null,null,null,null,null,null,null,"竜の末裔熟練素手攻撃（両手）",null,"板金鎧"]
[null,null,null,null,null,null,null,null,null,null,"剛力","旅人","小癒（祖霊術）","熱波","真言呪文の発動体（＋３）",null,20,null,null,null,null,31,null,null,null,null,null,null,null,"武道家：10","頑健：伝説","斬落攻撃：初歩",null,null,"剛力",null,"頑健：伝説","頑健：伝説","強打攻撃・殴：伝説","拘束攻撃：伝説","武器：槍：伝説",null,"土の遣い手：伝説","土の遣い手：伝説","呪文熟達：支配呪文：伝説",null,"呪文追加：精霊術：伝説","芸能：演奏：習熟",null,null,null,null,null,null,"袋棍",null,null,null,null,null,null,null,null,null,null,"当世具足"]
[null,null,null,null,null,null,null,null,null,null,"粘糸","逆転","胃石","火矢（精霊術）","竜骨の御守（＋１）",null,21,null,null,null,null,32,null,null,null,null,null,null,null,"野伏：1","観察：初歩","拘束攻撃：初歩",null,null,"粘糸",null,"観察：初歩","観察：初歩","曲射：初歩","刺突攻撃：初歩","武器：戦槌：初歩",null,"生命の遣い手：初歩","生命の遣い手：初歩","呪文熟達：治癒呪文：初歩",null,null,"芸能：演奏：熟練",null,null,null,null,null,null,"棍棒",null,null,null,null,null,null,null,null,null,null,"魔法の鋲付きの革鎧（＋１）"]
[null,null,null,null,null,null,null,null,null,null,"惰眠","審問","腐食","恐怖","竜骨の御守（＋２）",null,22,null,null,null,null,33,null,null,null,null,null,null,null,"野伏：2","観察：習熟","護衛：初歩",null,null,"惰眠",null,"観察：習熟","観察：習熟","曲射：習熟","刺突攻撃：習熟","武器：戦槌：習熟",null,"生命の遣い手：習熟","生命の遣い手：習熟","呪文熟達：治癒呪文：習熟",null,null,"芸能：舞踊：初歩",null,null,null,null,null,null,"戦棍",null,null,null,null,null,null,null,null,null,null,"魔法の鋲付きの革鎧（＋２）"]
[null,null,null,null,null,null,null,null,null,null,"停滞","鑑定","竜翼","降下","聖印",null,23,null,null,null,null,34,null,null,null,null,null,null,null,"野伏：3","観察：熟練","死角移動：初歩",null,null,"停滞",null,"観察：熟練","観察：熟練","曲射：熟練","刺突攻撃：熟練","武器：戦槌：熟練",null,"生命の遣い手：熟練","生命の遣い手：熟練","呪文熟達：治癒呪文：熟練",null,null,"芸能：舞踊：習熟",null,null,null,null,null,null,"片鶴嘴"]
[null,null,null,null,null,null,null,null,null,null,"落下","聖断",null,"吹雪","精霊石",null,24,null,null,null,null,35,null,null,null,null,null,null,null,"野伏：4","観察：達人","刺突攻撃：初歩",null,null,"落下",null,"観察：達人","観察：達人","曲射：達人","刺突攻撃：達人","武器：戦槌：達人",null,"生命の遣い手：達人","生命の遣い手：達人","呪文熟達：治癒呪文：達人",null,null,"芸能：舞踊：熟練",null,null,null,null,null,null,"槌鉾"]
[null,null,null,null,null,null,null,null,null,null,"分影","天啓",null,"呼気","竜司祭の触媒入れ",null,25,null,null,null,null,36,null,null,null,null,null,null,null,"野伏：5","観察：伝説","狙撃：初歩",null,null,"分影",null,"観察：伝説","観察：伝説","曲射：伝説","刺突攻撃：伝説","武器：戦槌：伝説",null,"生命の遣い手：伝説","生命の遣い手：伝説","呪文熟達：治癒呪文：伝説",null,null,"芸能：大道芸：初歩",null,null,null,null,null,null,"刺鉄球"]
[null,null,null,null,null,null,null,null,null,null,"察知","真灯",null,"捕縛","精霊使いの鞄",null,26,null,null,null,null,37,null,null,null,null,null,null,null,"野伏：6","機先：初歩","速射：初歩",null,null,"察知",null,"機先：初歩","機先：初歩","斬落攻撃：初歩","狙撃：初歩","武器：棍杖：初歩",null,"怪物知識：初歩",null,"呪文熟達：汎用呪文：初歩",null,null,"芸能：大道芸：習熟",null,null,null,null,null,null,"戦嘴"]
[null,null,null,null,null,null,null,null,null,null,"舞踏","読解",null,null,"上質な触媒",null,27,null,null,null,null,38,null,null,null,null,null,null,null,"野伏：7","機先：習熟","体術：初歩",null,null,"舞踏",null,"機先：習熟","機先：習熟","斬落攻撃：習熟","狙撃：習熟","武器：棍杖：習熟",null,"怪物知識：習熟",null,"呪文熟達：汎用呪文：習熟",null,null,"芸能：大道芸：熟練",null,null,null,null,null,null,"大戦槌"]
[null,null,null,null,null,null,null,null,null,null,"嫌気","聖餐",null,null,"石弾",null,28,null,null,null,null,39,null,null,null,null,null,null,null,"野伏：8","機先：熟練","盾：初歩",null,null,"嫌気",null,"機先：熟練","機先：熟練","斬落攻撃：熟練","狙撃：熟練","武器：棍杖：熟練",null,"怪物知識：熟練",null,"呪文熟達：汎用呪文：熟練",null,null,"芸能：演劇：初歩",null,null,null,null,null,null,"大金棒"]
[null,null,null,null,null,null,null,null,null,null,"矢避","不動",null,null,"石弾：10",null,29,null,null,null,null,"40歳以上",null,null,null,null,null,null,null,"野伏：9","機先：達人","挑発：初歩",null,null,"矢避",null,"機先：達人","機先：達人","斬落攻撃：達人","狙撃：達人","武器：棍杖：達人",null,"怪物知識：達人",null,"呪文熟達：汎用呪文：達人",null,null,"芸能：演劇：習熟",null,null,null,null,null,null,"短弓"]
[null,null,null,null,null,null,null,null,null,null,"透過","和睦",null,null,"石弾（店石）",null,30,null,null,null,null,"50歳以上",null,null,null,null,null,null,null,"野伏：10","機先：伝説","鉄の拳：初歩",null,null,"透過",null,"機先：伝説","機先：伝説","斬落攻撃：伝説","狙撃：伝説","武器：棍杖：伝説",null,"怪物知識：伝説",null,"呪文熟達：汎用呪文：伝説",null,null,"芸能：演劇：熟練",null,null,null,null,null,null,"投矢銃"]
[null,null,null,null,null,null,null,null,null,null,"恐慌",null,null,null,"石弾（店石）：10",null,31,null,null,null,null,"60歳以上",null,null,null,null,null,null,null,"斥候：1","幸運：初歩","鉄壁：初歩",null,null,"恐慌",null,"幸運：初歩","幸運：初歩","拘束攻撃：初歩","速射：初歩","武器：格闘武器：初歩",null,"呪文熟達：攻撃呪文：初歩",null,null,null,null,"工作：初歩",null,null,null,null,null,null,"弩"]
[null,null,null,null,null,null,null,null,null,null,"獣心",null,null,null,"石弾袋",null,32,null,null,null,null,"70歳以上",null,null,null,null,null,null,null,"斥候：2","幸運：習熟","薙ぎ払い：初歩",null,null,"獣心",null,"幸運：習熟","幸運：習熟","拘束攻撃：習熟","速射：習熟","武器：格闘武器：習熟",null,"呪文熟達：攻撃呪文：習熟",null,null,null,null,"工作：習熟",null,null,null,null,null,null,"長弓"]
[null,null,null,null,null,null,null,null,null,null,"幻影",null,null,null,"矢",null,33,null,null,null,null,"80歳以上",null,null,null,null,null,null,null,"斥候：3","幸運：熟練","二刀流：初歩",null,null,"幻影",null,"幸運：熟練","幸運：熟練","拘束攻撃：熟練","速射：熟練","武器：格闘武器：熟練",null,"呪文熟達：攻撃呪文：熟練",null,null,null,null,"工作：熟練",null,null,null,null,null,null,"大弓"]
[null,null,null,null,null,null,null,null,null,null,"巨大",null,null,null,"矢：10",null,34,null,null,null,null,"90歳以上",null,null,null,null,null,null,null,"斥候：4","幸運：達人","発勁：初歩",null,null,"巨大",null,"幸運：達人","幸運：達人","拘束攻撃：達人","速射：達人","武器：格闘武器：達人",null,"呪文熟達：攻撃呪文：達人",null,null,null,null,"交渉：説得：初歩",null,null,null,null,null,null,"弩砲"]
[null,null,null,null,null,null,null,null,null,null,"火球",null,null,null,"太矢",null,35,null,null,null,null,"100歳以上",null,null,null,null,null,null,null,"斥候：5","幸運：伝説","武器：片手剣：初歩",null,null,"火球",null,"幸運：伝説","幸運：伝説","拘束攻撃：伝説","速射：伝説","武器：格闘武器：伝説",null,"呪文熟達：攻撃呪文：伝説",null,null,null,null,"交渉：説得：習熟",null,null,null,null,null,null,"抱大筒"]
[null,null,null,null,null,null,null,null,null,null,"火矢",null,null,null,"太矢：10",null,36,null,null,null,null,"200歳以上",null,null,null,null,null,null,null,"斥候：6","呪文抵抗：初歩","武器：両手剣：初歩",null,null,"火矢",null,"呪文抵抗：初歩","呪文抵抗：初歩","護衛：初歩",null,"武器：投擲武器：初歩",null,"呪文熟達：付与呪文：初歩",null,null,null,null,"交渉：説得：熟練",null,null,null,null,null,null,"投石"]
[null,null,null,null,null,null,null,null,null,null,"遠見",null,null,null,"矢筒",null,37,null,null,null,null,"300歳以上",null,null,null,null,null,null,null,"斥候：7","呪文抵抗：習熟","武器：斧：初歩",null,null,"遠見",null,"呪文抵抗：習熟","呪文抵抗：習熟","護衛：習熟",null,"武器：投擲武器：習熟",null,"呪文熟達：付与呪文：習熟",null,null,null,null,"交渉：誘惑：初歩",null,null,null,null,null,null,"投矢"]
[null,null,null,null,null,null,null,null,null,null,"力場",null,null,null,"弾丸",null,38,null,null,null,null,"400歳以上",null,null,null,null,null,null,null,"斥候：8","呪文抵抗：熟練","武器：槍：初歩",null,null,"力場",null,"呪文抵抗：熟練","呪文抵抗：熟練","護衛：熟練",null,"武器：投擲武器：熟練",null,"呪文熟達：付与呪文：熟練",null,null,null,null,"交渉：誘惑：習熟",null,null,null,null,null,null,"投分銅"]
[null,null,null,null,null,null,null,null,null,null,"突風",null,null,null,"弾丸：10",null,39,null,null,null,null,"500歳以上",null,null,null,null,null,null,null,"斥候：9","呪文抵抗：達人","武器：戦槌：初歩",null,null,"突風",null,"呪文抵抗：達人","呪文抵抗：達人","護衛：達人",null,"武器：投擲武器：達人",null,"呪文熟達：付与呪文：達人",null,null,null,null,"交渉：誘惑：熟練",null,null,null,null,null,null,"飛棍"]
[null,null,null,null,null,null,null,null,null,null,"呼気",null,null,null,"火の秘薬",null,40,null,null,null,null,"600歳以上",null,null,null,null,null,null,null,"斥候：10","呪文抵抗：伝説","武器：棍杖：初歩",null,null,"呼気",null,"呪文抵抗：伝説","呪文抵抗：伝説","護衛：伝説",null,"武器：投擲武器：伝説",null,"呪文熟達：付与呪文：伝説",null,null,null,null,"交渉：脅迫：初歩",null,null,null,null,null,null,"投石紐"]
[null,null,null,null,null,null,null,null,null,null,"吹雪",null,null,null,"火の秘薬：10",null,41,null,null,null,null,"700歳以上",null,null,null,null,null,null,null,"魔術師：1","戦術移動：初歩","武器：格闘武器：初歩",null,null,"吹雪",null,"戦術移動：初歩","戦術移動：初歩","死角移動：初歩",null,"武器：弩弓：初歩",null,"呪文熟達：創造呪文：初歩",null,null,null,null,"交渉：脅迫：習熟",null,null,null,null,null,null,"飛刀"]
[null,null,null,null,null,null,null,null,null,null,"浮遊",null,null,null,"弾薬鞄",null,42,null,null,null,null,"800歳以上",null,null,null,null,null,null,null,"魔術師：2","戦術移動：習熟","武器：投擲武器：初歩",null,null,"浮遊",null,"戦術移動：習熟","戦術移動：習熟","死角移動：習熟",null,"武器：弩弓：習熟",null,"呪文熟達：創造呪文：習熟",null,null,null,null,"交渉：脅迫：熟練",null,null,null,null,null,null,"戦輪"]
[null,null,null,null,null,null,null,null,null,null,"加速",null,null,null,"投矢",null,43,null,null,null,null,"900歳以上",null,null,null,null,null,null,null,"魔術師：3","戦術移動：熟練","武器：弩弓：初歩",null,null,"加速",null,"戦術移動：熟練","戦術移動：熟練","死角移動：熟練",null,"武器：弩弓：熟練",null,"呪文熟達：創造呪文：熟練",null,null,null,null,"交渉：言いくるめ：初歩",null,null,null,null,null,null,"南洋式投げナイフ"]
[null,null,null,null,null,null,null,null,null,null,"読心",null,null,null,"投矢：5",null,44,null,null,null,null,"1000歳以上",null,null,null,null,null,null,null,"魔術師：4","戦術移動：達人","見切り：初歩",null,null,"読心",null,"戦術移動：達人","戦術移動：達人","死角移動：達人",null,"武器：弩弓：達人",null,"呪文熟達：創造呪文：達人",null,null,null,null,"交渉：言いくるめ：習熟",null,null,null,null,null,null,"投石杖"]
[null,null,null,null,null,null,null,null,null,null,"力矢",null,null,null,"投矢革帯",null,45,null,null,null,null,"2000歳以上",null,null,null,null,null,null,null,"魔術師：5","戦術移動：伝説","鎧：衣鎧：初歩",null,null,"力矢",null,"戦術移動：伝説","戦術移動：伝説","死角移動：伝説",null,"武器：弩弓：伝説",null,"呪文熟達：創造呪文：伝説",null,null,null,null,"交渉：言いくるめ：熟練",null,null,null,null,null,null,"血滴子"]
[null,null,null,null,null,null,null,null,null,null,"魔霧",null,null,null,"松明",null,46,null,null,null,null,"3000歳以上",null,null,null,null,null,null,null,"魔術師：6","第六感：初歩","鎧：軽鎧：初歩",null,null,"魔霧",null,"第六感：初歩","第六感：初歩","刺突攻撃：初歩",null,null,null,"呪文熟達：支配呪文：初歩",null,null,null,null,"職人：鍛冶：初歩",null,null,null,null,null,null,"粗悪な斧"]
[null,null,null,null,null,null,null,null,null,null,"円盾",null,null,null,"松明：6",null,47,null,null,null,null,"4000歳以上",null,null,null,null,null,null,null,"魔術師：7","第六感：習熟","鎧：重鎧：初歩",null,null,"円盾",null,"第六感：習熟","第六感：習熟","刺突攻撃：習熟",null,null,null,"呪文熟達：支配呪文：習熟",null,null,null,null,"職人：鍛冶：習熟",null,null,null,null,null,null,"鉈"]
[null,null,null,null,null,null,null,null,null,null,"光明",null,null,null,"蝋燭",null,48,null,null,null,null,null,null,null,null,null,null,null,null,"魔術師：8","第六感：熟練","火の遣い手：初歩",null,null,"光明",null,"第六感：熟練","第六感：熟練","刺突攻撃：熟練",null,null,null,"呪文熟達：支配呪文：熟練",null,null,null,null,"職人：鍛冶：熟練",null,null,null,null,null,null,"手斧"]
[null,null,null,null,null,null,null,null,null,null,"稲妻",null,null,null,"蝋燭：12",null,49,null,null,null,null,null,null,null,null,null,null,null,null,"魔術師：9","第六感：達人","水の遣い手：初歩",null,null,"稲妻",null,"第六感：達人","第六感：達人","刺突攻撃：達人",null,null,null,"呪文熟達：支配呪文：達人",null,null,null,null,"職人：裁縫：初歩",null,null,null,null,null,null,"投斧"]
[null,null,null,null,null,null,null,null,null,null,"施錠",null,null,null,"角灯",null,50,null,null,null,null,null,null,null,null,null,null,null,null,"魔術師：10","第六感：伝説","風の遣い手：初歩",null,null,"施錠",null,"第六感：伝説","第六感：伝説","刺突攻撃：伝説",null,null,null,"呪文熟達：支配呪文：伝説",null,null,null,null,"職人：裁縫：習熟",null,null,null,null,null,null,"戦斧（片手）"]
[null,null,null,null,null,null,null,null,null,null,null,null,null,null,"ガラス付き角灯",null,51,null,null,null,null,null,null,null,null,null,null,null,null,"神官：1","治癒適正：初歩","土の遣い手：初歩",null,null,"解毒",null,"治癒適正：初歩","治癒適正：初歩","狙撃：初歩",null,null,null,"呪文熟達：治癒呪文：初歩",null,null,null,null,"職人：裁縫：熟練",null,null,null,null,null,null,"戦斧（両手）"]
[null,null,null,null,null,null,null,null,null,null,null,null,null,null,"ランプ",null,52,null,null,null,null,null,null,null,null,null,null,null,null,"神官：2","治癒適正：習熟","生命の遣い手：初歩",null,null,"沈黙",null,"治癒適正：習熟","治癒適正：習熟","狙撃：習熟",null,null,null,"呪文熟達：治癒呪文：習熟",null,null,null,null,"職人：木工：初歩",null,null,null,null,null,null,"大斧"]
[null,null,null,null,null,null,null,null,null,null,null,null,null,null,"油",null,53,null,null,null,null,null,null,null,null,null,null,null,null,"神官：3","治癒適正：熟練","怪物知識：初歩",null,null,"聖域",null,"治癒適正：熟練","治癒適正：熟練","狙撃：熟練",null,null,null,"呪文熟達：治癒呪文：熟練",null,null,null,null,"職人：木工：習熟",null,null,null,null,null,null,"斧槍"]
[null,null,null,null,null,null,null,null,null,null,null,null,null,null,"火口箱",null,54,null,null,null,null,null,null,null,null,null,null,null,null,"神官：4","治癒適正：達人","呪文熟達：攻撃呪文：初歩",null,null,"敵意",null,"治癒適正：達人","治癒適正：達人","狙撃：達人",null,null,null,"呪文熟達：治癒呪文：達人",null,null,null,null,"職人：木工：熟練",null,null,null,null,null,null,"粗悪な槍"]
[null,null,null,null,null,null,null,null,null,null,null,null,null,null,"小袋セット",null,55,null,null,null,null,null,null,null,null,null,null,null,null,"神官：5","治癒適正：伝説","呪文熟達：付与呪文：初歩",null,null,"看破",null,"治癒適正：伝説","治癒適正：伝説","狙撃：伝説",null,null,null,"呪文熟達：治癒呪文：伝説",null,null,null,null,"職人：革細工：初歩",null,null,null,null,null,null,"投槍"]
[null,null,null,null,null,null,null,null,null,null,null,null,null,null,"ずた袋",null,56,null,null,null,null,null,null,null,null,null,null,null,null,"神官：6","手仕事：初歩","呪文熟達：創造呪文：初歩",null,null,"解呪",null,"手仕事：初歩","手仕事：初歩","速射：初歩",null,null,null,"呪文熟達：汎用呪文：初歩",null,null,null,null,"職人：革細工：習熟",null,null,null,null,null,null,"短槍"]
[null,null,null,null,null,null,null,null,null,null,null,null,null,null,"ベルトポーチ",null,57,null,null,null,null,null,null,null,null,null,null,null,null,"神官：7","手仕事：習熟","呪文熟達：支配呪文：初歩",null,null,"鎮静",null,"手仕事：習熟","手仕事：習熟","速射：習熟",null,null,null,"呪文熟達：汎用呪文：習熟",null,null,null,null,"職人：革細工：熟練",null,null,null,null,null,null,"小槍（片手）"]
[null,null,null,null,null,null,null,null,null,null,null,null,null,null,"水袋",null,58,null,null,null,null,null,null,null,null,null,null,null,null,"神官：8","手仕事：熟練","呪文熟達：治癒呪文：初歩",null,null,"賦活",null,"手仕事：熟練","手仕事：熟練","速射：熟練",null,null,null,"呪文熟達：汎用呪文：熟練",null,null,null,null,"職人：彫金：初歩",null,null,null,null,null,null,"小槍（両手）"]
[null,null,null,null,null,null,null,null,null,null,null,null,null,null,"背負い袋",null,59,null,null,null,null,null,null,null,null,null,null,null,null,"神官：9","手仕事：達人","呪文熟達：汎用呪文：初歩",null,null,"小癒",null,"手仕事：達人","手仕事：達人","速射：達人",null,null,null,"呪文熟達：汎用呪文：達人",null,null,null,null,"職人：彫金：習熟",null,null,null,null,null,null,"鉄小槍（片手）"]
[null,null,null,null,null,null,null,null,null,null,null,null,null,null,"毛布",null,60,null,null,null,null,null,null,null,null,null,null,null,null,"神官：10","手仕事：伝説","呪文増強：威力：初歩",null,null,"聖歌",null,"手仕事：伝説","手仕事：伝説","速射：伝説",null,null,null,"呪文熟達：汎用呪文：伝説",null,null,null,null,"職人：彫金：熟練",null,null,null,null,null,null,"鉄小槍（両手）"]
[null,null,null,null,null,null,null,null,null,null,null,null,null,null,"テント",null,61,null,null,null,null,null,null,null,null,null,null,null,null,"竜司祭：1","忍耐：初歩","呪文追加：真言呪文：初歩",null,null,"浄化",null,"忍耐：初歩","忍耐：初歩","体術：初歩",null,null,null,"呪文増強：威力：初歩",null,null,null,null,"神学：初歩",null,null,null,null,null,null,"農叉"]
[null,null,null,null,null,null,null,null,null,null,null,null,null,null,"寝袋",null,62,null,null,null,null,null,null,null,null,null,null,null,null,"竜司祭：2","忍耐：習熟","呪文追加：奇跡：初歩",null,null,"祝福",null,"忍耐：習熟","忍耐：習熟","体術：習熟",null,null,null,"呪文増強：威力：習熟",null,null,null,null,"神学：習熟",null,null,null,null,null,null,"三叉槍"]
[null,null,null,null,null,null,null,null,null,null,null,null,null,null,"冬季用寝袋",null,63,null,null,null,null,null,null,null,null,null,null,null,null,"竜司祭：3","忍耐：熟練","呪文追加：祖竜術：初歩",null,null,"聖壁",null,"忍耐：熟練","忍耐：熟練","体術：熟練",null,null,null,"呪文増強：威力：熟練",null,null,null,null,"神学：熟練",null,null,null,null,null,null,"長槍"]
[null,null,null,null,null,null,null,null,null,null,null,null,null,null,"円匙",null,64,null,null,null,null,null,null,null,null,null,null,null,null,"竜司祭：4","忍耐：達人","呪文追加：精霊術：初歩",null,null,"聖撃",null,"忍耐：達人","忍耐：達人","体術：達人",null,null,null,"呪文増強：威力：達人",null,null,null,null,"信仰心：至高神：初歩",null,null,null,null,null,null,"薙刀"]
[null,null,null,null,null,null,null,null,null,null,null,null,null,null,"ロープ：10",null,65,null,null,null,null,null,null,null,null,null,null,null,null,"竜司祭：5","忍耐：伝説","魔法の才：初歩",null,null,"聖光",null,"忍耐：伝説","忍耐：伝説","体術：伝説",null,null,null,"呪文増強：威力：伝説",null,null,null,null,"信仰心：至高神：習熟",null,null,null,null,null,null,"戦槍"]
[null,null,null,null,null,null,null,null,null,null,null,null,null,null,"小槌",null,66,null,null,null,null,null,null,null,null,null,null,null,null,"竜司祭：6","免疫強化：初歩","暗視：初歩",null,null,"戦槍",null,"免疫強化：初歩","免疫強化：初歩","盾：初歩",null,null,null,"呪文追加：真言呪文：初歩",null,null,null,null,"信仰心：至高神：熟練",null,null,null,null,null,null,"投石杖（棍杖）"]
[null,null,null,null,null,null,null,null,null,null,null,null,null,null,"楔：10",null,67,null,null,null,null,null,null,null,null,null,null,null,null,"竜司祭：7","免疫強化：習熟","鑑定：初歩",null,null,"鼓舞",null,"免疫強化：習熟","免疫強化：習熟","盾：習熟",null,null,null,"呪文追加：真言呪文：習熟",null,null,null,null,"信仰心：地母神：初歩",null,null,null,null,null,null,"紅玉の杖"]
[null,null,null,null,null,null,null,null,null,null,null,null,null,null,"手鏡",null,68,null,null,null,null,null,null,null,null,null,null,null,null,"竜司祭：8","免疫強化：熟練","騎乗：初歩",null,null,"聖鎧",null,"免疫強化：熟練","免疫強化：熟練","盾：熟練",null,null,null,"呪文追加：真言呪文：熟練",null,null,null,null,"信仰心：地母神：習熟",null,null,null,null,null,null,"錫杖"]
[null,null,null,null,null,null,null,null,null,null,null,null,null,null,"筆記道具",null,69,null,null,null,null,null,null,null,null,null,null,null,null,"竜司祭：9","免疫強化：達人","祈祷：初歩",null,null,"契約",null,"免疫強化：達人","免疫強化：達人","盾：達人",null,null,null,"呪文追加：真言呪文：達人",null,null,null,null,"信仰心：地母神：熟練",null,null,null,null,null,null,"司教杖"]
[null,null,null,null,null,null,null,null,null,null,null,null,null,null,"羊皮紙",null,70,null,null,null,null,null,null,null,null,null,null,null,null,"竜司祭：10","免疫強化：伝説","芸能：歌唱：初歩",null,null,"旅人",null,"免疫強化：伝説","免疫強化：伝説","盾：伝説",null,null,null,"呪文追加：真言呪文：伝説",null,null,null,null,"信仰心：交易神：初歩",null,null,null,null,null,null,"六尺棒"]
[null,null,null,null,null,null,null,null,null,null,null,null,null,null,"パピルス紙：10",null,71,null,null,null,null,null,null,null,null,null,null,null,null,"精霊使い：1","受け流し：初歩","芸能：即興詩：初歩",null,null,"逆転",null,"受け流し：初歩",null,"挑発：初歩",null,null,null,"呪文追加：奇跡：初歩",null,null,null,null,"信仰心：交易神：習熟",null,null,null,null,null,null,"双節棍"]
[null,null,null,null,null,null,null,null,null,null,null,null,null,null,"防毒面(達成値19以下の毒物を無効化)",null,72,null,null,null,null,null,null,null,null,null,null,null,null,"精霊使い：2","受け流し：習熟","芸能：演奏：初歩",null,null,"審問",null,"受け流し：習熟",null,"挑発：習熟",null,null,null,"呪文追加：奇跡：習熟",null,null,null,null,"信仰心：交易神：熟練",null,null,null,null,null,null,"打狗棒"]
[null,null,null,null,null,null,null,null,null,null,null,null,null,null,"楽器：ヴァイオリン",null,73,null,null,null,null,null,null,null,null,null,null,null,null,"精霊使い：3","受け流し：熟練","芸能：舞踊：初歩",null,null,"鑑定",null,"受け流し：熟練",null,"挑発：熟練",null,null,null,"呪文追加：奇跡：熟練",null,null,null,null,"信仰心：知識神：初歩",null,null,null,null,null,null,"連節棍"]
[null,null,null,null,null,null,null,null,null,null,null,null,null,null,"楽器：ドラム",null,74,null,null,null,null,null,null,null,null,null,null,null,null,"精霊使い：4","受け流し：達人","芸能：大道芸：初歩",null,null,"聖断",null,"受け流し：達人",null,"挑発：達人",null,null,null,"呪文追加：奇跡：達人",null,null,null,null,"信仰心：知識神：習熟",null,null,null,null,null,null,"金砕棒"]
[null,null,null,null,null,null,null,null,null,null,null,null,null,null,"楽器：フルート",null,75,null,null,null,null,null,null,null,null,null,null,null,null,"精霊使い：5","受け流し：伝説","芸能：演劇：初歩",null,null,"天啓",null,"受け流し：伝説",null,"挑発：伝説",null,null,null,"呪文追加：奇跡：伝説",null,null,null,null,"信仰心：知識神：熟練",null,null,null,null,null,null,"鞭"]
[null,null,null,null,null,null,null,null,null,null,null,null,null,null,"楽器：ホルン",null,76,null,null,null,null,null,null,null,null,null,null,null,null,"精霊使い：6","荷重行動：初歩","工作：初歩",null,null,"真灯",null,"荷重行動：初歩",null,"鉄の拳：初歩",null,null,null,"呪文追加：祖竜術：初歩",null,null,null,null,"信仰心：戦女神：初歩",null,null,null,null,null,null,"聖鞭"]
[null,null,null,null,null,null,null,null,null,null,null,null,null,null,"楽器：リュート",null,77,null,null,null,null,null,null,null,null,null,null,null,null,"精霊使い：7","荷重行動：習熟","交渉：説得：初歩",null,null,"読解",null,"荷重行動：習熟",null,"鉄の拳：習熟",null,null,null,"呪文追加：祖竜術：習熟",null,null,null,null,"信仰心：戦女神：習熟",null,null,null,null,null,null,"素手攻撃（片手）"]
[null,null,null,null,null,null,null,null,null,null,null,null,null,null,"楽器：草笛",null,78,null,null,null,null,null,null,null,null,null,null,null,null,"精霊使い：8","荷重行動：熟練","交渉：誘惑：初歩",null,null,"聖餐",null,"荷重行動：熟練",null,"鉄の拳：熟練",null,null,null,"呪文追加：祖竜術：熟練",null,null,null,null,"信仰心：戦女神：熟練",null,null,null,null,null,null,"素手攻撃（両手）"]
[null,null,null,null,null,null,null,null,null,null,null,null,null,null,"催涙弾",null,79,null,null,null,null,null,null,null,null,null,null,null,null,"精霊使い：9","荷重行動：達人","交渉：脅迫：初歩",null,null,"不動",null,"荷重行動：達人",null,"鉄の拳：達人",null,null,null,"呪文追加：祖竜術：達人",null,null,null,null,"信仰心：祖竜：初歩",null,null,null,null,null,null,"拳帯（片手）"]
[null,null,null,null,null,null,null,null,null,null,null,null,null,null,"煙玉",null,80,null,null,null,null,null,null,null,null,null,null,null,null,"精霊使い：10","荷重行動：伝説","交渉：言いくるめ：初歩",null,null,"和睦",null,"荷重行動：伝説",null,"鉄の拳：伝説",null,null,null,"呪文追加：祖竜術：伝説",null,null,null,null,"信仰心：祖竜：習熟",null,null,null,null,null,null,"拳帯（両手）"]
[null,null,null,null,null,null,null,null,null,null,null,null,null,null,"鈎縄：10",null,81,null,null,null,null,null,null,null,null,null,null,null,null,null,"強打攻撃・斬：初歩","職人：鍛冶：初歩",null,null,"擬態",null,"強打攻撃・斬：初歩",null,"鉄壁：初歩",null,null,null,"呪文追加：精霊術：初歩",null,null,null,null,"信仰心：祖竜：熟練",null,null,null,null,null,null,"打布槍"]
[null,null,null,null,null,null,null,null,null,null,null,null,null,null,"臭い消し",null,82,null,null,null,null,null,null,null,null,null,null,null,null,null,"強打攻撃・斬：習熟","職人：裁縫：初歩",null,null,"念話",null,"強打攻撃・斬：習熟",null,"鉄壁：習熟",null,null,null,"呪文追加：精霊術：習熟",null,null,null,null,"生産業：農業：初歩",null,null,null,null,null,null,"旋棍"]
[null,null,null,null,null,null,null,null,null,null,null,null,null,null,"普通の衣類",null,83,null,null,null,null,null,null,null,null,null,null,null,null,null,"強打攻撃・斬：熟練","職人：木工：初歩",null,null,"竜牙刀／竜爪",null,"強打攻撃・斬：熟練",null,"鉄壁：熟練",null,null,null,"呪文追加：精霊術：熟練",null,null,null,null,"生産業：農業：習熟",null,null,null,null,null,null,"虎爪（片手）"]
[null,null,null,null,null,null,null,null,null,null,null,null,null,null,"鎧下",null,84,null,null,null,null,null,null,null,null,null,null,null,null,null,"強打攻撃・斬：達人","職人：革細工：初歩",null,null,"敵意（祖霊術）",null,"強打攻撃・斬：達人",null,"鉄壁：達人",null,null,null,"呪文追加：精霊術：達人",null,null,null,null,"生産業：農業：熟練",null,null,null,null,null,null,"虎爪（両手）"]
[null,null,null,null,null,null,null,null,null,null,null,null,null,null,"鋲付きの鎧下",null,85,null,null,null,null,null,null,null,null,null,null,null,null,null,"強打攻撃・斬：伝説","職人：彫金：初歩",null,null,"突撃",null,"強打攻撃・斬：伝説",null,"鉄壁：伝説",null,null,null,"呪文追加：精霊術：伝説",null,null,null,null,"生産業：漁業：初歩",null,null,null,null,null,null,"長傘"]
[null,null,null,null,null,null,null,null,null,null,null,null,null,null,"防寒具",null,86,null,null,null,null,null,null,null,null,null,null,null,null,null,"強打攻撃・殴：初歩","神学：初歩",null,null,"狩場",null,"強打攻撃・殴：初歩",null,"薙ぎ払い：初歩",null,null,null,"魔法の才：初歩",null,null,null,null,"生産業：漁業：習熟",null,null,null,null,null,null,"鉄靴"]
[null,null,null,null,null,null,null,null,null,null,null,null,null,null,"礼服／ドレス",null,87,null,null,null,null,null,null,null,null,null,null,null,null,null,"強打攻撃・殴：習熟","信仰心：至高神：初歩",null,null,"竜眼",null,"強打攻撃・殴：習熟",null,"薙ぎ払い：習熟",null,null,null,"魔法の才：習熟",null,null,null,null,"生産業：漁業：熟練",null,null,null,null,null,null,"拳鍔（片手）"]
[null,null,null,null,null,null,null,null,null,null,null,null,null,null,"マント",null,88,null,null,null,null,null,null,null,null,null,null,null,null,null,"強打攻撃・殴：熟練","信仰心：地母神：初歩",null,null,"竜鱗",null,"強打攻撃・殴：熟練",null,"薙ぎ払い：熟練",null,null,null,"魔法の才：熟練",null,null,null,null,"生産業：林業：初歩",null,null,null,null,null,null,"拳鍔（両手）"]
[null,null,null,null,null,null,null,null,null,null,null,null,null,null,"10フィートの棒",null,89,null,null,null,null,null,null,null,null,null,null,null,null,null,"強打攻撃・殴：達人","信仰心：交易神：初歩",null,null,"竜牙兵",null,"強打攻撃・殴：達人",null,"薙ぎ払い：達人",null,null,null,"魔法の才：達人",null,null,null,null,"生産業：林業：習熟",null,null,null,null,null,null,"鉄拳"]
[null,null,null,null,null,null,null,null,null,null,null,null,null,null,"軍馬",null,90,null,null,null,null,null,null,null,null,null,null,null,null,null,"強打攻撃・殴：伝説","信仰心：知識神：初歩",null,null,"竜血",null,"強打攻撃・殴：伝説",null,"薙ぎ払い：伝説",null,null,null,"魔法の才：伝説",null,null,null,null,"生産業：林業：熟練",null,null,null,null,null,null,"朝露の短剣"]
[null,null,null,null,null,null,null,null,null,null,null,null,null,null,"乗用馬",null,91,null,null,null,null,null,null,null,null,null,null,null,null,null,"曲射：初歩","信仰心：戦女神：初歩",null,null,"竜命",null,"曲射：初歩",null,"二刀流：初歩",null,null,null,null,null,null,null,null,"生産業：採掘：初歩",null,null,null,null,null,null,"魔法の短剣（＋１）"]
[null,null,null,null,null,null,null,null,null,null,null,null,null,null,"ロバ",null,92,null,null,null,null,null,null,null,null,null,null,null,null,null,"曲射：習熟","信仰心：祖竜：初歩",null,null,"竜息（火）",null,"曲射：習熟",null,"二刀流：習熟",null,null,null,null,null,null,null,null,"生産業：採掘：習熟",null,null,null,null,null,null,"銀の短剣"]
[null,null,null,null,null,null,null,null,null,null,null,null,null,null,"馬車",null,93,null,null,null,null,null,null,null,null,null,null,null,null,null,"曲射：熟練","生産業：農業：初歩",null,null,"竜息（稲妻）",null,"曲射：熟練",null,"二刀流：熟練",null,null,null,null,null,null,null,null,"生産業：採掘：熟練",null,null,null,null,null,null,"魔法の短剣（＋２）"]
[null,null,null,null,null,null,null,null,null,null,null,null,null,null,"携帯食",null,94,null,null,null,null,null,null,null,null,null,null,null,null,null,"曲射：達人","生産業：漁業：初歩",null,null,"竜息（氷）",null,"曲射：達人",null,"二刀流：達人",null,null,null,null,null,null,null,null,"生存術：初歩",null,null,null,null,null,null,"邪紋の短剣"]
[null,null,null,null,null,null,null,null,null,null,null,null,null,null,"酒類：火酒",null,95,null,null,null,null,null,null,null,null,null,null,null,null,null,"曲射：伝説","生産業：林業：初歩",null,null,"竜息（毒）",null,"曲射：伝説",null,"二刀流：伝説",null,null,null,null,null,null,null,null,"生存術：習熟",null,null,null,null,null,null,"竜髭の短弓"]
[null,null,null,null,null,null,null,null,null,null,null,null,null,null,"酒類：麦酒",null,96,null,null,null,null,null,null,null,null,null,null,null,null,null,"斬落攻撃：初歩","生産業：採掘：初歩",null,null,"竜吠",null,"斬落攻撃：初歩",null,"発勁：初歩",null,null,null,null,null,null,null,null,"生存術：熟練",null,null,null,null,null,null,"竜の末裔初歩素手攻撃（片手）"]
[null,null,null,null,null,null,null,null,null,null,null,null,null,null,"酒類：葡萄酒",null,97,null,null,null,null,null,null,null,null,null,null,null,null,null,"斬落攻撃：習熟","生存術：初歩",null,null,"対決",null,"斬落攻撃：習熟",null,"発勁：習熟",null,null,null,null,null,null,null,null,"精霊の愛し子：初歩",null,null,null,null,null,null,"竜の末裔初歩素手攻撃（両手）"]
[null,null,null,null,null,null,null,null,null,null,null,null,null,null,"酒類：蒸留酒",null,98,null,null,null,null,null,null,null,null,null,null,null,null,null,"斬落攻撃：熟練","精霊の愛し子：初歩",null,null,"擬竜",null,"斬落攻撃：熟練",null,"発勁：熟練",null,null,null,null,null,null,null,null,"精霊の愛し子：習熟",null,null,null,null,null,null,"竜の末裔習熟素手攻撃（片手）"]
[null,null,null,null,null,null,null,null,null,null,null,null,null,null,"調味料セット",null,99,null,null,null,null,null,null,null,null,null,null,null,null,null,"斬落攻撃：達人","先入観なし：初歩",null,null,"賦活（祖霊術）",null,"斬落攻撃：達人",null,"発勁：達人",null,null,null,null,null,null,null,null,"精霊の愛し子：熟練",null,null,null,null,null,null,"竜の末裔習熟素手攻撃（両手）"]
[null,null,null,null,null,null,null,null,null,null,null,null,null,null,"香辛料",null,null,null,null,null,null,null,null,null,null,null,null,null,null,null,"斬落攻撃：伝説","長距離移動：初歩",null,null,"小癒（祖霊術）",null,"斬落攻撃：伝説",null,"発勁：伝説",null,null,null,null,null,null,null,null,"先入観なし：初歩",null,null,null,null,null,null,"竜の末裔熟練素手攻撃（片手）"]
[null,null,null,null,null,null,null,null,null,null,null,null,null,null,"チーズ",null,null,null,null,null,null,null,null,null,null,null,null,null,null,null,"拘束攻撃：初歩","調理：初歩",null,null,"胃石",null,"拘束攻撃：初歩",null,"武器：片手剣：初歩",null,null,null,null,null,null,null,null,"先入観なし：習熟",null,null,null,null,null,null,"竜の末裔熟練素手攻撃（両手）"]
[null,null,null,null,null,null,null,null,null,null,null,null,null,null,"干した果物",null,null,null,null,null,null,null,null,null,null,null,null,null,null,null,"拘束攻撃：習熟","沈着冷静：初歩",null,null,"腐食",null,"拘束攻撃：習熟",null,"武器：片手剣：習熟",null,null,null,null,null,null,null,null,"先入観なし：熟練",null,null,null,null,null,null,"邪紋の短剣（＋２）"]
[null,null,null,null,null,null,null,null,null,null,null,null,null,null,"塩漬け肉",null,null,null,null,null,null,null,null,null,null,null,null,null,null,null,"拘束攻撃：熟練","統率：初歩",null,null,"竜翼",null,"拘束攻撃：熟練",null,"武器：片手剣：熟練",null,null,null,null,null,null,null,null,"長距離移動：初歩",null,null,null,null,null,null,"投石紐（店石）"]
[null,null,null,null,null,null,null,null,null,null,null,null,null,null,"化膿止めの軟膏：5",null,null,null,null,null,null,null,null,null,null,null,null,null,null,null,"拘束攻撃：達人","博識：初歩",null,null,"命水",null,"拘束攻撃：達人",null,"武器：片手剣：達人",null,null,null,null,null,null,null,null,"長距離移動：習熟",null,null,null,null,null,null,"投石杖（店石）"]
[null,null,null,null,null,null,null,null,null,null,null,null,null,null,"治癒の水薬",null,null,null,null,null,null,null,null,null,null,null,null,null,null,null,"拘束攻撃：伝説","犯罪知識：初歩",null,null,"燐光",null,"拘束攻撃：伝説",null,"武器：片手剣：伝説",null,null,null,null,null,null,null,null,"長距離移動：熟練",null,null,null,null,null,null,"松明"]
[null,null,null,null,null,null,null,null,null,null,null,null,null,null,"強壮の水薬",null,null,null,null,null,null,null,null,null,null,null,null,null,null,null,"護衛：初歩","文献調査：初歩",null,null,"隠蔽",null,"護衛：初歩",null,"武器：両手剣：初歩",null,null,null,null,null,null,null,null,"調理：初歩",null,null,null,null,null,null,"円匙"]
[null,null,null,null,null,null,null,null,null,null,null,null,null,null,"解毒薬",null,null,null,null,null,null,null,null,null,null,null,null,null,null,null,"護衛：習熟","瞑想：初歩",null,null,"風化",null,"護衛：習熟",null,"武器：両手剣：習熟",null,null,null,null,null,null,null,null,"調理：習熟"]
[null,null,null,null,null,null,null,null,null,null,null,null,null,null,"能力上昇の秘薬(器用)",null,null,null,null,null,null,null,null,null,null,null,null,null,null,null,"護衛：熟練","竜の末裔：初歩",null,null,"水歩",null,"護衛：熟練",null,"武器：両手剣：熟練",null,null,null,null,null,null,null,null,"調理：熟練"]
[null,null,null,null,null,null,null,null,null,null,null,null,null,null,"能力上昇の秘薬(筋力)",null,null,null,null,null,null,null,null,null,null,null,null,null,null,null,"護衛：達人","礼儀作法：初歩",null,null,"猫目",null,"護衛：達人",null,"武器：両手剣：達人",null,null,null,null,null,null,null,null,"沈着冷静：初歩"]
[null,null,null,null,null,null,null,null,null,null,null,null,null,null,"能力上昇の秘薬(精神)",null,null,null,null,null,null,null,null,null,null,null,null,null,null,null,"護衛：伝説","労働：初歩",null,null,"雨乞",null,"護衛：伝説",null,"武器：両手剣：伝説",null,null,null,null,null,null,null,null,"沈着冷静：習熟"]
[null,null,null,null,null,null,null,null,null,null,null,null,null,null,"能力上昇の秘薬(走力)",null,null,null,null,null,null,null,null,null,null,null,null,null,null,null,"死角移動：初歩",null,null,null,"使役",null,"死角移動：初歩",null,"武器：斧：初歩",null,null,null,null,null,null,null,null,"沈着冷静：熟練"]
[null,null,null,null,null,null,null,null,null,null,null,null,null,null,"能力上昇の秘薬(体力)",null,null,null,null,null,null,null,null,null,null,null,null,null,null,null,"死角移動：習熟",null,null,null,"雷矢",null,"死角移動：習熟",null,"武器：斧：習熟",null,null,null,null,null,null,null,null,"統率：初歩"]
[null,null,null,null,null,null,null,null,null,null,null,null,null,null,"能力上昇の秘薬(知覚)",null,null,null,null,null,null,null,null,null,null,null,null,null,null,null,"死角移動：熟練",null,null,null,"石弾",null,"死角移動：熟練",null,"武器：斧：熟練",null,null,null,null,null,null,null,null,"統率：習熟"]
[null,null,null,null,null,null,null,null,null,null,null,null,null,null,"能力上昇の秘薬(敏捷)",null,null,null,null,null,null,null,null,null,null,null,null,null,null,null,"死角移動：達人",null,null,null,"泥罠",null,"死角移動：達人",null,"武器：斧：達人",null,null,null,null,null,null,null,null,"統率：熟練"]
[null,null,null,null,null,null,null,null,null,null,null,null,null,null,"鎮痛剤",null,null,null,null,null,null,null,null,null,null,null,null,null,null,null,"死角移動：伝説",null,null,null,"霊壁",null,"死角移動：伝説",null,"武器：斧：伝説",null,null,null,null,null,null,null,null,"博識：初歩"]
[null,null,null,null,null,null,null,null,null,null,null,null,null,null,"気付け薬",null,null,null,null,null,null,null,null,null,null,null,null,null,null,null,"刺突攻撃：初歩",null,null,null,"暗黒",null,"刺突攻撃：初歩",null,"武器：槍：初歩",null,null,null,null,null,null,null,null,"博識：習熟"]
[null,null,null,null,null,null,null,null,null,null,null,null,null,null,"トリカブトの毒",null,null,null,null,null,null,null,null,null,null,null,null,null,null,null,"刺突攻撃：習熟",null,null,null,"追風",null,"刺突攻撃：習熟",null,"武器：槍：習熟",null,null,null,null,null,null,null,null,"博識：熟練"]
[null,null,null,null,null,null,null,null,null,null,null,null,null,null,"燃える水",null,null,null,null,null,null,null,null,null,null,null,null,null,null,null,"刺突攻撃：熟練",null,null,null,"着火",null,"刺突攻撃：熟練",null,"武器：槍：熟練",null,null,null,null,null,null,null,null,"犯罪知識：初歩"]
[null,null,null,null,null,null,null,null,null,null,null,null,null,null,"物探しの蝋燭",null,null,null,null,null,null,null,null,null,null,null,null,null,null,null,"刺突攻撃：達人",null,null,null,"酩酊",null,"刺突攻撃：達人",null,"武器：槍：達人",null,null,null,null,null,null,null,null,"犯罪知識：習熟"]
[null,null,null,null,null,null,null,null,null,null,null,null,null,null,"魔法の巻物",null,null,null,null,null,null,null,null,null,null,null,null,null,null,null,"刺突攻撃：伝説",null,null,null,"隧道",null,"刺突攻撃：伝説",null,"武器：槍：伝説",null,null,null,null,null,null,null,null,"犯罪知識：熟練"]
[null,null,null,null,null,null,null,null,null,null,null,null,null,null,"精霊の手紙",null,null,null,null,null,null,null,null,null,null,null,null,null,null,null,"狙撃：初歩",null,null,null,"放逐",null,"狙撃：初歩",null,"武器：戦槌：初歩",null,null,null,null,null,null,null,null,"文献調査：初歩"]
[null,null,null,null,null,null,null,null,null,null,null,null,null,null,"手紙",null,null,null,null,null,null,null,null,null,null,null,null,null,null,null,"狙撃：習熟",null,null,null,"力球",null,"狙撃：習熟",null,"武器：戦槌：習熟",null,null,null,null,null,null,null,null,"文献調査：習熟"]
[null,null,null,null,null,null,null,null,null,null,null,null,null,null,"髪飾り",null,null,null,null,null,null,null,null,null,null,null,null,null,null,null,"狙撃：熟練",null,null,null,"熱波",null,"狙撃：熟練",null,"武器：戦槌：熟練",null,null,null,null,null,null,null,null,"文献調査：熟練"]
[null,null,null,null,null,null,null,null,null,null,null,null,null,null,"魔法の手鏡",null,null,null,null,null,null,null,null,null,null,null,null,null,null,null,"狙撃：達人",null,null,null,"火矢（精霊術）",null,"狙撃：達人",null,"武器：戦槌：達人",null,null,null,null,null,null,null,null,"瞑想：初歩"]
[null,null,null,null,null,null,null,null,null,null,null,null,null,null,"竜息の松明",null,null,null,null,null,null,null,null,null,null,null,null,null,null,null,"狙撃：伝説",null,null,null,"恐怖",null,"狙撃：伝説",null,"武器：戦槌：伝説",null,null,null,null,null,null,null,null,"瞑想：習熟"]
[null,null,null,null,null,null,null,null,null,null,null,null,null,null,"竜吠の銀鈴",null,null,null,null,null,null,null,null,null,null,null,null,null,null,null,"速射：初歩",null,null,null,"降下",null,"速射：初歩",null,"武器：棍杖：初歩",null,null,null,null,null,null,null,null,"瞑想：熟練"]
[null,null,null,null,null,null,null,null,null,null,null,null,null,null,"龍涎の御香",null,null,null,null,null,null,null,null,null,null,null,null,null,null,null,"速射：習熟",null,null,null,"吹雪（精霊術）",null,"速射：習熟",null,"武器：棍杖：習熟",null,null,null,null,null,null,null,null,"竜の末裔：初歩"]
[null,null,null,null,null,null,null,null,null,null,null,null,null,null,"竜命の丸薬",null,null,null,null,null,null,null,null,null,null,null,null,null,null,null,"速射：熟練",null,null,null,"呼気",null,"速射：熟練",null,"武器：棍杖：熟練",null,null,null,null,null,null,null,null,"竜の末裔：習熟"]
[null,null,null,null,null,null,null,null,null,null,null,null,null,null,"竜血の塗り薬",null,null,null,null,null,null,null,null,null,null,null,null,null,null,null,"速射：達人",null,null,null,"捕縛",null,"速射：達人",null,"武器：棍杖：達人",null,null,null,null,null,null,null,null,"竜の末裔：熟練"]
[null,null,null,null,null,null,null,null,null,null,null,null,null,null,"竜眼の触媒",null,null,null,null,null,null,null,null,null,null,null,null,null,null,null,"速射：伝説",null,null,null,null,null,"速射：伝説",null,"武器：棍杖：伝説",null,null,null,null,null,null,null,null,"礼儀作法：初歩"]
[null,null,null,null,null,null,null,null,null,null,null,null,null,null,"竜の鱗",null,null,null,null,null,null,null,null,null,null,null,null,null,null,null,"体術：初歩",null,null,null,null,null,"体術：初歩",null,"武器：格闘武器：初歩",null,null,null,null,null,null,null,null,"礼儀作法：習熟"]
[null,null,null,null,null,null,null,null,null,null,null,null,null,null,"粗悪な剣",null,null,null,null,null,null,null,null,null,null,null,null,null,null,null,"体術：習熟",null,null,null,null,null,"体術：習熟",null,"武器：格闘武器：習熟",null,null,null,null,null,null,null,null,"礼儀作法：熟練"]
[null,null,null,null,null,null,null,null,null,null,null,null,null,null,"短剣",null,null,null,null,null,null,null,null,null,null,null,null,null,null,null,"体術：熟練",null,null,null,null,null,"体術：熟練",null,"武器：格闘武器：熟練",null,null,null,null,null,null,null,null,"労働：初歩"]
[null,null,null,null,null,null,null,null,null,null,null,null,null,null,"拳剣",null,null,null,null,null,null,null,null,null,null,null,null,null,null,null,"体術：達人",null,null,null,null,null,"体術：達人",null,"武器：格闘武器：達人",null,null,null,null,null,null,null,null,"労働：習熟"]
[null,null,null,null,null,null,null,null,null,null,null,null,null,null,"黒曜の剣",null,null,null,null,null,null,null,null,null,null,null,null,null,null,null,"体術：伝説",null,null,null,null,null,"体術：伝説",null,"武器：格闘武器：伝説",null,null,null,null,null,null,null,null,"労働：熟練"]
[null,null,null,null,null,null,null,null,null,null,null,null,null,null,"舶刀",null,null,null,null,null,null,null,null,null,null,null,null,null,null,null,"盾：初歩",null,null,null,null,null,"盾：初歩",null,"武器：投擲武器：初歩"]
[null,null,null,null,null,null,null,null,null,null,null,null,null,null,"小剣",null,null,null,null,null,null,null,null,null,null,null,null,null,null,null,"盾：習熟",null,null,null,null,null,"盾：習熟",null,"武器：投擲武器：習熟"]
[null,null,null,null,null,null,null,null,null,null,null,null,null,null,"偃月刀",null,null,null,null,null,null,null,null,null,null,null,null,null,null,null,"盾：熟練",null,null,null,null,null,"盾：熟練",null,"武器：投擲武器：熟練"]
[null,null,null,null,null,null,null,null,null,null,null,null,null,null,"突剣",null,null,null,null,null,null,null,null,null,null,null,null,null,null,null,"盾：達人",null,null,null,null,null,"盾：達人",null,"武器：投擲武器：達人"]
[null,null,null,null,null,null,null,null,null,null,null,null,null,null,"広刃の剣",null,null,null,null,null,null,null,null,null,null,null,null,null,null,null,"盾：伝説",null,null,null,null,null,"盾：伝説",null,"武器：投擲武器：伝説"]
[null,null,null,null,null,null,null,null,null,null,null,null,null,null,"曲刀",null,null,null,null,null,null,null,null,null,null,null,null,null,null,null,"挑発：初歩",null,null,null,null,null,"挑発：初歩",null,"武器：弩弓：初歩"]
[null,null,null,null,null,null,null,null,null,null,null,null,null,null,"長剣",null,null,null,null,null,null,null,null,null,null,null,null,null,null,null,"挑発：習熟",null,null,null,null,null,"挑発：習熟",null,"武器：弩弓：習熟"]
[null,null,null,null,null,null,null,null,null,null,null,null,null,null,"鮫刃の剣",null,null,null,null,null,null,null,null,null,null,null,null,null,null,null,"挑発：熟練",null,null,null,null,null,"挑発：熟練",null,"武器：弩弓：熟練"]
[null,null,null,null,null,null,null,null,null,null,null,null,null,null,"湾刀",null,null,null,null,null,null,null,null,null,null,null,null,null,null,null,"挑発：達人",null,null,null,null,null,"挑発：達人",null,"武器：弩弓：達人"]
[null,null,null,null,null,null,null,null,null,null,null,null,null,null,"片手半剣",null,null,null,null,null,null,null,null,null,null,null,null,null,null,null,"挑発：伝説",null,null,null,null,null,"挑発：伝説",null,"武器：弩弓：伝説"]
[null,null,null,null,null,null,null,null,null,null,null,null,null,null,"鎧通し",null,null,null,null,null,null,null,null,null,null,null,null,null,null,null,"鉄の拳：初歩",null,null,null,null,null,"鉄の拳：初歩",null,"見切り：初歩"]
[null,null,null,null,null,null,null,null,null,null,null,null,null,null,"炎紋剣",null,null,null,null,null,null,null,null,null,null,null,null,null,null,null,"鉄の拳：習熟",null,null,null,null,null,"鉄の拳：習熟",null,"見切り：習熟"]
[null,null,null,null,null,null,null,null,null,null,null,null,null,null,"大剣",null,null,null,null,null,null,null,null,null,null,null,null,null,null,null,"鉄の拳：熟練",null,null,null,null,null,"鉄の拳：熟練",null,"見切り：熟練"]
[null,null,null,null,null,null,null,null,null,null,null,null,null,null,"袋棍",null,null,null,null,null,null,null,null,null,null,null,null,null,null,null,"鉄の拳：達人",null,null,null,null,null,"鉄の拳：達人",null,"見切り：達人"]
[null,null,null,null,null,null,null,null,null,null,null,null,null,null,"棍棒",null,null,null,null,null,null,null,null,null,null,null,null,null,null,null,"鉄の拳：伝説",null,null,null,null,null,"鉄の拳：伝説",null,"見切り：伝説"]
[null,null,null,null,null,null,null,null,null,null,null,null,null,null,"戦棍",null,null,null,null,null,null,null,null,null,null,null,null,null,null,null,"鉄壁：初歩",null,null,null,null,null,"鉄壁：初歩",null,"鎧：衣鎧：初歩"]
[null,null,null,null,null,null,null,null,null,null,null,null,null,null,"片鶴嘴",null,null,null,null,null,null,null,null,null,null,null,null,null,null,null,"鉄壁：習熟",null,null,null,null,null,"鉄壁：習熟",null,"鎧：衣鎧：習熟"]
[null,null,null,null,null,null,null,null,null,null,null,null,null,null,"槌鉾",null,null,null,null,null,null,null,null,null,null,null,null,null,null,null,"鉄壁：熟練",null,null,null,null,null,"鉄壁：熟練",null,"鎧：衣鎧：熟練"]
[null,null,null,null,null,null,null,null,null,null,null,null,null,null,"刺鉄球",null,null,null,null,null,null,null,null,null,null,null,null,null,null,null,"鉄壁：達人",null,null,null,null,null,"鉄壁：達人",null,"鎧：衣鎧：達人"]
[null,null,null,null,null,null,null,null,null,null,null,null,null,null,"戦嘴",null,null,null,null,null,null,null,null,null,null,null,null,null,null,null,"鉄壁：伝説",null,null,null,null,null,"鉄壁：伝説",null,"鎧：衣鎧：伝説"]
[null,null,null,null,null,null,null,null,null,null,null,null,null,null,"大戦槌",null,null,null,null,null,null,null,null,null,null,null,null,null,null,null,"薙ぎ払い：初歩",null,null,null,null,null,"薙ぎ払い：初歩",null,"鎧：軽鎧：初歩"]
[null,null,null,null,null,null,null,null,null,null,null,null,null,null,"大金棒",null,null,null,null,null,null,null,null,null,null,null,null,null,null,null,"薙ぎ払い：習熟",null,null,null,null,null,"薙ぎ払い：習熟",null,"鎧：軽鎧：習熟"]
[null,null,null,null,null,null,null,null,null,null,null,null,null,null,"短弓",null,null,null,null,null,null,null,null,null,null,null,null,null,null,null,"薙ぎ払い：熟練",null,null,null,null,null,"薙ぎ払い：熟練",null,"鎧：軽鎧：熟練"]
[null,null,null,null,null,null,null,null,null,null,null,null,null,null,"投矢銃",null,null,null,null,null,null,null,null,null,null,null,null,null,null,null,"薙ぎ払い：達人",null,null,null,null,null,"薙ぎ払い：達人",null,"鎧：軽鎧：達人"]
[null,null,null,null,null,null,null,null,null,null,null,null,null,null,"弩",null,null,null,null,null,null,null,null,null,null,null,null,null,null,null,"薙ぎ払い：伝説",null,null,null,null,null,"薙ぎ払い：伝説",null,"鎧：軽鎧：伝説"]
[null,null,null,null,null,null,null,null,null,null,null,null,null,null,"長弓",null,null,null,null,null,null,null,null,null,null,null,null,null,null,null,"二刀流：初歩",null,null,null,null,null,"二刀流：初歩",null,"鎧：重鎧：初歩"]
[null,null,null,null,null,null,null,null,null,null,null,null,null,null,"大弓",null,null,null,null,null,null,null,null,null,null,null,null,null,null,null,"二刀流：習熟",null,null,null,null,null,"二刀流：習熟",null,"鎧：重鎧：習熟"]
[null,null,null,null,null,null,null,null,null,null,null,null,null,null,"弩砲",null,null,null,null,null,null,null,null,null,null,null,null,null,null,null,"二刀流：熟練",null,null,null,null,null,"二刀流：熟練",null,"鎧：重鎧：熟練"]
[null,null,null,null,null,null,null,null,null,null,null,null,null,null,"抱大筒",null,null,null,null,null,null,null,null,null,null,null,null,null,null,null,"二刀流：達人",null,null,null,null,null,"二刀流：達人",null,"鎧：重鎧：達人"]
[null,null,null,null,null,null,null,null,null,null,null,null,null,null,"投石",null,null,null,null,null,null,null,null,null,null,null,null,null,null,null,"二刀流：伝説",null,null,null,null,null,"二刀流：伝説",null,"鎧：重鎧：伝説"]
[null,null,null,null,null,null,null,null,null,null,null,null,null,null,"投矢",null,null,null,null,null,null,null,null,null,null,null,null,null,null,null,"発勁：初歩",null,null,null,null,null,"発勁：初歩"]
[null,null,null,null,null,null,null,null,null,null,null,null,null,null,"投分銅",null,null,null,null,null,null,null,null,null,null,null,null,null,null,null,"発勁：習熟",null,null,null,null,null,"発勁：習熟"]
[null,null,null,null,null,null,null,null,null,null,null,null,null,null,"飛棍",null,null,null,null,null,null,null,null,null,null,null,null,null,null,null,"発勁：熟練",null,null,null,null,null,"発勁：熟練"]
[null,null,null,null,null,null,null,null,null,null,null,null,null,null,"投石紐",null,null,null,null,null,null,null,null,null,null,null,null,null,null,null,"発勁：達人",null,null,null,null,null,"発勁：達人"]
[null,null,null,null,null,null,null,null,null,null,null,null,null,null,"飛刀",null,null,null,null,null,null,null,null,null,null,null,null,null,null,null,"発勁：伝説",null,null,null,null,null,"発勁：伝説"]
[null,null,null,null,null,null,null,null,null,null,null,null,null,null,"戦輪",null,null,null,null,null,null,null,null,null,null,null,null,null,null,null,"武器：片手剣：初歩",null,null,null,null,null,"武器：片手剣：初歩"]
[null,null,null,null,null,null,null,null,null,null,null,null,null,null,"南洋式投げナイフ",null,null,null,null,null,null,null,null,null,null,null,null,null,null,null,"武器：片手剣：習熟",null,null,null,null,null,"武器：片手剣：習熟"]
[null,null,null,null,null,null,null,null,null,null,null,null,null,null,"投石杖",null,null,null,null,null,null,null,null,null,null,null,null,null,null,null,"武器：片手剣：熟練",null,null,null,null,null,"武器：片手剣：熟練"]
[null,null,null,null,null,null,null,null,null,null,null,null,null,null,"血滴子",null,null,null,null,null,null,null,null,null,null,null,null,null,null,null,"武器：片手剣：達人",null,null,null,null,null,"武器：片手剣：達人"]
[null,null,null,null,null,null,null,null,null,null,null,null,null,null,"粗悪な斧",null,null,null,null,null,null,null,null,null,null,null,null,null,null,null,"武器：片手剣：伝説",null,null,null,null,null,"武器：片手剣：伝説"]
[null,null,null,null,null,null,null,null,null,null,null,null,null,null,"鉈",null,null,null,null,null,null,null,null,null,null,null,null,null,null,null,"武器：両手剣：初歩",null,null,null,null,null,"武器：両手剣：初歩"]
[null,null,null,null,null,null,null,null,null,null,null,null,null,null,"手斧",null,null,null,null,null,null,null,null,null,null,null,null,null,null,null,"武器：両手剣：習熟",null,null,null,null,null,"武器：両手剣：習熟"]
[null,null,null,null,null,null,null,null,null,null,null,null,null,null,"投斧",null,null,null,null,null,null,null,null,null,null,null,null,null,null,null,"武器：両手剣：熟練",null,null,null,null,null,"武器：両手剣：熟練"]
[null,null,null,null,null,null,null,null,null,null,null,null,null,null,"戦斧",null,null,null,null,null,null,null,null,null,null,null,null,null,null,null,"武器：両手剣：達人",null,null,null,null,null,"武器：両手剣：達人"]
[null,null,null,null,null,null,null,null,null,null,null,null,null,null,"大斧",null,null,null,null,null,null,null,null,null,null,null,null,null,null,null,"武器：両手剣：伝説",null,null,null,null,null,"武器：両手剣：伝説"]
[null,null,null,null,null,null,null,null,null,null,null,null,null,null,"斧槍",null,null,null,null,null,null,null,null,null,null,null,null,null,null,null,"武器：斧：初歩",null,null,null,null,null,"武器：斧：初歩"]
[null,null,null,null,null,null,null,null,null,null,null,null,null,null,"粗悪な槍",null,null,null,null,null,null,null,null,null,null,null,null,null,null,null,"武器：斧：習熟",null,null,null,null,null,"武器：斧：習熟"]
[null,null,null,null,null,null,null,null,null,null,null,null,null,null,"投槍",null,null,null,null,null,null,null,null,null,null,null,null,null,null,null,"武器：斧：熟練",null,null,null,null,null,"武器：斧：熟練"]
[null,null,null,null,null,null,null,null,null,null,null,null,null,null,"短槍",null,null,null,null,null,null,null,null,null,null,null,null,null,null,null,"武器：斧：達人",null,null,null,null,null,"武器：斧：達人"]
[null,null,null,null,null,null,null,null,null,null,null,null,null,null,"小槍",null,null,null,null,null,null,null,null,null,null,null,null,null,null,null,"武器：斧：伝説",null,null,null,null,null,"武器：斧：伝説"]
[null,null,null,null,null,null,null,null,null,null,null,null,null,null,"鉄小槍",null,null,null,null,null,null,null,null,null,null,null,null,null,null,null,"武器：槍：初歩",null,null,null,null,null,"武器：槍：初歩"]
[null,null,null,null,null,null,null,null,null,null,null,null,null,null,"農叉",null,null,null,null,null,null,null,null,null,null,null,null,null,null,null,"武器：槍：習熟",null,null,null,null,null,"武器：槍：習熟"]
[null,null,null,null,null,null,null,null,null,null,null,null,null,null,"三叉槍",null,null,null,null,null,null,null,null,null,null,null,null,null,null,null,"武器：槍：熟練",null,null,null,null,null,"武器：槍：熟練"]
[null,null,null,null,null,null,null,null,null,null,null,null,null,null,"長槍",null,null,null,null,null,null,null,null,null,null,null,null,null,null,null,"武器：槍：達人",null,null,null,null,null,"武器：槍：達人"]
[null,null,null,null,null,null,null,null,null,null,null,null,null,null,"薙刀",null,null,null,null,null,null,null,null,null,null,null,null,null,null,null,"武器：槍：伝説",null,null,null,null,null,"武器：槍：伝説"]
[null,null,null,null,null,null,null,null,null,null,null,null,null,null,"戦槍",null,null,null,null,null,null,null,null,null,null,null,null,null,null,null,"武器：戦槌：初歩",null,null,null,null,null,"武器：戦槌：初歩"]
[null,null,null,null,null,null,null,null,null,null,null,null,null,null,"紅玉の杖",null,null,null,null,null,null,null,null,null,null,null,null,null,null,null,"武器：戦槌：習熟",null,null,null,null,null,"武器：戦槌：習熟"]
[null,null,null,null,null,null,null,null,null,null,null,null,null,null,"錫杖",null,null,null,null,null,null,null,null,null,null,null,null,null,null,null,"武器：戦槌：熟練",null,null,null,null,null,"武器：戦槌：熟練"]
[null,null,null,null,null,null,null,null,null,null,null,null,null,null,"司教杖",null,null,null,null,null,null,null,null,null,null,null,null,null,null,null,"武器：戦槌：達人",null,null,null,null,null,"武器：戦槌：達人"]
[null,null,null,null,null,null,null,null,null,null,null,null,null,null,"六尺棒",null,null,null,null,null,null,null,null,null,null,null,null,null,null,null,"武器：戦槌：伝説",null,null,null,null,null,"武器：戦槌：伝説"]
[null,null,null,null,null,null,null,null,null,null,null,null,null,null,"双節棍",null,null,null,null,null,null,null,null,null,null,null,null,null,null,null,"武器：棍杖：初歩",null,null,null,null,null,"武器：棍杖：初歩"]
[null,null,null,null,null,null,null,null,null,null,null,null,null,null,"打狗棒",null,null,null,null,null,null,null,null,null,null,null,null,null,null,null,"武器：棍杖：習熟",null,null,null,null,null,"武器：棍杖：習熟"]
[null,null,null,null,null,null,null,null,null,null,null,null,null,null,"連節棍",null,null,null,null,null,null,null,null,null,null,null,null,null,null,null,"武器：棍杖：熟練",null,null,null,null,null,"武器：棍杖：熟練"]
[null,null,null,null,null,null,null,null,null,null,null,null,null,null,"金砕棒",null,null,null,null,null,null,null,null,null,null,null,null,null,null,null,"武器：棍杖：達人",null,null,null,null,null,"武器：棍杖：達人"]
[null,null,null,null,null,null,null,null,null,null,null,null,null,null,"鞭",null,null,null,null,null,null,null,null,null,null,null,null,null,null,null,"武器：棍杖：伝説",null,null,null,null,null,"武器：棍杖：伝説"]
[null,null,null,null,null,null,null,null,null,null,null,null,null,null,"聖鞭",null,null,null,null,null,null,null,null,null,null,null,null,null,null,null,"武器：格闘武器：初歩",null,null,null,null,null,"武器：格闘武器：初歩"]
[null,null,null,null,null,null,null,null,null,null,null,null,null,null,"拳帯",null,null,null,null,null,null,null,null,null,null,null,null,null,null,null,"武器：格闘武器：習熟",null,null,null,null,null,"武器：格闘武器：習熟"]
[null,null,null,null,null,null,null,null,null,null,null,null,null,null,"打布槍",null,null,null,null,null,null,null,null,null,null,null,null,null,null,null,"武器：格闘武器：熟練",null,null,null,null,null,"武器：格闘武器：熟練"]
[null,null,null,null,null,null,null,null,null,null,null,null,null,null,"旋棍",null,null,null,null,null,null,null,null,null,null,null,null,null,null,null,"武器：格闘武器：達人",null,null,null,null,null,"武器：格闘武器：達人"]
[null,null,null,null,null,null,null,null,null,null,null,null,null,null,"虎爪",null,null,null,null,null,null,null,null,null,null,null,null,null,null,null,"武器：格闘武器：伝説",null,null,null,null,null,"武器：格闘武器：伝説"]
[null,null,null,null,null,null,null,null,null,null,null,null,null,null,"長傘",null,null,null,null,null,null,null,null,null,null,null,null,null,null,null,"武器：投擲武器：初歩",null,null,null,null,null,"武器：投擲武器：初歩"]
[null,null,null,null,null,null,null,null,null,null,null,null,null,null,"鉄靴",null,null,null,null,null,null,null,null,null,null,null,null,null,null,null,"武器：投擲武器：習熟",null,null,null,null,null,"武器：投擲武器：習熟"]
[null,null,null,null,null,null,null,null,null,null,null,null,null,null,"拳鍔",null,null,null,null,null,null,null,null,null,null,null,null,null,null,null,"武器：投擲武器：熟練",null,null,null,null,null,"武器：投擲武器：熟練"]
[null,null,null,null,null,null,null,null,null,null,null,null,null,null,"鉄拳",null,null,null,null,null,null,null,null,null,null,null,null,null,null,null,"武器：投擲武器：達人",null,null,null,null,null,"武器：投擲武器：達人"]
[null,null,null,null,null,null,null,null,null,null,null,null,null,null,"朝露の短剣",null,null,null,null,null,null,null,null,null,null,null,null,null,null,null,"武器：投擲武器：伝説",null,null,null,null,null,"武器：投擲武器：伝説"]
[null,null,null,null,null,null,null,null,null,null,null,null,null,null,"魔法の短剣（＋１）",null,null,null,null,null,null,null,null,null,null,null,null,null,null,null,"武器：弩弓：初歩",null,null,null,null,null,"武器：弩弓：初歩"]
[null,null,null,null,null,null,null,null,null,null,null,null,null,null,"銀の短剣",null,null,null,null,null,null,null,null,null,null,null,null,null,null,null,"武器：弩弓：習熟",null,null,null,null,null,"武器：弩弓：習熟"]
[null,null,null,null,null,null,null,null,null,null,null,null,null,null,"魔法の短剣（＋２）",null,null,null,null,null,null,null,null,null,null,null,null,null,null,null,"武器：弩弓：熟練",null,null,null,null,null,"武器：弩弓：熟練"]
[null,null,null,null,null,null,null,null,null,null,null,null,null,null,"外套",null,null,null,null,null,null,null,null,null,null,null,null,null,null,null,"武器：弩弓：達人",null,null,null,null,null,"武器：弩弓：達人"]
[null,null,null,null,null,null,null,null,null,null,null,null,null,null,"布鎧",null,null,null,null,null,null,null,null,null,null,null,null,null,null,null,"武器：弩弓：伝説",null,null,null,null,null,"武器：弩弓：伝説"]
[null,null,null,null,null,null,null,null,null,null,null,null,null,null,"旅人の外套",null,null,null,null,null,null,null,null,null,null,null,null,null,null,null,"見切り：初歩",null,null,null,null,null,"見切り：初歩"]
[null,null,null,null,null,null,null,null,null,null,null,null,null,null,"綿鎧",null,null,null,null,null,null,null,null,null,null,null,null,null,null,null,"見切り：習熟",null,null,null,null,null,"見切り：習熟"]
[null,null,null,null,null,null,null,null,null,null,null,null,null,null,"神官服",null,null,null,null,null,null,null,null,null,null,null,null,null,null,null,"見切り：熟練",null,null,null,null,null,"見切り：熟練"]
[null,null,null,null,null,null,null,null,null,null,null,null,null,null,"司教服",null,null,null,null,null,null,null,null,null,null,null,null,null,null,null,"見切り：達人",null,null,null,null,null,"見切り：達人"]
[null,null,null,null,null,null,null,null,null,null,null,null,null,null,"野伏の外套",null,null,null,null,null,null,null,null,null,null,null,null,null,null,null,"見切り：伝説",null,null,null,null,null,"見切り：伝説"]
[null,null,null,null,null,null,null,null,null,null,null,null,null,null,"狩人の外套",null,null,null,null,null,null,null,null,null,null,null,null,null,null,null,"鎧：衣鎧：初歩",null,null,null,null,null,"鎧：衣鎧：初歩"]
[null,null,null,null,null,null,null,null,null,null,null,null,null,null,"革鎧",null,null,null,null,null,null,null,null,null,null,null,null,null,null,null,"鎧：衣鎧：習熟",null,null,null,null,null,"鎧：衣鎧：習熟"]
[null,null,null,null,null,null,null,null,null,null,null,null,null,null,"硬い革鎧",null,null,null,null,null,null,null,null,null,null,null,null,null,null,null,"鎧：衣鎧：熟練",null,null,null,null,null,"鎧：衣鎧：熟練"]
[null,null,null,null,null,null,null,null,null,null,null,null,null,null,"胸甲",null,null,null,null,null,null,null,null,null,null,null,null,null,null,null,"鎧：衣鎧：達人",null,null,null,null,null,"鎧：衣鎧：達人"]
[null,null,null,null,null,null,null,null,null,null,null,null,null,null,"下着鎧",null,null,null,null,null,null,null,null,null,null,null,null,null,null,null,"鎧：衣鎧：伝説",null,null,null,null,null,"鎧：衣鎧：伝説"]
[null,null,null,null,null,null,null,null,null,null,null,null,null,null,"鋲付きの革鎧",null,null,null,null,null,null,null,null,null,null,null,null,null,null,null,"鎧：軽鎧：初歩",null,null,null,null,null,"鎧：軽鎧：初歩"]
[null,null,null,null,null,null,null,null,null,null,null,null,null,null,"鎖帷子",null,null,null,null,null,null,null,null,null,null,null,null,null,null,null,"鎧：軽鎧：習熟",null,null,null,null,null,"鎧：軽鎧：習熟"]
[null,null,null,null,null,null,null,null,null,null,null,null,null,null,"鱗状鎧",null,null,null,null,null,null,null,null,null,null,null,null,null,null,null,"鎧：軽鎧：熟練",null,null,null,null,null,"鎧：軽鎧：熟練"]
[null,null,null,null,null,null,null,null,null,null,null,null,null,null,"板状鎧",null,null,null,null,null,null,null,null,null,null,null,null,null,null,null,"鎧：軽鎧：達人",null,null,null,null,null,"鎧：軽鎧：達人"]
[null,null,null,null,null,null,null,null,null,null,null,null,null,null,"小札鎧",null,null,null,null,null,null,null,null,null,null,null,null,null,null,null,"鎧：軽鎧：伝説",null,null,null,null,null,"鎧：軽鎧：伝説"]
[null,null,null,null,null,null,null,null,null,null,null,null,null,null,"胴鎧",null,null,null,null,null,null,null,null,null,null,null,null,null,null,null,"鎧：重鎧：初歩",null,null,null,null,null,"鎧：重鎧：初歩"]
[null,null,null,null,null,null,null,null,null,null,null,null,null,null,"板金鎧",null,null,null,null,null,null,null,null,null,null,null,null,null,null,null,"鎧：重鎧：習熟",null,null,null,null,null,"鎧：重鎧：習熟"]
[null,null,null,null,null,null,null,null,null,null,null,null,null,null,"当世具足",null,null,null,null,null,null,null,null,null,null,null,null,null,null,null,"鎧：重鎧：熟練",null,null,null,null,null,"鎧：重鎧：熟練"]
[null,null,null,null,null,null,null,null,null,null,null,null,null,null,"魔法の鋲付きの革鎧（＋１）",null,null,null,null,null,null,null,null,null,null,null,null,null,null,null,"鎧：重鎧：達人",null,null,null,null,null,"鎧：重鎧：達人"]
[null,null,null,null,null,null,null,null,null,null,null,null,null,null,"魔法の鋲付きの革鎧（＋２）",null,null,null,null,null,null,null,null,null,null,null,null,null,null,null,"鎧：重鎧：伝説",null,null,null,null,null,"鎧：重鎧：伝説"]
[null,null,null,null,null,null,null,null,null,null,null,null,null,null,"大篭手",null,null,null,null,null,null,null,null,null,null,null,null,null,null,null,"火の遣い手：初歩",null,null,null,null,null,"火の遣い手：初歩"]
[null,null,null,null,null,null,null,null,null,null,null,null,null,null,"小盾",null,null,null,null,null,null,null,null,null,null,null,null,null,null,null,"火の遣い手：習熟",null,null,null,null,null,"火の遣い手：習熟"]
[null,null,null,null,null,null,null,null,null,null,null,null,null,null,"円盾",null,null,null,null,null,null,null,null,null,null,null,null,null,null,null,"火の遣い手：熟練",null,null,null,null,null,"火の遣い手：熟練"]
[null,null,null,null,null,null,null,null,null,null,null,null,null,null,"吊盾",null,null,null,null,null,null,null,null,null,null,null,null,null,null,null,"火の遣い手：達人",null,null,null,null,null,"火の遣い手：達人"]
[null,null,null,null,null,null,null,null,null,null,null,null,null,null,"投火盾",null,null,null,null,null,null,null,null,null,null,null,null,null,null,null,"火の遣い手：伝説",null,null,null,null,null,"火の遣い手：伝説"]
[null,null,null,null,null,null,null,null,null,null,null,null,null,null,"尖盾",null,null,null,null,null,null,null,null,null,null,null,null,null,null,null,"水の遣い手：初歩",null,null,null,null,null,"水の遣い手：初歩"]
[null,null,null,null,null,null,null,null,null,null,null,null,null,null,"馬上盾",null,null,null,null,null,null,null,null,null,null,null,null,null,null,null,"水の遣い手：習熟",null,null,null,null,null,"水の遣い手：習熟"]
[null,null,null,null,null,null,null,null,null,null,null,null,null,null,"騎士盾",null,null,null,null,null,null,null,null,null,null,null,null,null,null,null,"水の遣い手：熟練",null,null,null,null,null,"水の遣い手：熟練"]
[null,null,null,null,null,null,null,null,null,null,null,null,null,null,"大盾",null,null,null,null,null,null,null,null,null,null,null,null,null,null,null,"水の遣い手：達人",null,null,null,null,null,"水の遣い手：達人"]
[null,null,null,null,null,null,null,null,null,null,null,null,null,null,"魔法の小盾（＋１）",null,null,null,null,null,null,null,null,null,null,null,null,null,null,null,"水の遣い手：伝説",null,null,null,null,null,"水の遣い手：伝説"]
[null,null,null,null,null,null,null,null,null,null,null,null,null,null,"邪紋の短剣",null,null,null,null,null,null,null,null,null,null,null,null,null,null,null,"風の遣い手：初歩",null,null,null,null,null,"風の遣い手：初歩"]
[null,null,null,null,null,null,null,null,null,null,null,null,null,null,"竜髭の短弓",null,null,null,null,null,null,null,null,null,null,null,null,null,null,null,"風の遣い手：習熟",null,null,null,null,null,"風の遣い手：習熟"]
[null,null,null,null,null,null,null,null,null,null,null,null,null,null,"竜鱗の吊盾",null,null,null,null,null,null,null,null,null,null,null,null,null,null,null,"風の遣い手：熟練",null,null,null,null,null,"風の遣い手：熟練"]
[null,null,null,null,null,null,null,null,null,null,null,null,null,null,"邪紋の短剣（＋２）",null,null,null,null,null,null,null,null,null,null,null,null,null,null,null,"風の遣い手：達人",null,null,null,null,null,"風の遣い手：達人"]
[null,null,null,null,null,null,null,null,null,null,null,null,null,null,"銀の矢",null,null,null,null,null,null,null,null,null,null,null,null,null,null,null,"風の遣い手：伝説",null,null,null,null,null,"風の遣い手：伝説"]
[null,null,null,null,null,null,null,null,null,null,null,null,null,null,null,null,null,null,null,null,null,null,null,null,null,null,null,null,null,null,"土の遣い手：初歩",null,null,null,null,null,"土の遣い手：初歩"]
[null,null,null,null,null,null,null,null,null,null,null,null,null,null,null,null,null,null,null,null,null,null,null,null,null,null,null,null,null,null,"土の遣い手：習熟",null,null,null,null,null,"土の遣い手：習熟"]
[null,null,null,null,null,null,null,null,null,null,null,null,null,null,null,null,null,null,null,null,null,null,null,null,null,null,null,null,null,null,"土の遣い手：熟練",null,null,null,null,null,"土の遣い手：熟練"]
[null,null,null,null,null,null,null,null,null,null,null,null,null,null,null,null,null,null,null,null,null,null,null,null,null,null,null,null,null,null,"土の遣い手：達人",null,null,null,null,null,"土の遣い手：達人"]
[null,null,null,null,null,null,null,null,null,null,null,null,null,null,null,null,null,null,null,null,null,null,null,null,null,null,null,null,null,null,"土の遣い手：伝説",null,null,null,null,null,"土の遣い手：伝説"]
[null,null,null,null,null,null,null,null,null,null,null,null,null,null,null,null,null,null,null,null,null,null,null,null,null,null,null,null,null,null,"生命の遣い手：初歩",null,null,null,null,null,"生命の遣い手：初歩"]
[null,null,null,null,null,null,null,null,null,null,null,null,null,null,null,null,null,null,null,null,null,null,null,null,null,null,null,null,null,null,"生命の遣い手：習熟",null,null,null,null,null,"生命の遣い手：習熟"]
[null,null,null,null,null,null,null,null,null,null,null,null,null,null,null,null,null,null,null,null,null,null,null,null,null,null,null,null,null,null,"生命の遣い手：熟練",null,null,null,null,null,"生命の遣い手：熟練"]
[null,null,null,null,null,null,null,null,null,null,null,null,null,null,null,null,null,null,null,null,null,null,null,null,null,null,null,null,null,null,"生命の遣い手：達人",null,null,null,null,null,"生命の遣い手：達人"]
[null,null,null,null,null,null,null,null,null,null,null,null,null,null,null,null,null,null,null,null,null,null,null,null,null,null,null,null,null,null,"生命の遣い手：伝説",null,null,null,null,null,"生命の遣い手：伝説"]
[null,null,null,null,null,null,null,null,null,null,null,null,null,null,null,null,null,null,null,null,null,null,null,null,null,null,null,null,null,null,"怪物知識：初歩",null,null,null,null,null,"怪物知識：初歩"]
[null,null,null,null,null,null,null,null,null,null,null,null,null,null,null,null,null,null,null,null,null,null,null,null,null,null,null,null,null,null,"怪物知識：習熟",null,null,null,null,null,"怪物知識：習熟"]
[null,null,null,null,null,null,null,null,null,null,null,null,null,null,null,null,null,null,null,null,null,null,null,null,null,null,null,null,null,null,"怪物知識：熟練",null,null,null,null,null,"怪物知識：熟練"]
[null,null,null,null,null,null,null,null,null,null,null,null,null,null,null,null,null,null,null,null,null,null,null,null,null,null,null,null,null,null,"怪物知識：達人",null,null,null,null,null,"怪物知識：達人"]
[null,null,null,null,null,null,null,null,null,null,null,null,null,null,null,null,null,null,null,null,null,null,null,null,null,null,null,null,null,null,"怪物知識：伝説",null,null,null,null,null,"怪物知識：伝説"]
[null,null,null,null,null,null,null,null,null,null,null,null,null,null,null,null,null,null,null,null,null,null,null,null,null,null,null,null,null,null,"呪文熟達：攻撃呪文：初歩",null,null,null,null,null,"呪文熟達：攻撃呪文：初歩"]
[null,null,null,null,null,null,null,null,null,null,null,null,null,null,null,null,null,null,null,null,null,null,null,null,null,null,null,null,null,null,"呪文熟達：攻撃呪文：習熟",null,null,null,null,null,"呪文熟達：攻撃呪文：習熟"]
[null,null,null,null,null,null,null,null,null,null,null,null,null,null,null,null,null,null,null,null,null,null,null,null,null,null,null,null,null,null,"呪文熟達：攻撃呪文：熟練",null,null,null,null,null,"呪文熟達：攻撃呪文：熟練"]
[null,null,null,null,null,null,null,null,null,null,null,null,null,null,null,null,null,null,null,null,null,null,null,null,null,null,null,null,null,null,"呪文熟達：攻撃呪文：達人",null,null,null,null,null,"呪文熟達：攻撃呪文：達人"]
[null,null,null,null,null,null,null,null,null,null,null,null,null,null,null,null,null,null,null,null,null,null,null,null,null,null,null,null,null,null,"呪文熟達：攻撃呪文：伝説",null,null,null,null,null,"呪文熟達：攻撃呪文：伝説"]
[null,null,null,null,null,null,null,null,null,null,null,null,null,null,null,null,null,null,null,null,null,null,null,null,null,null,null,null,null,null,"呪文熟達：付与呪文：初歩",null,null,null,null,null,"呪文熟達：付与呪文：初歩"]
[null,null,null,null,null,null,null,null,null,null,null,null,null,null,null,null,null,null,null,null,null,null,null,null,null,null,null,null,null,null,"呪文熟達：付与呪文：習熟",null,null,null,null,null,"呪文熟達：付与呪文：習熟"]
[null,null,null,null,null,null,null,null,null,null,null,null,null,null,null,null,null,null,null,null,null,null,null,null,null,null,null,null,null,null,"呪文熟達：付与呪文：熟練",null,null,null,null,null,"呪文熟達：付与呪文：熟練"]
[null,null,null,null,null,null,null,null,null,null,null,null,null,null,null,null,null,null,null,null,null,null,null,null,null,null,null,null,null,null,"呪文熟達：付与呪文：達人",null,null,null,null,null,"呪文熟達：付与呪文：達人"]
[null,null,null,null,null,null,null,null,null,null,null,null,null,null,null,null,null,null,null,null,null,null,null,null,null,null,null,null,null,null,"呪文熟達：付与呪文：伝説",null,null,null,null,null,"呪文熟達：付与呪文：伝説"]
[null,null,null,null,null,null,null,null,null,null,null,null,null,null,null,null,null,null,null,null,null,null,null,null,null,null,null,null,null,null,"呪文熟達：創造呪文：初歩",null,null,null,null,null,"呪文熟達：創造呪文：初歩"]
[null,null,null,null,null,null,null,null,null,null,null,null,null,null,null,null,null,null,null,null,null,null,null,null,null,null,null,null,null,null,"呪文熟達：創造呪文：習熟",null,null,null,null,null,"呪文熟達：創造呪文：習熟"]
[null,null,null,null,null,null,null,null,null,null,null,null,null,null,null,null,null,null,null,null,null,null,null,null,null,null,null,null,null,null,"呪文熟達：創造呪文：熟練",null,null,null,null,null,"呪文熟達：創造呪文：熟練"]
[null,null,null,null,null,null,null,null,null,null,null,null,null,null,null,null,null,null,null,null,null,null,null,null,null,null,null,null,null,null,"呪文熟達：創造呪文：達人",null,null,null,null,null,"呪文熟達：創造呪文：達人"]
[null,null,null,null,null,null,null,null,null,null,null,null,null,null,null,null,null,null,null,null,null,null,null,null,null,null,null,null,null,null,"呪文熟達：創造呪文：伝説",null,null,null,null,null,"呪文熟達：創造呪文：伝説"]
[null,null,null,null,null,null,null,null,null,null,null,null,null,null,null,null,null,null,null,null,null,null,null,null,null,null,null,null,null,null,"呪文熟達：支配呪文：初歩",null,null,null,null,null,"呪文熟達：支配呪文：初歩"]
[null,null,null,null,null,null,null,null,null,null,null,null,null,null,null,null,null,null,null,null,null,null,null,null,null,null,null,null,null,null,"呪文熟達：支配呪文：習熟",null,null,null,null,null,"呪文熟達：支配呪文：習熟"]
[null,null,null,null,null,null,null,null,null,null,null,null,null,null,null,null,null,null,null,null,null,null,null,null,null,null,null,null,null,null,"呪文熟達：支配呪文：熟練",null,null,null,null,null,"呪文熟達：支配呪文：熟練"]
[null,null,null,null,null,null,null,null,null,null,null,null,null,null,null,null,null,null,null,null,null,null,null,null,null,null,null,null,null,null,"呪文熟達：支配呪文：達人",null,null,null,null,null,"呪文熟達：支配呪文：達人"]
[null,null,null,null,null,null,null,null,null,null,null,null,null,null,null,null,null,null,null,null,null,null,null,null,null,null,null,null,null,null,"呪文熟達：支配呪文：伝説",null,null,null,null,null,"呪文熟達：支配呪文：伝説"]
[null,null,null,null,null,null,null,null,null,null,null,null,null,null,null,null,null,null,null,null,null,null,null,null,null,null,null,null,null,null,"呪文熟達：治癒呪文：初歩",null,null,null,null,null,"呪文熟達：治癒呪文：初歩"]
[null,null,null,null,null,null,null,null,null,null,null,null,null,null,null,null,null,null,null,null,null,null,null,null,null,null,null,null,null,null,"呪文熟達：治癒呪文：習熟",null,null,null,null,null,"呪文熟達：治癒呪文：習熟"]
[null,null,null,null,null,null,null,null,null,null,null,null,null,null,null,null,null,null,null,null,null,null,null,null,null,null,null,null,null,null,"呪文熟達：治癒呪文：熟練",null,null,null,null,null,"呪文熟達：治癒呪文：熟練"]
[null,null,null,null,null,null,null,null,null,null,null,null,null,null,null,null,null,null,null,null,null,null,null,null,null,null,null,null,null,null,"呪文熟達：治癒呪文：達人",null,null,null,null,null,"呪文熟達：治癒呪文：達人"]
[null,null,null,null,null,null,null,null,null,null,null,null,null,null,null,null,null,null,null,null,null,null,null,null,null,null,null,null,null,null,"呪文熟達：治癒呪文：伝説",null,null,null,null,null,"呪文熟達：治癒呪文：伝説"]
[null,null,null,null,null,null,null,null,null,null,null,null,null,null,null,null,null,null,null,null,null,null,null,null,null,null,null,null,null,null,"呪文熟達：汎用呪文：初歩",null,null,null,null,null,"呪文熟達：汎用呪文：初歩"]
[null,null,null,null,null,null,null,null,null,null,null,null,null,null,null,null,null,null,null,null,null,null,null,null,null,null,null,null,null,null,"呪文熟達：汎用呪文：習熟",null,null,null,null,null,"呪文熟達：汎用呪文：習熟"]
[null,null,null,null,null,null,null,null,null,null,null,null,null,null,null,null,null,null,null,null,null,null,null,null,null,null,null,null,null,null,"呪文熟達：汎用呪文：熟練",null,null,null,null,null,"呪文熟達：汎用呪文：熟練"]
[null,null,null,null,null,null,null,null,null,null,null,null,null,null,null,null,null,null,null,null,null,null,null,null,null,null,null,null,null,null,"呪文熟達：汎用呪文：達人",null,null,null,null,null,"呪文熟達：汎用呪文：達人"]
[null,null,null,null,null,null,null,null,null,null,null,null,null,null,null,null,null,null,null,null,null,null,null,null,null,null,null,null,null,null,"呪文熟達：汎用呪文：伝説",null,null,null,null,null,"呪文熟達：汎用呪文：伝説"]
[null,null,null,null,null,null,null,null,null,null,null,null,null,null,null,null,null,null,null,null,null,null,null,null,null,null,null,null,null,null,"呪文増強：威力：初歩",null,null,null,null,null,"呪文増強：威力：初歩"]
[null,null,null,null,null,null,null,null,null,null,null,null,null,null,null,null,null,null,null,null,null,null,null,null,null,null,null,null,null,null,"呪文増強：威力：習熟",null,null,null,null,null,"呪文増強：威力：習熟"]
[null,null,null,null,null,null,null,null,null,null,null,null,null,null,null,null,null,null,null,null,null,null,null,null,null,null,null,null,null,null,"呪文増強：威力：熟練",null,null,null,null,null,"呪文増強：威力：熟練"]
[null,null,null,null,null,null,null,null,null,null,null,null,null,null,null,null,null,null,null,null,null,null,null,null,null,null,null,null,null,null,"呪文増強：威力：達人",null,null,null,null,null,"呪文増強：威力：達人"]
[null,null,null,null,null,null,null,null,null,null,null,null,null,null,null,null,null,null,null,null,null,null,null,null,null,null,null,null,null,null,"呪文増強：威力：伝説",null,null,null,null,null,"呪文増強：威力：伝説"]
[null,null,null,null,null,null,null,null,null,null,null,null,null,null,null,null,null,null,null,null,null,null,null,null,null,null,null,null,null,null,"呪文追加：真言呪文：初歩",null,null,null,null,null,"呪文追加：真言呪文：初歩"]
[null,null,null,null,null,null,null,null,null,null,null,null,null,null,null,null,null,null,null,null,null,null,null,null,null,null,null,null,null,null,"呪文追加：真言呪文：習熟",null,null,null,null,null,"呪文追加：真言呪文：習熟"]
[null,null,null,null,null,null,null,null,null,null,null,null,null,null,null,null,null,null,null,null,null,null,null,null,null,null,null,null,null,null,"呪文追加：真言呪文：熟練",null,null,null,null,null,"呪文追加：真言呪文：熟練"]
[null,null,null,null,null,null,null,null,null,null,null,null,null,null,null,null,null,null,null,null,null,null,null,null,null,null,null,null,null,null,"呪文追加：真言呪文：達人",null,null,null,null,null,"呪文追加：真言呪文：達人"]
[null,null,null,null,null,null,null,null,null,null,null,null,null,null,null,null,null,null,null,null,null,null,null,null,null,null,null,null,null,null,"呪文追加：真言呪文：伝説",null,null,null,null,null,"呪文追加：真言呪文：伝説"]
[null,null,null,null,null,null,null,null,null,null,null,null,null,null,null,null,null,null,null,null,null,null,null,null,null,null,null,null,null,null,"呪文追加：奇跡：初歩",null,null,null,null,null,"呪文追加：奇跡：初歩"]
[null,null,null,null,null,null,null,null,null,null,null,null,null,null,null,null,null,null,null,null,null,null,null,null,null,null,null,null,null,null,"呪文追加：奇跡：習熟",null,null,null,null,null,"呪文追加：奇跡：習熟"]
[null,null,null,null,null,null,null,null,null,null,null,null,null,null,null,null,null,null,null,null,null,null,null,null,null,null,null,null,null,null,"呪文追加：奇跡：熟練",null,null,null,null,null,"呪文追加：奇跡：熟練"]
[null,null,null,null,null,null,null,null,null,null,null,null,null,null,null,null,null,null,null,null,null,null,null,null,null,null,null,null,null,null,"呪文追加：奇跡：達人",null,null,null,null,null,"呪文追加：奇跡：達人"]
[null,null,null,null,null,null,null,null,null,null,null,null,null,null,null,null,null,null,null,null,null,null,null,null,null,null,null,null,null,null,"呪文追加：奇跡：伝説",null,null,null,null,null,"呪文追加：奇跡：伝説"]
[null,null,null,null,null,null,null,null,null,null,null,null,null,null,null,null,null,null,null,null,null,null,null,null,null,null,null,null,null,null,"呪文追加：祖竜術：初歩",null,null,null,null,null,"呪文追加：祖竜術：初歩"]
[null,null,null,null,null,null,null,null,null,null,null,null,null,null,null,null,null,null,null,null,null,null,null,null,null,null,null,null,null,null,"呪文追加：祖竜術：習熟",null,null,null,null,null,"呪文追加：祖竜術：習熟"]
[null,null,null,null,null,null,null,null,null,null,null,null,null,null,null,null,null,null,null,null,null,null,null,null,null,null,null,null,null,null,"呪文追加：祖竜術：熟練",null,null,null,null,null,"呪文追加：祖竜術：熟練"]
[null,null,null,null,null,null,null,null,null,null,null,null,null,null,null,null,null,null,null,null,null,null,null,null,null,null,null,null,null,null,"呪文追加：祖竜術：達人",null,null,null,null,null,"呪文追加：祖竜術：達人"]
[null,null,null,null,null,null,null,null,null,null,null,null,null,null,null,null,null,null,null,null,null,null,null,null,null,null,null,null,null,null,"呪文追加：祖竜術：伝説",null,null,null,null,null,"呪文追加：祖竜術：伝説"]
[null,null,null,null,null,null,null,null,null,null,null,null,null,null,null,null,null,null,null,null,null,null,null,null,null,null,null,null,null,null,"呪文追加：精霊術：初歩",null,null,null,null,null,"呪文追加：精霊術：初歩"]
[null,null,null,null,null,null,null,null,null,null,null,null,null,null,null,null,null,null,null,null,null,null,null,null,null,null,null,null,null,null,"呪文追加：精霊術：習熟",null,null,null,null,null,"呪文追加：精霊術：習熟"]
[null,null,null,null,null,null,null,null,null,null,null,null,null,null,null,null,null,null,null,null,null,null,null,null,null,null,null,null,null,null,"呪文追加：精霊術：熟練",null,null,null,null,null,"呪文追加：精霊術：熟練"]
[null,null,null,null,null,null,null,null,null,null,null,null,null,null,null,null,null,null,null,null,null,null,null,null,null,null,null,null,null,null,"呪文追加：精霊術：達人",null,null,null,null,null,"呪文追加：精霊術：達人"]
[null,null,null,null,null,null,null,null,null,null,null,null,null,null,null,null,null,null,null,null,null,null,null,null,null,null,null,null,null,null,"呪文追加：精霊術：伝説",null,null,null,null,null,"呪文追加：精霊術：伝説"]
[null,null,null,null,null,null,null,null,null,null,null,null,null,null,null,null,null,null,null,null,null,null,null,null,null,null,null,null,null,null,"魔法の才：初歩",null,null,null,null,null,"魔法の才：初歩"]
[null,null,null,null,null,null,null,null,null,null,null,null,null,null,null,null,null,null,null,null,null,null,null,null,null,null,null,null,null,null,"魔法の才：習熟",null,null,null,null,null,"魔法の才：習熟"]
[null,null,null,null,null,null,null,null,null,null,null,null,null,null,null,null,null,null,null,null,null,null,null,null,null,null,null,null,null,null,"魔法の才：熟練",null,null,null,null,null,"魔法の才：熟練"]
[null,null,null,null,null,null,null,null,null,null,null,null,null,null,null,null,null,null,null,null,null,null,null,null,null,null,null,null,null,null,"魔法の才：達人",null,null,null,null,null,"魔法の才：達人"]
[null,null,null,null,null,null,null,null,null,null,null,null,null,null,null,null,null,null,null,null,null,null,null,null,null,null,null,null,null,null,"魔法の才：伝説",null,null,null,null,null,"魔法の才：伝説"]
[null,null,null,null,null,null,null,null,null,null,null,null,null,null,null,null,null,null,null,null,null,null,null,null,null,null,null,null,null,null,"暗視：初歩",null,null,null,null,null,"暗視：初歩"]
[null,null,null,null,null,null,null,null,null,null,null,null,null,null,null,null,null,null,null,null,null,null,null,null,null,null,null,null,null,null,"暗視：習熟",null,null,null,null,null,"暗視：習熟"]
[null,null,null,null,null,null,null,null,null,null,null,null,null,null,null,null,null,null,null,null,null,null,null,null,null,null,null,null,null,null,"暗視：熟練",null,null,null,null,null,"暗視：熟練"]
[null,null,null,null,null,null,null,null,null,null,null,null,null,null,null,null,null,null,null,null,null,null,null,null,null,null,null,null,null,null,"鑑定：初歩",null,null,null,null,null,"鑑定：初歩"]
[null,null,null,null,null,null,null,null,null,null,null,null,null,null,null,null,null,null,null,null,null,null,null,null,null,null,null,null,null,null,"鑑定：習熟",null,null,null,null,null,"鑑定：習熟"]
[null,null,null,null,null,null,null,null,null,null,null,null,null,null,null,null,null,null,null,null,null,null,null,null,null,null,null,null,null,null,"鑑定：熟練",null,null,null,null,null,"鑑定：熟練"]
[null,null,null,null,null,null,null,null,null,null,null,null,null,null,null,null,null,null,null,null,null,null,null,null,null,null,null,null,null,null,"騎乗：初歩",null,null,null,null,null,"騎乗：初歩"]
[null,null,null,null,null,null,null,null,null,null,null,null,null,null,null,null,null,null,null,null,null,null,null,null,null,null,null,null,null,null,"騎乗：習熟",null,null,null,null,null,"騎乗：習熟"]
[null,null,null,null,null,null,null,null,null,null,null,null,null,null,null,null,null,null,null,null,null,null,null,null,null,null,null,null,null,null,"騎乗：熟練",null,null,null,null,null,"騎乗：熟練"]
[null,null,null,null,null,null,null,null,null,null,null,null,null,null,null,null,null,null,null,null,null,null,null,null,null,null,null,null,null,null,"祈祷：初歩",null,null,null,null,null,"祈祷：初歩"]
[null,null,null,null,null,null,null,null,null,null,null,null,null,null,null,null,null,null,null,null,null,null,null,null,null,null,null,null,null,null,"祈祷：習熟",null,null,null,null,null,"祈祷：習熟"]
[null,null,null,null,null,null,null,null,null,null,null,null,null,null,null,null,null,null,null,null,null,null,null,null,null,null,null,null,null,null,"祈祷：熟練",null,null,null,null,null,"祈祷：熟練"]
[null,null,null,null,null,null,null,null,null,null,null,null,null,null,null,null,null,null,null,null,null,null,null,null,null,null,null,null,null,null,"芸能：歌唱：初歩",null,null,null,null,null,"芸能：歌唱：初歩"]
[null,null,null,null,null,null,null,null,null,null,null,null,null,null,null,null,null,null,null,null,null,null,null,null,null,null,null,null,null,null,"芸能：歌唱：習熟",null,null,null,null,null,"芸能：歌唱：習熟"]
[null,null,null,null,null,null,null,null,null,null,null,null,null,null,null,null,null,null,null,null,null,null,null,null,null,null,null,null,null,null,"芸能：歌唱：熟練",null,null,null,null,null,"芸能：歌唱：熟練"]
[null,null,null,null,null,null,null,null,null,null,null,null,null,null,null,null,null,null,null,null,null,null,null,null,null,null,null,null,null,null,"芸能：即興詩：初歩",null,null,null,null,null,"芸能：即興詩：初歩"]
[null,null,null,null,null,null,null,null,null,null,null,null,null,null,null,null,null,null,null,null,null,null,null,null,null,null,null,null,null,null,"芸能：即興詩：習熟",null,null,null,null,null,"芸能：即興詩：習熟"]
[null,null,null,null,null,null,null,null,null,null,null,null,null,null,null,null,null,null,null,null,null,null,null,null,null,null,null,null,null,null,"芸能：即興詩：熟練",null,null,null,null,null,"芸能：即興詩：熟練"]
[null,null,null,null,null,null,null,null,null,null,null,null,null,null,null,null,null,null,null,null,null,null,null,null,null,null,null,null,null,null,"芸能：演奏：初歩",null,null,null,null,null,"芸能：演奏：初歩"]
[null,null,null,null,null,null,null,null,null,null,null,null,null,null,null,null,null,null,null,null,null,null,null,null,null,null,null,null,null,null,"芸能：演奏：習熟",null,null,null,null,null,"芸能：演奏：習熟"]
[null,null,null,null,null,null,null,null,null,null,null,null,null,null,null,null,null,null,null,null,null,null,null,null,null,null,null,null,null,null,"芸能：演奏：熟練",null,null,null,null,null,"芸能：演奏：熟練"]
[null,null,null,null,null,null,null,null,null,null,null,null,null,null,null,null,null,null,null,null,null,null,null,null,null,null,null,null,null,null,"芸能：舞踊：初歩",null,null,null,null,null,"芸能：舞踊：初歩"]
[null,null,null,null,null,null,null,null,null,null,null,null,null,null,null,null,null,null,null,null,null,null,null,null,null,null,null,null,null,null,"芸能：舞踊：習熟",null,null,null,null,null,"芸能：舞踊：習熟"]
[null,null,null,null,null,null,null,null,null,null,null,null,null,null,null,null,null,null,null,null,null,null,null,null,null,null,null,null,null,null,"芸能：舞踊：熟練",null,null,null,null,null,"芸能：舞踊：熟練"]
[null,null,null,null,null,null,null,null,null,null,null,null,null,null,null,null,null,null,null,null,null,null,null,null,null,null,null,null,null,null,"芸能：大道芸：初歩",null,null,null,null,null,"芸能：大道芸：初歩"]
[null,null,null,null,null,null,null,null,null,null,null,null,null,null,null,null,null,null,null,null,null,null,null,null,null,null,null,null,null,null,"芸能：大道芸：習熟",null,null,null,null,null,"芸能：大道芸：習熟"]
[null,null,null,null,null,null,null,null,null,null,null,null,null,null,null,null,null,null,null,null,null,null,null,null,null,null,null,null,null,null,"芸能：大道芸：熟練",null,null,null,null,null,"芸能：大道芸：熟練"]
[null,null,null,null,null,null,null,null,null,null,null,null,null,null,null,null,null,null,null,null,null,null,null,null,null,null,null,null,null,null,"芸能：演劇：初歩",null,null,null,null,null,"芸能：演劇：初歩"]
[null,null,null,null,null,null,null,null,null,null,null,null,null,null,null,null,null,null,null,null,null,null,null,null,null,null,null,null,null,null,"芸能：演劇：習熟",null,null,null,null,null,"芸能：演劇：習熟"]
[null,null,null,null,null,null,null,null,null,null,null,null,null,null,null,null,null,null,null,null,null,null,null,null,null,null,null,null,null,null,"芸能：演劇：熟練",null,null,null,null,null,"芸能：演劇：熟練"]
[null,null,null,null,null,null,null,null,null,null,null,null,null,null,null,null,null,null,null,null,null,null,null,null,null,null,null,null,null,null,"工作：初歩",null,null,null,null,null,"工作：初歩"]
[null,null,null,null,null,null,null,null,null,null,null,null,null,null,null,null,null,null,null,null,null,null,null,null,null,null,null,null,null,null,"工作：習熟",null,null,null,null,null,"工作：習熟"]
[null,null,null,null,null,null,null,null,null,null,null,null,null,null,null,null,null,null,null,null,null,null,null,null,null,null,null,null,null,null,"工作：熟練",null,null,null,null,null,"工作：熟練"]
[null,null,null,null,null,null,null,null,null,null,null,null,null,null,null,null,null,null,null,null,null,null,null,null,null,null,null,null,null,null,"交渉：説得：初歩",null,null,null,null,null,"交渉：説得：初歩"]
[null,null,null,null,null,null,null,null,null,null,null,null,null,null,null,null,null,null,null,null,null,null,null,null,null,null,null,null,null,null,"交渉：説得：習熟",null,null,null,null,null,"交渉：説得：習熟"]
[null,null,null,null,null,null,null,null,null,null,null,null,null,null,null,null,null,null,null,null,null,null,null,null,null,null,null,null,null,null,"交渉：説得：熟練",null,null,null,null,null,"交渉：説得：熟練"]
[null,null,null,null,null,null,null,null,null,null,null,null,null,null,null,null,null,null,null,null,null,null,null,null,null,null,null,null,null,null,"交渉：誘惑：初歩",null,null,null,null,null,"交渉：誘惑：初歩"]
[null,null,null,null,null,null,null,null,null,null,null,null,null,null,null,null,null,null,null,null,null,null,null,null,null,null,null,null,null,null,"交渉：誘惑：習熟",null,null,null,null,null,"交渉：誘惑：習熟"]
[null,null,null,null,null,null,null,null,null,null,null,null,null,null,null,null,null,null,null,null,null,null,null,null,null,null,null,null,null,null,"交渉：誘惑：熟練",null,null,null,null,null,"交渉：誘惑：熟練"]
[null,null,null,null,null,null,null,null,null,null,null,null,null,null,null,null,null,null,null,null,null,null,null,null,null,null,null,null,null,null,"交渉：脅迫：初歩",null,null,null,null,null,"交渉：脅迫：初歩"]
[null,null,null,null,null,null,null,null,null,null,null,null,null,null,null,null,null,null,null,null,null,null,null,null,null,null,null,null,null,null,"交渉：脅迫：習熟",null,null,null,null,null,"交渉：脅迫：習熟"]
[null,null,null,null,null,null,null,null,null,null,null,null,null,null,null,null,null,null,null,null,null,null,null,null,null,null,null,null,null,null,"交渉：脅迫：熟練",null,null,null,null,null,"交渉：脅迫：熟練"]
[null,null,null,null,null,null,null,null,null,null,null,null,null,null,null,null,null,null,null,null,null,null,null,null,null,null,null,null,null,null,"交渉：言いくるめ：初歩",null,null,null,null,null,"交渉：言いくるめ：初歩"]
[null,null,null,null,null,null,null,null,null,null,null,null,null,null,null,null,null,null,null,null,null,null,null,null,null,null,null,null,null,null,"交渉：言いくるめ：習熟",null,null,null,null,null,"交渉：言いくるめ：習熟"]
[null,null,null,null,null,null,null,null,null,null,null,null,null,null,null,null,null,null,null,null,null,null,null,null,null,null,null,null,null,null,"交渉：言いくるめ：熟練",null,null,null,null,null,"交渉：言いくるめ：熟練"]
[null,null,null,null,null,null,null,null,null,null,null,null,null,null,null,null,null,null,null,null,null,null,null,null,null,null,null,null,null,null,"職人：鍛冶：初歩",null,null,null,null,null,"職人：鍛冶：初歩"]
[null,null,null,null,null,null,null,null,null,null,null,null,null,null,null,null,null,null,null,null,null,null,null,null,null,null,null,null,null,null,"職人：鍛冶：習熟",null,null,null,null,null,"職人：鍛冶：習熟"]
[null,null,null,null,null,null,null,null,null,null,null,null,null,null,null,null,null,null,null,null,null,null,null,null,null,null,null,null,null,null,"職人：鍛冶：熟練",null,null,null,null,null,"職人：鍛冶：熟練"]
[null,null,null,null,null,null,null,null,null,null,null,null,null,null,null,null,null,null,null,null,null,null,null,null,null,null,null,null,null,null,"職人：裁縫：初歩",null,null,null,null,null,"職人：裁縫：初歩"]
[null,null,null,null,null,null,null,null,null,null,null,null,null,null,null,null,null,null,null,null,null,null,null,null,null,null,null,null,null,null,"職人：裁縫：習熟",null,null,null,null,null,"職人：裁縫：習熟"]
[null,null,null,null,null,null,null,null,null,null,null,null,null,null,null,null,null,null,null,null,null,null,null,null,null,null,null,null,null,null,"職人：裁縫：熟練",null,null,null,null,null,"職人：裁縫：熟練"]
[null,null,null,null,null,null,null,null,null,null,null,null,null,null,null,null,null,null,null,null,null,null,null,null,null,null,null,null,null,null,"職人：木工：初歩",null,null,null,null,null,"職人：木工：初歩"]
[null,null,null,null,null,null,null,null,null,null,null,null,null,null,null,null,null,null,null,null,null,null,null,null,null,null,null,null,null,null,"職人：木工：習熟",null,null,null,null,null,"職人：木工：習熟"]
[null,null,null,null,null,null,null,null,null,null,null,null,null,null,null,null,null,null,null,null,null,null,null,null,null,null,null,null,null,null,"職人：木工：熟練",null,null,null,null,null,"職人：木工：熟練"]
[null,null,null,null,null,null,null,null,null,null,null,null,null,null,null,null,null,null,null,null,null,null,null,null,null,null,null,null,null,null,"職人：革細工：初歩",null,null,null,null,null,"職人：革細工：初歩"]
[null,null,null,null,null,null,null,null,null,null,null,null,null,null,null,null,null,null,null,null,null,null,null,null,null,null,null,null,null,null,"職人：革細工：習熟",null,null,null,null,null,"職人：革細工：習熟"]
[null,null,null,null,null,null,null,null,null,null,null,null,null,null,null,null,null,null,null,null,null,null,null,null,null,null,null,null,null,null,"職人：革細工：熟練",null,null,null,null,null,"職人：革細工：熟練"]
[null,null,null,null,null,null,null,null,null,null,null,null,null,null,null,null,null,null,null,null,null,null,null,null,null,null,null,null,null,null,"職人：彫金：初歩",null,null,null,null,null,"職人：彫金：初歩"]
[null,null,null,null,null,null,null,null,null,null,null,null,null,null,null,null,null,null,null,null,null,null,null,null,null,null,null,null,null,null,"職人：彫金：習熟",null,null,null,null,null,"職人：彫金：習熟"]
[null,null,null,null,null,null,null,null,null,null,null,null,null,null,null,null,null,null,null,null,null,null,null,null,null,null,null,null,null,null,"職人：彫金：熟練",null,null,null,null,null,"職人：彫金：熟練"]
[null,null,null,null,null,null,null,null,null,null,null,null,null,null,null,null,null,null,null,null,null,null,null,null,null,null,null,null,null,null,"神学：初歩",null,null,null,null,null,"神学：初歩"]
[null,null,null,null,null,null,null,null,null,null,null,null,null,null,null,null,null,null,null,null,null,null,null,null,null,null,null,null,null,null,"神学：習熟",null,null,null,null,null,"神学：習熟"]
[null,null,null,null,null,null,null,null,null,null,null,null,null,null,null,null,null,null,null,null,null,null,null,null,null,null,null,null,null,null,"神学：熟練",null,null,null,null,null,"神学：熟練"]
[null,null,null,null,null,null,null,null,null,null,null,null,null,null,null,null,null,null,null,null,null,null,null,null,null,null,null,null,null,null,"信仰心：至高神：初歩",null,null,null,null,null,"信仰心：至高神：初歩"]
[null,null,null,null,null,null,null,null,null,null,null,null,null,null,null,null,null,null,null,null,null,null,null,null,null,null,null,null,null,null,"信仰心：至高神：習熟",null,null,null,null,null,"信仰心：至高神：習熟"]
[null,null,null,null,null,null,null,null,null,null,null,null,null,null,null,null,null,null,null,null,null,null,null,null,null,null,null,null,null,null,"信仰心：至高神：熟練",null,null,null,null,null,"信仰心：至高神：熟練"]
[null,null,null,null,null,null,null,null,null,null,null,null,null,null,null,null,null,null,null,null,null,null,null,null,null,null,null,null,null,null,"信仰心：地母神：初歩",null,null,null,null,null,"信仰心：地母神：初歩"]
[null,null,null,null,null,null,null,null,null,null,null,null,null,null,null,null,null,null,null,null,null,null,null,null,null,null,null,null,null,null,"信仰心：地母神：習熟",null,null,null,null,null,"信仰心：地母神：習熟"]
[null,null,null,null,null,null,null,null,null,null,null,null,null,null,null,null,null,null,null,null,null,null,null,null,null,null,null,null,null,null,"信仰心：地母神：熟練",null,null,null,null,null,"信仰心：地母神：熟練"]
[null,null,null,null,null,null,null,null,null,null,null,null,null,null,null,null,null,null,null,null,null,null,null,null,null,null,null,null,null,null,"信仰心：交易神：初歩",null,null,null,null,null,"信仰心：交易神：初歩"]
[null,null,null,null,null,null,null,null,null,null,null,null,null,null,null,null,null,null,null,null,null,null,null,null,null,null,null,null,null,null,"信仰心：交易神：習熟",null,null,null,null,null,"信仰心：交易神：習熟"]
[null,null,null,null,null,null,null,null,null,null,null,null,null,null,null,null,null,null,null,null,null,null,null,null,null,null,null,null,null,null,"信仰心：交易神：熟練",null,null,null,null,null,"信仰心：交易神：熟練"]
[null,null,null,null,null,null,null,null,null,null,null,null,null,null,null,null,null,null,null,null,null,null,null,null,null,null,null,null,null,null,"信仰心：知識神：初歩",null,null,null,null,null,"信仰心：知識神：初歩"]
[null,null,null,null,null,null,null,null,null,null,null,null,null,null,null,null,null,null,null,null,null,null,null,null,null,null,null,null,null,null,"信仰心：知識神：習熟",null,null,null,null,null,"信仰心：知識神：習熟"]
[null,null,null,null,null,null,null,null,null,null,null,null,null,null,null,null,null,null,null,null,null,null,null,null,null,null,null,null,null,null,"信仰心：知識神：熟練",null,null,null,null,null,"信仰心：知識神：熟練"]
[null,null,null,null,null,null,null,null,null,null,null,null,null,null,null,null,null,null,null,null,null,null,null,null,null,null,null,null,null,null,"信仰心：戦女神：初歩",null,null,null,null,null,"信仰心：戦女神：初歩"]
[null,null,null,null,null,null,null,null,null,null,null,null,null,null,null,null,null,null,null,null,null,null,null,null,null,null,null,null,null,null,"信仰心：戦女神：習熟",null,null,null,null,null,"信仰心：戦女神：習熟"]
[null,null,null,null,null,null,null,null,null,null,null,null,null,null,null,null,null,null,null,null,null,null,null,null,null,null,null,null,null,null,"信仰心：戦女神：熟練",null,null,null,null,null,"信仰心：戦女神：熟練"]
[null,null,null,null,null,null,null,null,null,null,null,null,null,null,null,null,null,null,null,null,null,null,null,null,null,null,null,null,null,null,"信仰心：祖竜：初歩",null,null,null,null,null,"信仰心：祖竜：初歩"]
[null,null,null,null,null,null,null,null,null,null,null,null,null,null,null,null,null,null,null,null,null,null,null,null,null,null,null,null,null,null,"信仰心：祖竜：習熟",null,null,null,null,null,"信仰心：祖竜：習熟"]
[null,null,null,null,null,null,null,null,null,null,null,null,null,null,null,null,null,null,null,null,null,null,null,null,null,null,null,null,null,null,"信仰心：祖竜：熟練",null,null,null,null,null,"信仰心：祖竜：熟練"]
[null,null,null,null,null,null,null,null,null,null,null,null,null,null,null,null,null,null,null,null,null,null,null,null,null,null,null,null,null,null,"生産業：農業：初歩",null,null,null,null,null,"生産業：農業：初歩"]
[null,null,null,null,null,null,null,null,null,null,null,null,null,null,null,null,null,null,null,null,null,null,null,null,null,null,null,null,null,null,"生産業：農業：習熟",null,null,null,null,null,"生産業：農業：習熟"]
[null,null,null,null,null,null,null,null,null,null,null,null,null,null,null,null,null,null,null,null,null,null,null,null,null,null,null,null,null,null,"生産業：農業：熟練",null,null,null,null,null,"生産業：農業：熟練"]
[null,null,null,null,null,null,null,null,null,null,null,null,null,null,null,null,null,null,null,null,null,null,null,null,null,null,null,null,null,null,"生産業：漁業：初歩",null,null,null,null,null,"生産業：漁業：初歩"]
[null,null,null,null,null,null,null,null,null,null,null,null,null,null,null,null,null,null,null,null,null,null,null,null,null,null,null,null,null,null,"生産業：漁業：習熟",null,null,null,null,null,"生産業：漁業：習熟"]
[null,null,null,null,null,null,null,null,null,null,null,null,null,null,null,null,null,null,null,null,null,null,null,null,null,null,null,null,null,null,"生産業：漁業：熟練",null,null,null,null,null,"生産業：漁業：熟練"]
[null,null,null,null,null,null,null,null,null,null,null,null,null,null,null,null,null,null,null,null,null,null,null,null,null,null,null,null,null,null,"生産業：林業：初歩",null,null,null,null,null,"生産業：林業：初歩"]
[null,null,null,null,null,null,null,null,null,null,null,null,null,null,null,null,null,null,null,null,null,null,null,null,null,null,null,null,null,null,"生産業：林業：習熟",null,null,null,null,null,"生産業：林業：習熟"]
[null,null,null,null,null,null,null,null,null,null,null,null,null,null,null,null,null,null,null,null,null,null,null,null,null,null,null,null,null,null,"生産業：林業：熟練",null,null,null,null,null,"生産業：林業：熟練"]
[null,null,null,null,null,null,null,null,null,null,null,null,null,null,null,null,null,null,null,null,null,null,null,null,null,null,null,null,null,null,"生産業：採掘：初歩",null,null,null,null,null,"生産業：採掘：初歩"]
[null,null,null,null,null,null,null,null,null,null,null,null,null,null,null,null,null,null,null,null,null,null,null,null,null,null,null,null,null,null,"生産業：採掘：習熟",null,null,null,null,null,"生産業：採掘：習熟"]
[null,null,null,null,null,null,null,null,null,null,null,null,null,null,null,null,null,null,null,null,null,null,null,null,null,null,null,null,null,null,"生産業：採掘：熟練",null,null,null,null,null,"生産業：採掘：熟練"]
[null,null,null,null,null,null,null,null,null,null,null,null,null,null,null,null,null,null,null,null,null,null,null,null,null,null,null,null,null,null,"生存術：初歩",null,null,null,null,null,"生存術：初歩"]
[null,null,null,null,null,null,null,null,null,null,null,null,null,null,null,null,null,null,null,null,null,null,null,null,null,null,null,null,null,null,"生存術：習熟",null,null,null,null,null,"生存術：習熟"]
[null,null,null,null,null,null,null,null,null,null,null,null,null,null,null,null,null,null,null,null,null,null,null,null,null,null,null,null,null,null,"生存術：熟練",null,null,null,null,null,"生存術：熟練"]
[null,null,null,null,null,null,null,null,null,null,null,null,null,null,null,null,null,null,null,null,null,null,null,null,null,null,null,null,null,null,"精霊の愛し子：初歩",null,null,null,null,null,"精霊の愛し子：初歩"]
[null,null,null,null,null,null,null,null,null,null,null,null,null,null,null,null,null,null,null,null,null,null,null,null,null,null,null,null,null,null,"精霊の愛し子：習熟",null,null,null,null,null,"精霊の愛し子：習熟"]
[null,null,null,null,null,null,null,null,null,null,null,null,null,null,null,null,null,null,null,null,null,null,null,null,null,null,null,null,null,null,"精霊の愛し子：熟練",null,null,null,null,null,"精霊の愛し子：熟練"]
[null,null,null,null,null,null,null,null,null,null,null,null,null,null,null,null,null,null,null,null,null,null,null,null,null,null,null,null,null,null,"先入観なし：初歩",null,null,null,null,null,"先入観なし：初歩"]
[null,null,null,null,null,null,null,null,null,null,null,null,null,null,null,null,null,null,null,null,null,null,null,null,null,null,null,null,null,null,"先入観なし：習熟",null,null,null,null,null,"先入観なし：習熟"]
[null,null,null,null,null,null,null,null,null,null,null,null,null,null,null,null,null,null,null,null,null,null,null,null,null,null,null,null,null,null,"先入観なし：熟練",null,null,null,null,null,"先入観なし：熟練"]
[null,null,null,null,null,null,null,null,null,null,null,null,null,null,null,null,null,null,null,null,null,null,null,null,null,null,null,null,null,null,"長距離移動：初歩",null,null,null,null,null,"長距離移動：初歩"]
[null,null,null,null,null,null,null,null,null,null,null,null,null,null,null,null,null,null,null,null,null,null,null,null,null,null,null,null,null,null,"長距離移動：習熟",null,null,null,null,null,"長距離移動：習熟"]
[null,null,null,null,null,null,null,null,null,null,null,null,null,null,null,null,null,null,null,null,null,null,null,null,null,null,null,null,null,null,"長距離移動：熟練",null,null,null,null,null,"長距離移動：熟練"]
[null,null,null,null,null,null,null,null,null,null,null,null,null,null,null,null,null,null,null,null,null,null,null,null,null,null,null,null,null,null,"調理：初歩",null,null,null,null,null,"調理：初歩"]
[null,null,null,null,null,null,null,null,null,null,null,null,null,null,null,null,null,null,null,null,null,null,null,null,null,null,null,null,null,null,"調理：習熟",null,null,null,null,null,"調理：習熟"]
[null,null,null,null,null,null,null,null,null,null,null,null,null,null,null,null,null,null,null,null,null,null,null,null,null,null,null,null,null,null,"調理：熟練",null,null,null,null,null,"調理：熟練"]
[null,null,null,null,null,null,null,null,null,null,null,null,null,null,null,null,null,null,null,null,null,null,null,null,null,null,null,null,null,null,"沈着冷静：初歩",null,null,null,null,null,"沈着冷静：初歩"]
[null,null,null,null,null,null,null,null,null,null,null,null,null,null,null,null,null,null,null,null,null,null,null,null,null,null,null,null,null,null,"沈着冷静：習熟",null,null,null,null,null,"沈着冷静：習熟"]
[null,null,null,null,null,null,null,null,null,null,null,null,null,null,null,null,null,null,null,null,null,null,null,null,null,null,null,null,null,null,"沈着冷静：熟練",null,null,null,null,null,"沈着冷静：熟練"]
[null,null,null,null,null,null,null,null,null,null,null,null,null,null,null,null,null,null,null,null,null,null,null,null,null,null,null,null,null,null,"統率：初歩",null,null,null,null,null,"統率：初歩"]
[null,null,null,null,null,null,null,null,null,null,null,null,null,null,null,null,null,null,null,null,null,null,null,null,null,null,null,null,null,null,"統率：習熟",null,null,null,null,null,"統率：習熟"]
[null,null,null,null,null,null,null,null,null,null,null,null,null,null,null,null,null,null,null,null,null,null,null,null,null,null,null,null,null,null,"統率：熟練",null,null,null,null,null,"統率：熟練"]
[null,null,null,null,null,null,null,null,null,null,null,null,null,null,null,null,null,null,null,null,null,null,null,null,null,null,null,null,null,null,"博識：初歩",null,null,null,null,null,"博識：初歩"]
[null,null,null,null,null,null,null,null,null,null,null,null,null,null,null,null,null,null,null,null,null,null,null,null,null,null,null,null,null,null,"博識：習熟",null,null,null,null,null,"博識：習熟"]
[null,null,null,null,null,null,null,null,null,null,null,null,null,null,null,null,null,null,null,null,null,null,null,null,null,null,null,null,null,null,"博識：熟練",null,null,null,null,null,"博識：熟練"]
[null,null,null,null,null,null,null,null,null,null,null,null,null,null,null,null,null,null,null,null,null,null,null,null,null,null,null,null,null,null,"犯罪知識：初歩",null,null,null,null,null,"犯罪知識：初歩"]
[null,null,null,null,null,null,null,null,null,null,null,null,null,null,null,null,null,null,null,null,null,null,null,null,null,null,null,null,null,null,"犯罪知識：習熟",null,null,null,null,null,"犯罪知識：習熟"]
[null,null,null,null,null,null,null,null,null,null,null,null,null,null,null,null,null,null,null,null,null,null,null,null,null,null,null,null,null,null,"犯罪知識：熟練",null,null,null,null,null,"犯罪知識：熟練"]
[null,null,null,null,null,null,null,null,null,null,null,null,null,null,null,null,null,null,null,null,null,null,null,null,null,null,null,null,null,null,"文献調査：初歩",null,null,null,null,null,"文献調査：初歩"]
[null,null,null,null,null,null,null,null,null,null,null,null,null,null,null,null,null,null,null,null,null,null,null,null,null,null,null,null,null,null,"文献調査：習熟",null,null,null,null,null,"文献調査：習熟"]
[null,null,null,null,null,null,null,null,null,null,null,null,null,null,null,null,null,null,null,null,null,null,null,null,null,null,null,null,null,null,"文献調査：熟練",null,null,null,null,null,"文献調査：熟練"]
[null,null,null,null,null,null,null,null,null,null,null,null,null,null,null,null,null,null,null,null,null,null,null,null,null,null,null,null,null,null,"瞑想：初歩",null,null,null,null,null,"瞑想：初歩"]
[null,null,null,null,null,null,null,null,null,null,null,null,null,null,null,null,null,null,null,null,null,null,null,null,null,null,null,null,null,null,"瞑想：習熟",null,null,null,null,null,"瞑想：習熟"]
[null,null,null,null,null,null,null,null,null,null,null,null,null,null,null,null,null,null,null,null,null,null,null,null,null,null,null,null,null,null,"瞑想：熟練",null,null,null,null,null,"瞑想：熟練"]
[null,null,null,null,null,null,null,null,null,null,null,null,null,null,null,null,null,null,null,null,null,null,null,null,null,null,null,null,null,null,"竜の末裔：初歩",null,null,null,null,null,"竜の末裔：初歩"]
[null,null,null,null,null,null,null,null,null,null,null,null,null,null,null,null,null,null,null,null,null,null,null,null,null,null,null,null,null,null,"竜の末裔：習熟",null,null,null,null,null,"竜の末裔：習熟"]
[null,null,null,null,null,null,null,null,null,null,null,null,null,null,null,null,null,null,null,null,null,null,null,null,null,null,null,null,null,null,"竜の末裔：熟練",null,null,null,null,null,"竜の末裔：熟練"]
[null,null,null,null,null,null,null,null,null,null,null,null,null,null,null,null,null,null,null,null,null,null,null,null,null,null,null,null,null,null,"礼儀作法：初歩",null,null,null,null,null,"礼儀作法：初歩"]
[null,null,null,null,null,null,null,null,null,null,null,null,null,null,null,null,null,null,null,null,null,null,null,null,null,null,null,null,null,null,"礼儀作法：習熟",null,null,null,null,null,"礼儀作法：習熟"]
[null,null,null,null,null,null,null,null,null,null,null,null,null,null,null,null,null,null,null,null,null,null,null,null,null,null,null,null,null,null,"礼儀作法：熟練",null,null,null,null,null,"礼儀作法：熟練"]
[null,null,null,null,null,null,null,null,null,null,null,null,null,null,null,null,null,null,null,null,null,null,null,null,null,null,null,null,null,null,"労働：初歩",null,null,null,null,null,"労働：初歩"]
[null,null,null,null,null,null,null,null,null,null,null,null,null,null,null,null,null,null,null,null,null,null,null,null,null,null,null,null,null,null,"労働：習熟",null,null,null,null,null,"労働：習熟"]
[null,null,null,null,null,null,null,null,null,null,null,null,null,null,null,null,null,null,null,null,null,null,null,null,null,null,null,null,null,null,"労働：熟練",null,null,null,null,null,"労働：熟練"]

{"sheet":"固定値","index":19,"n_rows":304,"n_cols":145,"rows_kept":304,"cut":false,"hidden":false,"merged":[]}
["状態タイプ","固定値",null,"能力値タイプ","只人","鉱人","森人","蜥蜴人","圃人",null,"種族","引数",null,"状態タイプ","引数",null,"呪文使用回数基本値","呪文使用回数",null,"冒険者等級","冒険者レベル","達成数",null,"冒険者レベル","習熟段階引数",null,"習熟段階引数","習熟段階",null,"習熟段階","習熟段階引数",null,"冒険者技能習得段階","累積成長点","ボーナスあり累積成長点",null,"一般技能習得段階","累積成長点","ボーナスあり累積成長点",null,null,"累積経験点","冒険者レベル","累積獲得成長点",null,"初期冒険者レベル","初期経験点","初期成長点","初期所持金","初期冒険回数","初期達成回数",null,"頑健","生命力ボーナス","説明",null,"魔法の才","呪文使用回数","修正","修正2","職業レベル","累積経験値","ボーナスあり累積成長点",null,"呪文","種別","属性","副属性","難易度","参照項",null,"冒険アイテム","移動修正","追加装甲","体力抵抗判定","真言呪文行使判定修正","奇跡行使判定修正","祖竜術行使判定修正","精霊術行使判定修正","値段",null,null,"冒険者になった動機表",null,null,null,"識別子","出自表示","種族","出目","出自","職業","冒険者技能","一般技能",null,"来歴表示","出目","来歴","技能など",null,"邂逅表示","出目","邂逅","継戦カウンタ","継戦カウンターによる消耗",null,null,"生得技能(1)","生得技能(2)","生得技能(3)",null,"戦闘消耗品","スタック数",null,"冒険者職業絞り込みなし","冒険者職業絞り込みなし","戦士","武道家","野伏","斥候","魔術師","神官","竜司祭","精霊使い",null,"隠密性","隠密修正","重量","水泳修正","登攀修正","跳躍修正","遣い手","大成功","効果","長距離移動","移動力ボーナス","騎乗","移動力","見切り","大成功","大失敗","魔法レベル","修正値","価格倍率","価格加算値"]
["状態／2D6(1回目)",5,null,"体力点",3,4,1,4,1,null,"只人",2,null,"固定値",4,null,2,0,null,"白磁等級",1,0,null,1,1,null,0,"－－－",null,"－－－",0,null,"－－－",0,0,null,"－－－",0,0,null,null,0,1,10,null,1,3000,0,100,0,0,null,"－－－",0,{"$f":"\"生命力に+\"&BB2&\"のボーナスを得ます\"","v":"生命力に+0のボーナスを得ます"},null,"－－－",0,0,0,0,0,0,null,"分身","真言呪文","創造呪文","生命",20,297,null,"なし",0,0,0,0,0,0,0,0,null,{"$f":"CF2&\"-\"&CG2","v":"1,2-1"},"仇敵に復讐するため","1,2",1,null,{"$f":"CK2&\"-\"&CL2","v":"只人-2"},{"$f":"CK2&\"-\"&CL2&\"：\"&CM2","v":"只人-2：冒険者"},"只人",2,"冒険者",null,null,null,null,{"$f":"CS2&\"：\"&CT2","v":"2：奴隷"},2,"奴隷",null,null,{"$f":"CX2&\"：\"&CY2","v":"2：宿敵"},2,"宿敵",0,0,null,"只人","荷重行動：初歩","武器：投擲武器：初歩","長距離移動：初歩",null,"石弾",10,null,"戦士","なし","なし","なし","なし","なし","なし","なし","なし","なし",1,"良い",0,{"$f":"\"-\"","v":"-"},0,0,0,"－－－",12,0,"－－－",0,"なし",0,"－－－",12,2,"なし",0,1,0]
["状態／2D6(2回目)",7,null,"魂魄点",2,2,3,3,4,null,"鉱人",3,null,"ランダム",2,null,3,0,null,"黒曜等級",2,2,null,2,2,null,1,"初歩",null,"初歩",1,null,"初歩",5,0,null,"初歩",1,0,null,null,4000,2,25,null,3,8000,12,200,4,4,null,"初歩",5,"生命力に+5のボーナスを得ます",null,"初歩",1,1,1,1,1000,0,null,"解錠","真言呪文","汎用呪文","物質",10,297,null,"冒険者ツール(鈎縄10m、楔10個、小槌、火口箱、背負い袋、携帯用食器、水袋、白墨、小刀、松明(6本))",0,0,0,0,0,0,0,30,null,{"$f":"CF3&\"-\"&CG3","v":"1,2-2"},"借金を返済するため","1,2",2,null,{"$f":"CK3&\"-\"&CL3","v":"只人-3"},{"$f":"CK3&\"-\"&CL3&\"：\"&CM3","v":"只人-3：無頼"},"只人",3,"無頼",null,null,null,null,{"$f":"CS3&\"：\"&CT3","v":"3：牢獄"},3,"牢獄",null,null,{"$f":"CX3&\"：\"&CY3","v":"3：上司"},3,"上司",1,0,null,"鉱人","治癒適正：初歩","暗視：初歩","工作：初歩",null,"矢",10,null,"武道家","戦士：1",{"$f":"DM$1&\"：\"&$DU3","v":"戦士：1"},{"$f":"DN$1&\"：\"&$DU3","v":"武道家：1"},"野伏：1","斥候：1","魔術師：1","神官：1","竜司祭：1","精霊使い：1",1,"普通(-4)",-4,"軽",-4,0,0,"初歩",11,0,"初歩",0,"軍馬",45,"初歩",11,5,"＋１",1,5,100]
["状態／2D6(3回目)",9,null,"技量点",2,4,3,2,3,null,"森人",4,null,null,null,null,4,0,null,"鋼鉄等級",3,3,null,3,2,null,2,"習熟",null,"習熟",2,null,"習熟",15,10,null,"習熟",6,5,null,null,7000,3,40,null,4,11000,21,300,7,6,null,"習熟",10,"生命力に+10のボーナスを得ます",null,"習熟",2,2,2,2,2000,1000,null,"贋金","真言呪文","創造呪文","精神",15,298,null,"携帯食",0,0,0,0,0,0,0,2,null,"1,2-3","身近な人を追って","1,2",3,null,"只人-4","只人-4：猟師","只人",4,"猟師",null,null,null,null,"4：戦場",4,"戦場",null,null,"4：後輩",4,"後輩",2,0,null,"森人","武器：弩弓：初歩","暗視：初歩","精霊の愛し子：初歩",null,"太矢",10,null,"野伏","戦士：2",{"$f":"DM$1&\"：\"&$DU4","v":"戦士：2"},"武道家：2","野伏：2","斥候：2","魔術師：2","神官：2","竜司祭：2","精霊使い：2",{"$f":"DU3+1","v":2},"悪い(-8)",-8,"重",-12,-4,-4,"習熟",11,1,"習熟",2,"乗用馬",30,"習熟",11,4,"＋２",2,10,1000]
[null,null,null,"知力点",3,1,3,2,2,null,"蜥蜴人",5,null,null,null,null,5,0,null,"青玉等級",4,4,null,4,3,null,3,"熟練",null,"熟練",3,null,"熟練",30,25,null,"熟練",21,20,null,null,11000,4,60,null,5,16500,36,600,12,10,null,"熟練",15,"生命力に+15のボーナスを得ます",null,"熟練",3,4,3,3,3500,2500,null,"通訳","真言呪文","汎用呪文","精神",10,298,null,"携帯食：3",0,0,0,0,0,0,0,5,null,"1,2-4","啓示を受けて","1,2",4,null,"只人-5","只人-5：学者","只人",5,"学者",null,null,null,null,"5：神殿",5,"神殿",null,null,"5：取引相手",5,"取引相手",3,0,null,"蜥蜴人","免疫強化：初歩","暗視：初歩","竜の末裔：初歩",null,"投矢",5,null,"斥候","戦士：3","戦士：3","武道家：3","野伏：3","斥候：3","魔術師：3","神官：3","竜司祭：3","精霊使い：3",{"$f":"DU4+1","v":3},null,null,null,null,null,null,"熟練",10,2,"熟練",4,"ロバ",15,"熟練",10,4,"＋３",3,30,10000]
[null,null,null,"集中度",2,3,2,3,1,null,"圃人",6,null,null,null,null,6,0,null,"翠玉等級",5,11,null,5,3,null,4,"達人",null,"達人",4,null,"達人",55,50,null,null,null,null,null,null,16000,5,80,null,6,23500,54,1500,18,15,null,"達人",20,"生命力に+20のボーナスを得ます",null,"達人",4,null,null,4,5500,4500,null,"天候","真言呪文","支配呪文","水、風",15,299,null,"携帯食：21",0,0,0,0,0,0,0,35,null,"1,2-5","人を探して","1,2",5,null,"只人-6","只人-6：職人","只人",6,"職人",null,null,null,null,"6：孤児",6,"孤児",null,null,"6：部下",6,"部下",4,0,null,"圃人","隠密：初歩","機先：初歩","調理：初歩",null,"弾丸",10,null,"魔術師","戦士：4","戦士：4","武道家：4","野伏：4","斥候：4","魔術師：4","神官：4","竜司祭：4","精霊使い：4",{"$f":"DU5+1","v":4},null,null,null,null,null,null,"達人",10,3,null,null,"馬車",15,"達人",10,3,"＋４",4,100,100000]
[null,null,null,"持久度",4,3,1,2,2,null,null,null,null,null,null,null,7,1,null,"紅玉等級",5,16,null,6,4,null,5,"伝説",null,"伝説",5,null,"伝説",95,90,null,null,null,null,null,null,23000,6,105,null,7,33000,81,3900,27,22,null,"伝説",30,"生命力に+30のボーナスを得ます",null,"伝説",5,null,null,5,8000,7000,null,"脱出","真言呪文","汎用呪文","時間","--",299,null,"衣類",0,0,0,0,0,0,0,15,null,"1,2-6","使命を果たすため","1,2",6,null,"只人-7","只人-7：農民","只人",7,"農民",null,null,null,null,"7：平穏",7,"平穏",null,null,"7：家族",7,"家族",5,1,null,null,null,null,null,null,"火の秘薬",10,null,"神官","戦士：5","戦士：5","武道家：5","野伏：5","斥候：5","魔術師：5","神官：5","竜司祭：5","精霊使い：5",{"$f":"DU6+1","v":5},null,null,null,null,null,null,"伝説",9,4,null,null,null,null,"伝説",9,3]
[null,null,null,"反射度",2,1,3,2,4,null,null,null,null,null,null,null,8,1,null,"銅等級",6,22,null,7,4,null,null,null,null,null,null,null,null,null,null,null,null,null,null,null,null,33000,7,130,null,8,47000,120,7800,40,32,null,null,null,null,null,null,null,null,null,6,11500,10500,null,"力与","真言呪文","付与呪文","なし",10,300,null,"鍵開け道具",0,0,0,0,0,0,0,25,null,"3,4-1","身の潔白を証明するため","3,4",1,null,"只人-8","只人-8：商人","只人",8,"商人",null,null,null,null,"8：貧困",8,"貧困",null,null,"8：親友",8,"親友",6,1,null,null,null,null,null,null,"石弾（店石）",10,null,"竜司祭","戦士：6","戦士：6","武道家：6","野伏：6","斥候：6","魔術師：6","神官：6","竜司祭：6","精霊使い：6",6]
[null,null,null,"移動力種族倍率",3,2,4,2,3,null,null,null,null,null,null,null,9,1,null,"銀等級",6,29,null,8,4,null,null,null,null,null,null,null,null,null,null,null,null,null,null,null,null,47000,8,160,null,9,66000,171,15250,57,46,null,null,null,null,null,null,null,null,null,7,16500,15500,null,"火与","真言呪文","付与呪文","火",10,300,null,"化粧道具",0,0,0,0,0,0,0,25,null,"3,4-2","故郷を失ったため","3,4",2,null,"只人-9","只人-9：兵士","只人",9,"兵士",null,null,null,null,"9：学校",9,"学校",null,null,"9：先輩",9,"先輩",7,1,null,null,null,null,null,null,null,null,null,"精霊使い","戦士：7","戦士：7","武道家：7","野伏：7","斥候：7","魔術師：7","神官：7","竜司祭：7","精霊使い：7",7]
[null,null,null,null,null,null,null,null,null,null,null,null,null,null,null,null,10,2,null,"金等級",7,37,null,9,5,null,null,null,null,null,null,null,null,null,null,null,null,null,null,null,null,66000,9,190,null,10,91000,250,30000,80,64,null,null,null,null,null,null,null,null,null,8,23500,22500,null,"抗魔","真言呪文","付与呪文","なし",10,301,null,"調理道具",0,0,0,0,0,0,0,5,null,"3,4-3","未知なるものを求めて","3,4",3,null,"只人-10","只人-10：騎士","只人",10,"騎士",null,null,null,null,"10：箱入り",10,"箱入り",null,null,"10：婚約者",10,"婚約者",8,2,null,null,null,null,null,null,null,null,null,null,"戦士：8","戦士：8","武道家：8","野伏：8","斥候：8","魔術師：8","神官：8","竜司祭：8","精霊使い：8",8]
[null,null,null,null,null,null,null,null,null,null,null,null,null,null,null,null,11,2,null,null,null,null,null,10,5,null,null,null,null,null,null,null,null,null,null,null,null,null,null,null,null,91000,10,225,null,null,null,null,null,null,null,null,null,null,null,null,null,null,null,null,9,33000,32000,null,"魅了","真言呪文","支配呪文","精神",10,301,null,"手当道具",0,0,0,0,0,0,0,2,null,"3,4-4","腕試しのため","3,4",4,null,"只人-11","只人-11：神官","只人",11,"神官",null,null,null,null,"11：贅沢",11,"贅沢",null,null,"11：好敵手",11,"好敵手",9,2,null,null,null,null,null,null,null,null,null,null,"戦士：9","戦士：9","武道家：9","野伏：9","斥候：9","魔術師：9","神官：9","竜司祭：9","精霊使い：9",9]
[null,null,null,null,null,null,null,null,null,null,null,null,null,null,null,null,12,3,null,null,null,null,null,null,null,null,null,null,null,null,null,null,null,null,null,null,null,null,null,null,null,null,null,null,null,null,null,null,null,null,null,null,null,null,null,null,null,null,null,null,10,45500,44500,null,"破裂","真言呪文","付与呪文","なし",5,302,null,"手当道具：5",0,0,0,0,0,0,0,10,null,"3,4-5","実力を証明するため","3,4",5,null,"只人-12","只人-12：貴族","只人",12,"貴族",null,null,null,null,"12：宮廷",12,"宮廷",null,null,"12：師匠",12,"師匠",10,2,null,null,null,null,null,null,null,null,null,null,"戦士：10","戦士：10","武道家：10","野伏：10","斥候：10","魔術師：10","神官：10","竜司祭：10","精霊使い：10",10]
[null,null,null,null,null,null,null,null,null,null,null,null,null,null,null,null,null,null,null,null,null,null,null,null,null,null,null,null,null,null,null,null,null,null,null,null,null,null,null,null,null,null,null,null,null,null,null,null,null,null,null,null,null,null,null,null,null,null,null,null,null,null,null,null,"流砂","真言呪文","支配呪文","土",10,303,null,"罠師道具",0,0,0,0,0,0,0,4,null,"3,4-6","家門を再興するため","3,4",6,null,"鉱人-2","鉱人-2：冒険者","鉱人",2,"冒険者",null,null,null,null,null,null,null,null,null,null,null,null,11,3,null,null,null,null,null,null,null,null,null,null,"武道家：1"]
[null,null,null,null,null,null,null,null,null,null,null,null,null,null,null,null,null,null,null,null,null,null,null,null,null,null,null,null,null,null,null,null,null,null,null,null,null,null,null,null,null,null,null,null,null,null,null,null,null,null,null,null,null,null,null,null,null,null,null,null,null,null,null,null,"無手","真言呪文","支配呪文","生命",10,303,null,"罠師道具：5",0,0,0,0,0,0,0,20,null,"5,6-1","英雄に憧れて","5,6",1,null,"鉱人-3","鉱人-3：無頼","鉱人",3,"無頼",null,null,null,null,null,null,null,null,null,null,null,null,12,3,null,null,null,null,null,null,null,null,null,null,"武道家：2"]
[null,null,null,null,null,null,null,null,null,null,null,null,null,null,null,null,null,null,null,null,null,null,null,null,null,null,null,null,null,null,null,null,null,null,null,null,null,null,null,null,null,null,null,null,null,null,null,null,null,null,null,null,null,null,null,null,null,null,null,null,null,null,null,null,"小鬼","真言呪文","創造呪文","生命",10,304,null,"職人道具：鍛冶",0,0,0,0,0,0,0,20,null,"5,6-2","昔からの憧れで","5,6",2,null,"鉱人-4","鉱人-4：猟師","鉱人",4,"猟師",null,null,null,null,null,null,null,null,null,null,null,null,13,4,null,null,null,null,null,null,null,null,null,null,"武道家：3"]
[null,null,null,null,null,null,null,null,null,null,null,null,null,null,null,null,null,null,null,null,null,null,null,null,null,null,null,null,null,null,null,null,null,null,null,null,null,null,null,null,null,null,null,null,null,null,null,null,null,null,null,null,null,null,null,null,null,null,null,null,null,null,null,null,"巨人","真言呪文","創造呪文","生命",20,305,null,"職人道具：裁縫",0,0,0,0,0,0,0,20,null,"5,6-3","運命の恋人に出会うため","5,6",3,null,"鉱人-5","鉱人-5：商人","鉱人",5,"商人",null,null,null,null,null,null,null,null,null,null,null,null,14,4,null,null,null,null,null,null,null,null,null,null,"武道家：4"]
[null,null,null,null,null,null,null,null,null,null,null,null,null,null,null,null,null,null,null,null,null,null,null,null,null,null,null,null,null,null,null,null,null,null,null,null,null,null,null,null,null,null,null,null,null,null,null,null,null,null,null,null,null,null,null,null,null,null,null,null,null,null,null,null,"水薬","真言呪文","創造呪文","生命",10,306,null,"職人道具：木工",0,0,0,0,0,0,0,20,null,"5,6-4","放浪癖があったので","5,6",4,null,"鉱人-6","鉱人-6：亭主","鉱人",6,"亭主",null,null,null,null,null,null,null,null,null,null,null,null,15,5,null,null,null,null,null,null,null,null,null,null,"武道家：5"]
[null,null,null,null,null,null,null,null,null,null,null,null,null,null,null,null,null,null,null,null,null,null,null,null,null,null,null,null,null,null,null,null,null,null,null,null,null,null,null,null,null,null,null,null,null,null,null,null,null,null,null,null,null,null,null,null,null,null,null,null,null,null,null,null,"支配","真言呪文","支配呪文","精神",10,306,null,"職人道具：革細工",0,0,0,0,0,0,0,20,null,"5,6-5","一攫千金を求めて","5,6",5,null,"鉱人-7","鉱人-7：鍛冶師","鉱人",7,"鍛冶師",null,null,null,null,null,null,null,null,null,null,null,null,16,6,null,null,null,null,null,null,null,null,null,null,"武道家：6"]
[null,null,null,null,null,null,null,null,null,null,null,null,null,null,null,null,null,null,null,null,null,null,null,null,null,null,null,null,null,null,null,null,null,null,null,null,null,null,null,null,null,null,null,null,null,null,null,null,null,null,null,null,null,null,null,null,null,null,null,null,null,null,null,null,"混乱","真言呪文","支配呪文","精神",10,307,null,"職人道具：彫金",0,0,0,0,0,0,0,20,null,"5,6-6","新たな道として","5,6",6,null,"鉱人-8","鉱人-8：職人","鉱人",8,"職人",null,null,null,null,null,null,null,null,null,null,null,null,17,7,null,null,null,null,null,null,null,null,null,null,"武道家：7"]
[null,null,null,null,null,null,null,null,null,null,null,null,null,null,null,null,null,null,null,null,null,null,null,null,null,null,null,null,null,null,null,null,null,null,null,null,null,null,null,null,null,null,null,null,null,null,null,null,null,null,null,null,null,null,null,null,null,null,null,null,null,null,null,null,"石壁","真言呪文","創造呪文","土",15,307,null,"真言呪文の発動体（＋１）",0,0,0,1,0,0,0,50,null,null,null,null,null,null,"鉱人-9","鉱人-9：兵士","鉱人",9,"兵士",null,null,null,null,null,null,null,null,null,null,null,null,18,8,null,null,null,null,null,null,null,null,null,null,"武道家：8"]
[null,null,null,null,null,null,null,null,null,null,null,null,null,null,null,null,null,null,null,null,null,null,null,null,null,null,null,null,null,null,null,null,null,null,null,null,null,null,null,null,null,null,null,null,null,null,null,null,null,null,null,null,null,null,null,null,null,null,null,null,null,null,null,null,"剛力","真言呪文","付与呪文","生命",10,308,null,"真言呪文の発動体（＋２）",0,0,0,2,0,0,0,500,null,null,null,null,null,null,"鉱人-10","鉱人-10：盾砕き","鉱人",10,"盾砕き",null,null,null,null,null,null,null,null,null,null,null,null,19,9,null,null,null,null,null,null,null,null,null,null,"武道家：9"]
[null,null,null,null,null,null,null,null,null,null,null,null,null,null,null,null,null,null,null,null,null,null,null,null,null,null,null,null,null,null,null,null,null,null,null,null,null,null,null,null,null,null,null,null,null,null,null,null,null,null,null,null,null,null,null,null,null,null,null,null,null,null,null,null,"粘糸","真言呪文","創造呪文","物質",10,308,null,"真言呪文の発動体（＋３）",0,0,0,3,0,0,0,5000,null,null,null,null,null,null,"鉱人-11","鉱人-11：神官","鉱人",11,"神官",null,null,null,null,null,null,null,null,null,null,null,null,20,10,null,null,null,null,null,null,null,null,null,null,"武道家：10"]
[null,null,null,null,null,null,null,null,null,null,null,null,null,null,null,null,null,null,null,null,null,null,null,null,null,null,null,null,null,null,null,null,null,null,null,null,null,null,null,null,null,null,null,null,null,null,null,null,null,null,null,null,null,null,null,null,null,null,null,null,null,null,null,null,"惰眠","真言呪文","支配呪文","精神",10,309,null,"竜骨の御守（＋１）",0,0,0,0,0,1,0,50,null,null,null,null,null,null,"鉱人-12","鉱人-12：貴族","鉱人",12,"貴族",null,null,null,null,null,null,null,null,null,null,null,null,21,11,null,null,null,null,null,null,null,null,null,null,"野伏：1"]
[null,null,null,null,null,null,null,null,null,null,null,null,null,null,null,null,null,null,null,null,null,null,null,null,null,null,null,null,null,null,null,null,null,null,null,null,null,null,null,null,null,null,null,null,null,null,null,null,null,null,null,null,null,null,null,null,null,null,null,null,null,null,null,null,"停滞","真言呪文","支配呪文","生命",15,309,null,"竜骨の御守（＋２）",0,0,0,0,0,2,0,500,null,null,null,null,null,null,"森人-2","森人-2：冒険者","森人",2,"冒険者",null,null,null,null,null,null,null,null,null,null,null,null,22,12,null,null,null,null,null,null,null,null,null,null,"野伏：2"]
[null,null,null,null,null,null,null,null,null,null,null,null,null,null,null,null,null,null,null,null,null,null,null,null,null,null,null,null,null,null,null,null,null,null,null,null,null,null,null,null,null,null,null,null,null,null,null,null,null,null,null,null,null,null,null,null,null,null,null,null,null,null,null,null,"落下","真言呪文","汎用呪文","空間",10,310,null,"聖印",0,0,0,0,1,0,0,50,null,null,null,null,null,null,"森人-3","森人-3：無頼","森人",3,"無頼",null,null,null,null,null,null,null,null,null,null,null,null,23,13,null,null,null,null,null,null,null,null,null,null,"野伏：3"]
[null,null,null,null,null,null,null,null,null,null,null,null,null,null,null,null,null,null,null,null,null,null,null,null,null,null,null,null,null,null,null,null,null,null,null,null,null,null,null,null,null,null,null,null,null,null,null,null,null,null,null,null,null,null,null,null,null,null,null,null,null,null,null,null,"分影","真言呪文","創造呪文","光",15,310,null,"精霊石",0,0,0,0,0,0,1,50,null,null,null,null,null,null,"森人-4","森人-4：半森人","森人",4,"半森人",null,null,null,null,null,null,null,null,null,null,null,null,24,14,null,null,null,null,null,null,null,null,null,null,"野伏：4"]
[null,null,null,null,null,null,null,null,null,null,null,null,null,null,null,null,null,null,null,null,null,null,null,null,null,null,null,null,null,null,null,null,null,null,null,null,null,null,null,null,null,null,null,null,null,null,null,null,null,null,null,null,null,null,null,null,null,null,null,null,null,null,null,null,"察知","真言呪文","汎用呪文","精神",5,310,null,"竜司祭の触媒入れ",-2,0,0,0,0,0,0,30,null,null,null,null,null,null,"森人-5","森人-5：細工師","森人",5,"細工師",null,null,null,null,null,null,null,null,null,null,null,null,25,15,null,null,null,null,null,null,null,null,null,null,"野伏：5"]
[null,null,null,null,null,null,null,null,null,null,null,null,null,null,null,null,null,null,null,null,null,null,null,null,null,null,null,null,null,null,null,null,null,null,null,null,null,null,null,null,null,null,null,null,null,null,null,null,null,null,null,null,null,null,null,null,null,null,null,null,null,null,null,null,"舞踏","真言呪文","支配呪文","精神",5,311,null,"精霊使いの鞄",-2,0,0,0,0,0,0,30,null,null,null,null,null,null,"森人-6","森人-6：兵士","森人",6,"兵士",null,null,null,null,null,null,null,null,null,null,null,null,26,16,null,null,null,null,null,null,null,null,null,null,"野伏：6"]
[null,null,null,null,null,null,null,null,null,null,null,null,null,null,null,null,null,null,null,null,null,null,null,null,null,null,null,null,null,null,null,null,null,null,null,null,null,null,null,null,null,null,null,null,null,null,null,null,null,null,null,null,null,null,null,null,null,null,null,null,null,null,null,null,"嫌気","真言呪文","支配呪文","精神",10,311,null,"上質な触媒",0,0,0,0,0,0,0,10,null,null,null,null,null,null,"森人-7","森人-7：猟師","森人",7,"猟師",null,null,null,null,null,null,null,null,null,null,null,null,27,17,null,null,null,null,null,null,null,null,null,null,"野伏：7"]
[null,null,null,null,null,null,null,null,null,null,null,null,null,null,null,null,null,null,null,null,null,null,null,null,null,null,null,null,null,null,null,null,null,null,null,null,null,null,null,null,null,null,null,null,null,null,null,null,null,null,null,null,null,null,null,null,null,null,null,null,null,null,null,null,"矢避","真言呪文","付与呪文","風",10,312,null,"石弾",0,0,0,0,0,0,0,1,null,null,null,null,null,null,"森人-8","森人-8：詩人","森人",8,"詩人",null,null,null,null,null,null,null,null,null,null,null,null,28,18,null,null,null,null,null,null,null,null,null,null,"野伏：8"]
[null,null,null,null,null,null,null,null,null,null,null,null,null,null,null,null,null,null,null,null,null,null,null,null,null,null,null,null,null,null,null,null,null,null,null,null,null,null,null,null,null,null,null,null,null,null,null,null,null,null,null,null,null,null,null,null,null,null,null,null,null,null,null,null,"透過","真言呪文","付与呪文","光",10,312,null,"石弾：10",0,0,0,0,0,0,0,1,null,null,null,null,null,null,"森人-9","森人-9：楽士","森人",9,"楽士",null,null,null,null,null,null,null,null,null,null,null,null,29,19,null,null,null,null,null,null,null,null,null,null,"野伏：9"]
[null,null,null,null,null,null,null,null,null,null,null,null,null,null,null,null,null,null,null,null,null,null,null,null,null,null,null,null,null,null,null,null,null,null,null,null,null,null,null,null,null,null,null,null,null,null,null,null,null,null,null,null,null,null,null,null,null,null,null,null,null,null,null,null,"恐慌","真言呪文","支配呪文","精神",10,313,null,"石弾（店石）",0,0,0,0,0,0,0,1,null,null,null,null,null,null,"森人-10","森人-10：語り部","森人",10,"語り部",null,null,null,null,null,null,null,null,null,null,null,null,30,20,null,null,null,null,null,null,null,null,null,null,"野伏：10"]
[null,null,null,null,null,null,null,null,null,null,null,null,null,null,null,null,null,null,null,null,null,null,null,null,null,null,null,null,null,null,null,null,null,null,null,null,null,null,null,null,null,null,null,null,null,null,null,null,null,null,null,null,null,null,null,null,null,null,null,null,null,null,null,null,"獣心","真言呪文","汎用呪文","精神",10,313,null,"石弾（店石）：10",0,0,0,0,0,0,0,2,null,null,null,null,null,null,"森人-11","森人-11：祈祷師","森人",11,"祈祷師",null,null,null,null,null,null,null,null,null,null,null,null,31,21,null,null,null,null,null,null,null,null,null,null,"斥候：1"]
[null,null,null,null,null,null,null,null,null,null,null,null,null,null,null,null,null,null,null,null,null,null,null,null,null,null,null,null,null,null,null,null,null,null,null,null,null,null,null,null,null,null,null,null,null,null,null,null,null,null,null,null,null,null,null,null,null,null,null,null,null,null,null,null,"幻影","真言呪文","創造呪文","光",5,314,null,"石弾袋",-2,0,0,0,0,0,0,3,null,null,null,null,null,null,"森人-12","森人-12：族長","森人",12,"族長",null,null,null,null,null,null,null,null,null,null,null,null,32,22,null,null,null,null,null,null,null,null,null,null,"斥候：2"]
[null,null,null,null,null,null,null,null,null,null,null,null,null,null,null,null,null,null,null,null,null,null,null,null,null,null,null,null,null,null,null,null,null,null,null,null,null,null,null,null,null,null,null,null,null,null,null,null,null,null,null,null,null,null,null,null,null,null,null,null,null,null,null,null,"巨大","真言呪文","付与呪文","生命",10,315,null,"矢",0,0,0,0,0,0,0,1,null,null,null,null,null,null,"蜥蜴人-2","蜥蜴人-2：冒険者","蜥蜴人",2,"冒険者",null,null,null,null,null,null,null,null,null,null,null,null,33,23,null,null,null,null,null,null,null,null,null,null,"斥候：3"]
[null,null,null,null,null,null,null,null,null,null,null,null,null,null,null,null,null,null,null,null,null,null,null,null,null,null,null,null,null,null,null,null,null,null,null,null,null,null,null,null,null,null,null,null,null,null,null,null,null,null,null,null,null,null,null,null,null,null,null,null,null,null,null,null,"火球","真言呪文","攻撃呪文","火",10,316,null,"矢：10",0,0,0,0,0,0,0,5,null,null,null,null,null,null,"蜥蜴人-3","蜥蜴人-3：無頼","蜥蜴人",3,"無頼",null,null,null,null,null,null,null,null,null,null,null,null,34,24,null,null,null,null,null,null,null,null,null,null,"斥候：4"]
[null,null,null,null,null,null,null,null,null,null,null,null,null,null,null,null,null,null,null,null,null,null,null,null,null,null,null,null,null,null,null,null,null,null,null,null,null,null,null,null,null,null,null,null,null,null,null,null,null,null,null,null,null,null,null,null,null,null,null,null,null,null,null,null,"火矢","真言呪文","攻撃呪文","火",5,316,null,"太矢",0,0,0,0,0,0,0,1,null,null,null,null,null,null,"蜥蜴人-4","蜥蜴人-4：奴隷","蜥蜴人",4,"奴隷",null,null,null,null,null,null,null,null,null,null,null,null,35,25,null,null,null,null,null,null,null,null,null,null,"斥候：5"]
[null,null,null,null,null,null,null,null,null,null,null,null,null,null,null,null,null,null,null,null,null,null,null,null,null,null,null,null,null,null,null,null,null,null,null,null,null,null,null,null,null,null,null,null,null,null,null,null,null,null,null,null,null,null,null,null,null,null,null,null,null,null,null,null,"遠見","真言呪文","汎用呪文","時間",20,317,null,"太矢：10",0,0,0,0,0,0,0,10,null,null,null,null,null,null,"蜥蜴人-5","蜥蜴人-5：騎兵","蜥蜴人",5,"騎兵",null,null,null,null,null,null,null,null,null,null,null,null,36,26,null,null,null,null,null,null,null,null,null,null,"斥候：6"]
[null,null,null,null,null,null,null,null,null,null,null,null,null,null,null,null,null,null,null,null,null,null,null,null,null,null,null,null,null,null,null,null,null,null,null,null,null,null,null,null,null,null,null,null,null,null,null,null,null,null,null,null,null,null,null,null,null,null,null,null,null,null,null,null,"力場","真言呪文","創造呪文","空間",15,317,null,"矢筒",-2,0,0,0,0,0,0,3,null,null,null,null,null,null,"蜥蜴人-6","蜥蜴人-6：工兵","蜥蜴人",6,"工兵",null,null,null,null,null,null,null,null,null,null,null,null,37,27,null,null,null,null,null,null,null,null,null,null,"斥候：7"]
[null,null,null,null,null,null,null,null,null,null,null,null,null,null,null,null,null,null,null,null,null,null,null,null,null,null,null,null,null,null,null,null,null,null,null,null,null,null,null,null,null,null,null,null,null,null,null,null,null,null,null,null,null,null,null,null,null,null,null,null,null,null,null,null,"突風","真言呪文","攻撃呪文","風",5,318,null,"弾丸",0,0,0,0,0,0,0,2,null,null,null,null,null,null,"蜥蜴人-7","蜥蜴人-7：弓兵","蜥蜴人",7,"弓兵",null,null,null,null,null,null,null,null,null,null,null,null,38,28,null,null,null,null,null,null,null,null,null,null,"斥候：8"]
[null,null,null,null,null,null,null,null,null,null,null,null,null,null,null,null,null,null,null,null,null,null,null,null,null,null,null,null,null,null,null,null,null,null,null,null,null,null,null,null,null,null,null,null,null,null,null,null,null,null,null,null,null,null,null,null,null,null,null,null,null,null,null,null,"呼気","真言呪文","付与呪文","水、風",10,318,null,"弾丸：10",0,0,0,0,0,0,0,20,null,null,null,null,null,null,"蜥蜴人-8","蜥蜴人-8：槍兵","蜥蜴人",8,"槍兵",null,null,null,null,null,null,null,null,null,null,null,null,39,29,null,null,null,null,null,null,null,null,null,null,"斥候：9"]
[null,null,null,null,null,null,null,null,null,null,null,null,null,null,null,null,null,null,null,null,null,null,null,null,null,null,null,null,null,null,null,null,null,null,null,null,null,null,null,null,null,null,null,null,null,null,null,null,null,null,null,null,null,null,null,null,null,null,null,null,null,null,null,null,"吹雪","真言呪文","攻撃呪文","水、風",20,319,null,"火の秘薬",0,0,0,0,0,0,0,20,null,null,null,null,null,null,"蜥蜴人-9","蜥蜴人-9：歩兵","蜥蜴人",9,"歩兵",null,null,null,null,null,null,null,null,null,null,null,null,40,30,null,null,null,null,null,null,null,null,null,null,"斥候：10"]
[null,null,null,null,null,null,null,null,null,null,null,null,null,null,null,null,null,null,null,null,null,null,null,null,null,null,null,null,null,null,null,null,null,null,null,null,null,null,null,null,null,null,null,null,null,null,null,null,null,null,null,null,null,null,null,null,null,null,null,null,null,null,null,null,"浮遊","真言呪文","汎用呪文","風",10,319,null,"火の秘薬：10",0,0,0,0,0,0,0,200,null,null,null,null,null,null,"蜥蜴人-10","蜥蜴人-10：軍師","蜥蜴人",10,"軍師",null,null,null,null,null,null,null,null,null,null,null,null,null,null,null,null,null,null,null,null,null,null,null,null,"魔術師：1"]
[null,null,null,null,null,null,null,null,null,null,null,null,null,null,null,null,null,null,null,null,null,null,null,null,null,null,null,null,null,null,null,null,null,null,null,null,null,null,null,null,null,null,null,null,null,null,null,null,null,null,null,null,null,null,null,null,null,null,null,null,null,null,null,null,"加速","真言呪文","付与呪文","生命、精神",15,230,null,"弾薬鞄",-4,0,0,0,0,0,0,12,null,null,null,null,null,null,"蜥蜴人-11","蜥蜴人-11：司祭","蜥蜴人",11,"司祭",null,null,null,null,null,null,null,null,null,null,null,null,null,null,null,null,null,null,null,null,null,null,null,null,"魔術師：2"]
[null,null,null,null,null,null,null,null,null,null,null,null,null,null,null,null,null,null,null,null,null,null,null,null,null,null,null,null,null,null,null,null,null,null,null,null,null,null,null,null,null,null,null,null,null,null,null,null,null,null,null,null,null,null,null,null,null,null,null,null,null,null,null,null,"読心","真言呪文","汎用呪文","精神",10,320,null,"投矢",0,0,0,0,0,0,0,3,null,null,null,null,null,null,"蜥蜴人-12","蜥蜴人-12：王卵","蜥蜴人",12,"王卵",null,null,null,null,null,null,null,null,null,null,null,null,null,null,null,null,null,null,null,null,null,null,null,null,"魔術師：3"]
[null,null,null,null,null,null,null,null,null,null,null,null,null,null,null,null,null,null,null,null,null,null,null,null,null,null,null,null,null,null,null,null,null,null,null,null,null,null,null,null,null,null,null,null,null,null,null,null,null,null,null,null,null,null,null,null,null,null,null,null,null,null,null,null,"力矢","真言呪文","攻撃呪文","空間",10,321,null,"投矢：5",0,0,0,0,0,0,0,15,null,null,null,null,null,null,"圃人-2","圃人-2：冒険者","圃人",2,"冒険者",null,null,null,null,null,null,null,null,null,null,null,null,null,null,null,null,null,null,null,null,null,null,null,null,"魔術師：4"]
[null,null,null,null,null,null,null,null,null,null,null,null,null,null,null,null,null,null,null,null,null,null,null,null,null,null,null,null,null,null,null,null,null,null,null,null,null,null,null,null,null,null,null,null,null,null,null,null,null,null,null,null,null,null,null,null,null,null,null,null,null,null,null,null,"魔霧","真言呪文","創造呪文","水",10,321,null,"投矢革帯",-2,0,0,0,0,0,0,6,null,null,null,null,null,null,"圃人-3","圃人-3：無頼","圃人",3,"無頼",null,null,null,null,null,null,null,null,null,null,null,null,null,null,null,null,null,null,null,null,null,null,null,null,"魔術師：5"]
[null,null,null,null,null,null,null,null,null,null,null,null,null,null,null,null,null,null,null,null,null,null,null,null,null,null,null,null,null,null,null,null,null,null,null,null,null,null,null,null,null,null,null,null,null,null,null,null,null,null,null,null,null,null,null,null,null,null,null,null,null,null,null,null,"円盾","真言呪文","付与呪文","なし",10,322,null,"松明",0,0,0,0,0,0,0,1,null,null,null,null,null,null,"圃人-4","圃人-4：詩人","圃人",4,"詩人",null,null,null,null,null,null,null,null,null,null,null,null,null,null,null,null,null,null,null,null,null,null,null,null,"魔術師：6"]
[null,null,null,null,null,null,null,null,null,null,null,null,null,null,null,null,null,null,null,null,null,null,null,null,null,null,null,null,null,null,null,null,null,null,null,null,null,null,null,null,null,null,null,null,null,null,null,null,null,null,null,null,null,null,null,null,null,null,null,null,null,null,null,null,"光明","真言呪文","汎用呪文","光",5,322,null,"松明：6",0,0,0,0,0,0,0,1,null,null,null,null,null,null,"圃人-5","圃人-5：学者","圃人",5,"学者",null,null,null,null,null,null,null,null,null,null,null,null,null,null,null,null,null,null,null,null,null,null,null,null,"魔術師：7"]
[null,null,null,null,null,null,null,null,null,null,null,null,null,null,null,null,null,null,null,null,null,null,null,null,null,null,null,null,null,null,null,null,null,null,null,null,null,null,null,null,null,null,null,null,null,null,null,null,null,null,null,null,null,null,null,null,null,null,null,null,null,null,null,null,"稲妻","真言呪文","攻撃呪文","風",15,323,null,"蝋燭",0,0,0,0,0,0,0,1,null,null,null,null,null,null,"圃人-6","圃人-6：職人","圃人",6,"職人",null,null,null,null,null,null,null,null,null,null,null,null,null,null,null,null,null,null,null,null,null,null,null,null,"魔術師：8"]
[null,null,null,null,null,null,null,null,null,null,null,null,null,null,null,null,null,null,null,null,null,null,null,null,null,null,null,null,null,null,null,null,null,null,null,null,null,null,null,null,null,null,null,null,null,null,null,null,null,null,null,null,null,null,null,null,null,null,null,null,null,null,null,null,"施錠","真言呪文","汎用呪文","物質",5,323,null,"蝋燭：12",0,0,0,0,0,0,0,1,null,null,null,null,null,null,"圃人-7","圃人-7：農民","圃人",7,"農民",null,null,null,null,null,null,null,null,null,null,null,null,null,null,null,null,null,null,null,null,null,null,null,null,"魔術師：9"]
[null,null,null,null,null,null,null,null,null,null,null,null,null,null,null,null,null,null,null,null,null,null,null,null,null,null,null,null,null,null,null,null,null,null,null,null,null,null,null,null,null,null,null,null,null,null,null,null,null,null,null,null,null,null,null,null,null,null,null,null,null,null,null,null,"解毒","奇跡","治癒呪文","生命",10,324,null,"角灯",0,0,0,0,0,0,0,30,null,null,null,null,null,null,"圃人-8","圃人-8：商人","圃人",8,"商人",null,null,null,null,null,null,null,null,null,null,null,null,null,null,null,null,null,null,null,null,null,null,null,null,"魔術師：10"]
[null,null,null,null,null,null,null,null,null,null,null,null,null,null,null,null,null,null,null,null,null,null,null,null,null,null,null,null,null,null,null,null,null,null,null,null,null,null,null,null,null,null,null,null,null,null,null,null,null,null,null,null,null,null,null,null,null,null,null,null,null,null,null,null,"沈黙","奇跡","支配呪文","風",10,324,null,"ガラス付き角灯",0,0,0,0,0,0,0,60,null,null,null,null,null,null,"圃人-9","圃人-9：亭主","圃人",9,"亭主",null,null,null,null,null,null,null,null,null,null,null,null,null,null,null,null,null,null,null,null,null,null,null,null,"神官：1"]
[null,null,null,null,null,null,null,null,null,null,null,null,null,null,null,null,null,null,null,null,null,null,null,null,null,null,null,null,null,null,null,null,null,null,null,null,null,null,null,null,null,null,null,null,null,null,null,null,null,null,null,null,null,null,null,null,null,null,null,null,null,null,null,null,"聖域","奇跡","付与呪文","空間",15,325,null,"ランプ",0,0,0,0,0,0,0,50,null,null,null,null,null,null,"圃人-10","圃人-10：庭師","圃人",10,"庭師",null,null,null,null,null,null,null,null,null,null,null,null,null,null,null,null,null,null,null,null,null,null,null,null,"神官：2"]
[null,null,null,null,null,null,null,null,null,null,null,null,null,null,null,null,null,null,null,null,null,null,null,null,null,null,null,null,null,null,null,null,null,null,null,null,null,null,null,null,null,null,null,null,null,null,null,null,null,null,null,null,null,null,null,null,null,null,null,null,null,null,null,null,"敵意","奇跡","付与呪文","精神",10,325,null,"油",0,0,0,0,0,0,0,1,null,null,null,null,null,null,"圃人-11","圃人-11：騎士","圃人",11,"騎士",null,null,null,null,null,null,null,null,null,null,null,null,null,null,null,null,null,null,null,null,null,null,null,null,"神官：3"]
[null,null,null,null,null,null,null,null,null,null,null,null,null,null,null,null,null,null,null,null,null,null,null,null,null,null,null,null,null,null,null,null,null,null,null,null,null,null,null,null,null,null,null,null,null,null,null,null,null,null,null,null,null,null,null,null,null,null,null,null,null,null,null,null,"看破","奇跡","付与呪文","精神",10,326,null,"火口箱",0,0,0,0,0,0,0,5,null,null,null,null,null,null,"圃人-12","圃人-12：地主","圃人",12,"地主",null,null,null,null,null,null,null,null,null,null,null,null,null,null,null,null,null,null,null,null,null,null,null,null,"神官：4"]
[null,null,null,null,null,null,null,null,null,null,null,null,null,null,null,null,null,null,null,null,null,null,null,null,null,null,null,null,null,null,null,null,null,null,null,null,null,null,null,null,null,null,null,null,null,null,null,null,null,null,null,null,null,null,null,null,null,null,null,null,null,null,null,null,"解呪","奇跡","治癒呪文","生命、精神、物質、空間",10,326,null,"小袋セット",0,0,0,0,0,0,0,1,null,null,null,null,null,null,null,null,null,null,null,null,null,null,null,null,null,null,null,null,null,null,null,null,null,null,null,null,null,null,null,null,null,null,null,"神官：5"]
[null,null,null,null,null,null,null,null,null,null,null,null,null,null,null,null,null,null,null,null,null,null,null,null,null,null,null,null,null,null,null,null,null,null,null,null,null,null,null,null,null,null,null,null,null,null,null,null,null,null,null,null,null,null,null,null,null,null,null,null,null,null,null,null,"鎮静","奇跡","治癒呪文","精神",10,327,null,"ずた袋",0,0,0,0,0,0,0,1,null,null,null,null,null,null,null,null,null,null,null,null,null,null,null,null,null,null,null,null,null,null,null,null,null,null,null,null,null,null,null,null,null,null,null,"神官：6"]
[null,null,null,null,null,null,null,null,null,null,null,null,null,null,null,null,null,null,null,null,null,null,null,null,null,null,null,null,null,null,null,null,null,null,null,null,null,null,null,null,null,null,null,null,null,null,null,null,null,null,null,null,null,null,null,null,null,null,null,null,null,null,null,null,"賦活","奇跡","治癒呪文","生命",10,327,null,"ベルトポーチ",0,0,0,0,0,0,0,5,null,null,null,null,null,null,null,null,null,null,null,null,null,null,null,null,null,null,null,null,null,null,null,null,null,null,null,null,null,null,null,null,null,null,null,"神官：7"]
[null,null,null,null,null,null,null,null,null,null,null,null,null,null,null,null,null,null,null,null,null,null,null,null,null,null,null,null,null,null,null,null,null,null,null,null,null,null,null,null,null,null,null,null,null,null,null,null,null,null,null,null,null,null,null,null,null,null,null,null,null,null,null,null,"小癒","奇跡","治癒呪文","生命",5,328,null,"水袋",0,0,0,0,0,0,0,2,null,null,null,null,null,null,null,null,null,null,null,null,null,null,null,null,null,null,null,null,null,null,null,null,null,null,null,null,null,null,null,null,null,null,null,"神官：8"]
[null,null,null,null,null,null,null,null,null,null,null,null,null,null,null,null,null,null,null,null,null,null,null,null,null,null,null,null,null,null,null,null,null,null,null,null,null,null,null,null,null,null,null,null,null,null,null,null,null,null,null,null,null,null,null,null,null,null,null,null,null,null,null,null,"聖歌","奇跡","汎用呪文","なし",5,328,null,"背負い袋",0,0,0,0,0,0,0,10,null,null,null,null,null,null,null,null,null,null,null,null,null,null,null,null,null,null,null,null,null,null,null,null,null,null,null,null,null,null,null,null,null,null,null,"神官：9"]
[null,null,null,null,null,null,null,null,null,null,null,null,null,null,null,null,null,null,null,null,null,null,null,null,null,null,null,null,null,null,null,null,null,null,null,null,null,null,null,null,null,null,null,null,null,null,null,null,null,null,null,null,null,null,null,null,null,null,null,null,null,null,null,null,"浄化","奇跡","治癒呪文","水",5,329,null,"毛布",-2,0,0,0,0,0,0,5,null,null,null,null,null,null,null,null,null,null,null,null,null,null,null,null,null,null,null,null,null,null,null,null,null,null,null,null,null,null,null,null,null,null,null,"神官：10"]
[null,null,null,null,null,null,null,null,null,null,null,null,null,null,null,null,null,null,null,null,null,null,null,null,null,null,null,null,null,null,null,null,null,null,null,null,null,null,null,null,null,null,null,null,null,null,null,null,null,null,null,null,null,null,null,null,null,null,null,null,null,null,null,null,"祝福","奇跡","付与呪文","なし",10,329,null,"テント",-4,0,0,0,0,0,0,25,null,null,null,null,null,null,null,null,null,null,null,null,null,null,null,null,null,null,null,null,null,null,null,null,null,null,null,null,null,null,null,null,null,null,null,"竜司祭：1"]
[null,null,null,null,null,null,null,null,null,null,null,null,null,null,null,null,null,null,null,null,null,null,null,null,null,null,null,null,null,null,null,null,null,null,null,null,null,null,null,null,null,null,null,null,null,null,null,null,null,null,null,null,null,null,null,null,null,null,null,null,null,null,null,null,"聖壁","奇跡","創造呪文","空間",15,330,null,"寝袋",-2,0,0,0,0,0,0,1,null,null,null,null,null,null,null,null,null,null,null,null,null,null,null,null,null,null,null,null,null,null,null,null,null,null,null,null,null,null,null,null,null,null,null,"竜司祭：2"]
[null,null,null,null,null,null,null,null,null,null,null,null,null,null,null,null,null,null,null,null,null,null,null,null,null,null,null,null,null,null,null,null,null,null,null,null,null,null,null,null,null,null,null,null,null,null,null,null,null,null,null,null,null,null,null,null,null,null,null,null,null,null,null,null,"聖撃","奇跡","攻撃呪文","なし",5,331,null,"冬季用寝袋",-2,0,0,0,0,0,0,10,null,null,null,null,null,null,null,null,null,null,null,null,null,null,null,null,null,null,null,null,null,null,null,null,null,null,null,null,null,null,null,null,null,null,null,"竜司祭：3"]
[null,null,null,null,null,null,null,null,null,null,null,null,null,null,null,null,null,null,null,null,null,null,null,null,null,null,null,null,null,null,null,null,null,null,null,null,null,null,null,null,null,null,null,null,null,null,null,null,null,null,null,null,null,null,null,null,null,null,null,null,null,null,null,null,"聖光","奇跡","治癒呪文","光",10,331,null,"円匙",0,0,0,0,0,0,0,18,null,null,null,null,null,null,null,null,null,null,null,null,null,null,null,null,null,null,null,null,null,null,null,null,null,null,null,null,null,null,null,null,null,null,null,"竜司祭：4"]
[null,null,null,null,null,null,null,null,null,null,null,null,null,null,null,null,null,null,null,null,null,null,null,null,null,null,null,null,null,null,null,null,null,null,null,null,null,null,null,null,null,null,null,null,null,null,null,null,null,null,null,null,null,null,null,null,null,null,null,null,null,null,null,null,"戦槍","奇跡","攻撃呪文","なし",15,332,null,"ロープ：10",0,0,0,0,0,0,0,5,null,null,null,null,null,null,null,null,null,null,null,null,null,null,null,null,null,null,null,null,null,null,null,null,null,null,null,null,null,null,null,null,null,null,null,"竜司祭：5"]
[null,null,null,null,null,null,null,null,null,null,null,null,null,null,null,null,null,null,null,null,null,null,null,null,null,null,null,null,null,null,null,null,null,null,null,null,null,null,null,null,null,null,null,null,null,null,null,null,null,null,null,null,null,null,null,null,null,null,null,null,null,null,null,null,"鼓舞","奇跡","付与呪文","精神",10,332,null,"小槌",0,0,0,0,0,0,0,5,null,null,null,null,null,null,null,null,null,null,null,null,null,null,null,null,null,null,null,null,null,null,null,null,null,null,null,null,null,null,null,null,null,null,null,"竜司祭：6"]
[null,null,null,null,null,null,null,null,null,null,null,null,null,null,null,null,null,null,null,null,null,null,null,null,null,null,null,null,null,null,null,null,null,null,null,null,null,null,null,null,null,null,null,null,null,null,null,null,null,null,null,null,null,null,null,null,null,null,null,null,null,null,null,null,"聖鎧","奇跡","創造呪文","物質、生命",15,333,null,"楔：10",0,0,0,0,0,0,0,2,null,null,null,null,null,null,null,null,null,null,null,null,null,null,null,null,null,null,null,null,null,null,null,null,null,null,null,null,null,null,null,null,null,null,null,"竜司祭：7"]
[null,null,null,null,null,null,null,null,null,null,null,null,null,null,null,null,null,null,null,null,null,null,null,null,null,null,null,null,null,null,null,null,null,null,null,null,null,null,null,null,null,null,null,null,null,null,null,null,null,null,null,null,null,null,null,null,null,null,null,null,null,null,null,null,"契約","奇跡","付与呪文","なし",20,333,null,"手鏡",0,0,0,0,0,0,0,30,null,null,null,null,null,null,null,null,null,null,null,null,null,null,null,null,null,null,null,null,null,null,null,null,null,null,null,null,null,null,null,null,null,null,null,"竜司祭：8"]
[null,null,null,null,null,null,null,null,null,null,null,null,null,null,null,null,null,null,null,null,null,null,null,null,null,null,null,null,null,null,null,null,null,null,null,null,null,null,null,null,null,null,null,null,null,null,null,null,null,null,null,null,null,null,null,null,null,null,null,null,null,null,null,null,"旅人","奇跡","付与呪文","生命",15,334,null,"筆記道具",0,0,0,0,0,0,0,10,null,null,null,null,null,null,null,null,null,null,null,null,null,null,null,null,null,null,null,null,null,null,null,null,null,null,null,null,null,null,null,null,null,null,null,"竜司祭：9"]
[null,null,null,null,null,null,null,null,null,null,null,null,null,null,null,null,null,null,null,null,null,null,null,null,null,null,null,null,null,null,null,null,null,null,null,null,null,null,null,null,null,null,null,null,null,null,null,null,null,null,null,null,null,null,null,null,null,null,null,null,null,null,null,null,"逆転","奇跡","付与呪文","なし",10,334,null,"羊皮紙",0,0,0,0,0,0,0,1,null,null,null,null,null,null,null,null,null,null,null,null,null,null,null,null,null,null,null,null,null,null,null,null,null,null,null,null,null,null,null,null,null,null,null,"竜司祭：10"]
[null,null,null,null,null,null,null,null,null,null,null,null,null,null,null,null,null,null,null,null,null,null,null,null,null,null,null,null,null,null,null,null,null,null,null,null,null,null,null,null,null,null,null,null,null,null,null,null,null,null,null,null,null,null,null,null,null,null,null,null,null,null,null,null,"審問","奇跡","支配呪文","なし",10,335,null,"パピルス紙：10",0,0,0,0,0,0,0,2,null,null,null,null,null,null,null,null,null,null,null,null,null,null,null,null,null,null,null,null,null,null,null,null,null,null,null,null,null,null,null,null,null,null,null,"精霊使い：1"]
[null,null,null,null,null,null,null,null,null,null,null,null,null,null,null,null,null,null,null,null,null,null,null,null,null,null,null,null,null,null,null,null,null,null,null,null,null,null,null,null,null,null,null,null,null,null,null,null,null,null,null,null,null,null,null,null,null,null,null,null,null,null,null,null,"鑑定","奇跡","付与呪文","なし",15,335,null,"防毒面(達成値19以下の毒物を無効化)",-2,0,0,0,0,0,0,100,null,null,null,null,null,null,null,null,null,null,null,null,null,null,null,null,null,null,null,null,null,null,null,null,null,null,null,null,null,null,null,null,null,null,null,"精霊使い：2"]
[null,null,null,null,null,null,null,null,null,null,null,null,null,null,null,null,null,null,null,null,null,null,null,null,null,null,null,null,null,null,null,null,null,null,null,null,null,null,null,null,null,null,null,null,null,null,null,null,null,null,null,null,null,null,null,null,null,null,null,null,null,null,null,null,"聖断","奇跡","攻撃呪文","光",20,335,null,"楽器：ヴァイオリン",-2,0,0,0,0,0,0,300,null,null,null,null,null,null,null,null,null,null,null,null,null,null,null,null,null,null,null,null,null,null,null,null,null,null,null,null,null,null,null,null,null,null,null,"精霊使い：3"]
[null,null,null,null,null,null,null,null,null,null,null,null,null,null,null,null,null,null,null,null,null,null,null,null,null,null,null,null,null,null,null,null,null,null,null,null,null,null,null,null,null,null,null,null,null,null,null,null,null,null,null,null,null,null,null,null,null,null,null,null,null,null,null,null,"天啓","奇跡","付与呪文","なし",10,336,null,"楽器：ドラム",-2,0,0,0,0,0,0,60,null,null,null,null,null,null,null,null,null,null,null,null,null,null,null,null,null,null,null,null,null,null,null,null,null,null,null,null,null,null,null,null,null,null,null,"精霊使い：4"]
[null,null,null,null,null,null,null,null,null,null,null,null,null,null,null,null,null,null,null,null,null,null,null,null,null,null,null,null,null,null,null,null,null,null,null,null,null,null,null,null,null,null,null,null,null,null,null,null,null,null,null,null,null,null,null,null,null,null,null,null,null,null,null,null,"真灯","奇跡","汎用呪文","時間",10,336,null,"楽器：フルート",-2,0,0,0,0,0,0,30,null,null,null,null,null,null,null,null,null,null,null,null,null,null,null,null,null,null,null,null,null,null,null,null,null,null,null,null,null,null,null,null,null,null,null,"精霊使い：5"]
[null,null,null,null,null,null,null,null,null,null,null,null,null,null,null,null,null,null,null,null,null,null,null,null,null,null,null,null,null,null,null,null,null,null,null,null,null,null,null,null,null,null,null,null,null,null,null,null,null,null,null,null,null,null,null,null,null,null,null,null,null,null,null,null,"読解","奇跡","付与呪文","精神",10,337,null,"楽器：ホルン",-2,0,0,0,0,0,0,50,null,null,null,null,null,null,null,null,null,null,null,null,null,null,null,null,null,null,null,null,null,null,null,null,null,null,null,null,null,null,null,null,null,null,null,"精霊使い：6"]
[null,null,null,null,null,null,null,null,null,null,null,null,null,null,null,null,null,null,null,null,null,null,null,null,null,null,null,null,null,null,null,null,null,null,null,null,null,null,null,null,null,null,null,null,null,null,null,null,null,null,null,null,null,null,null,null,null,null,null,null,null,null,null,null,"聖餐","奇跡","創造呪文","なし",15,337,null,"楽器：リュート",-2,0,0,0,0,0,0,350,null,null,null,null,null,null,null,null,null,null,null,null,null,null,null,null,null,null,null,null,null,null,null,null,null,null,null,null,null,null,null,null,null,null,null,"精霊使い：7"]
[null,null,null,null,null,null,null,null,null,null,null,null,null,null,null,null,null,null,null,null,null,null,null,null,null,null,null,null,null,null,null,null,null,null,null,null,null,null,null,null,null,null,null,null,null,null,null,null,null,null,null,null,null,null,null,null,null,null,null,null,null,null,null,null,"不動","奇跡","付与呪文","土、生命",10,338,null,"楽器：草笛",-2,0,0,0,0,0,0,0,null,null,null,null,null,null,null,null,null,null,null,null,null,null,null,null,null,null,null,null,null,null,null,null,null,null,null,null,null,null,null,null,null,null,null,"精霊使い：8"]
[null,null,null,null,null,null,null,null,null,null,null,null,null,null,null,null,null,null,null,null,null,null,null,null,null,null,null,null,null,null,null,null,null,null,null,null,null,null,null,null,null,null,null,null,null,null,null,null,null,null,null,null,null,null,null,null,null,null,null,null,null,null,null,null,"和睦","奇跡","支配呪文","精神",15,338,null,"催涙弾",0,0,0,0,0,0,0,10,null,null,null,null,null,null,null,null,null,null,null,null,null,null,null,null,null,null,null,null,null,null,null,null,null,null,null,null,null,null,null,null,null,null,null,"精霊使い：9"]
[null,null,null,null,null,null,null,null,null,null,null,null,null,null,null,null,null,null,null,null,null,null,null,null,null,null,null,null,null,null,null,null,null,null,null,null,null,null,null,null,null,null,null,null,null,null,null,null,null,null,null,null,null,null,null,null,null,null,null,null,null,null,null,null,"擬態","祖竜術","付与呪文","光",10,339,null,"煙玉",0,0,0,0,0,0,0,10,null,null,null,null,null,null,null,null,null,null,null,null,null,null,null,null,null,null,null,null,null,null,null,null,null,null,null,null,null,null,null,null,null,null,null,"精霊使い：10"]
[null,null,null,null,null,null,null,null,null,null,null,null,null,null,null,null,null,null,null,null,null,null,null,null,null,null,null,null,null,null,null,null,null,null,null,null,null,null,null,null,null,null,null,null,null,null,null,null,null,null,null,null,null,null,null,null,null,null,null,null,null,null,null,null,"念話","祖竜術","付与呪文","精神",10,339,null,"鈎縄：10",0,0,0,0,0,0,0,7]
[null,null,null,null,null,null,null,null,null,null,null,null,null,null,null,null,null,null,null,null,null,null,null,null,null,null,null,null,null,null,null,null,null,null,null,null,null,null,null,null,null,null,null,null,null,null,null,null,null,null,null,null,null,null,null,null,null,null,null,null,null,null,null,null,"竜牙刀／竜爪","祖竜術","創造呪文","物質",10,340,null,"臭い消し",0,0,0,0,0,0,0,15]
[null,null,null,null,null,null,null,null,null,null,null,null,null,null,null,null,null,null,null,null,null,null,null,null,null,null,null,null,null,null,null,null,null,null,null,null,null,null,null,null,null,null,null,null,null,null,null,null,null,null,null,null,null,null,null,null,null,null,null,null,null,null,null,null,"敵意（祖霊術）","祖竜術","付与呪文","精神",10,340,null,"普通の衣類",0,0,0,0,0,0,0,15]
[null,null,null,null,null,null,null,null,null,null,null,null,null,null,null,null,null,null,null,null,null,null,null,null,null,null,null,null,null,null,null,null,null,null,null,null,null,null,null,null,null,null,null,null,null,null,null,null,null,null,null,null,null,null,null,null,null,null,null,null,null,null,null,null,"突撃","祖竜術","攻撃呪文","なし",10,341,null,"鎧下",-2,1,0,0,0,0,0,30]
[null,null,null,null,null,null,null,null,null,null,null,null,null,null,null,null,null,null,null,null,null,null,null,null,null,null,null,null,null,null,null,null,null,null,null,null,null,null,null,null,null,null,null,null,null,null,null,null,null,null,null,null,null,null,null,null,null,null,null,null,null,null,null,null,"狩場","祖竜術","付与呪文","空間",15,341,null,"鋲付きの鎧下",-4,2,0,0,0,0,0,120]
[null,null,null,null,null,null,null,null,null,null,null,null,null,null,null,null,null,null,null,null,null,null,null,null,null,null,null,null,null,null,null,null,null,null,null,null,null,null,null,null,null,null,null,null,null,null,null,null,null,null,null,null,null,null,null,null,null,null,null,null,null,null,null,null,"竜眼","祖竜術","付与呪文","生命",10,342,null,"防寒具",-2,0,2,0,0,0,0,10]
[null,null,null,null,null,null,null,null,null,null,null,null,null,null,null,null,null,null,null,null,null,null,null,null,null,null,null,null,null,null,null,null,null,null,null,null,null,null,null,null,null,null,null,null,null,null,null,null,null,null,null,null,null,null,null,null,null,null,null,null,null,null,null,null,"竜鱗","祖竜術","付与呪文","生命",10,342,null,"礼服／ドレス",0,0,0,0,0,0,0,100]
[null,null,null,null,null,null,null,null,null,null,null,null,null,null,null,null,null,null,null,null,null,null,null,null,null,null,null,null,null,null,null,null,null,null,null,null,null,null,null,null,null,null,null,null,null,null,null,null,null,null,null,null,null,null,null,null,null,null,null,null,null,null,null,null,"竜牙兵","祖竜術","創造呪文","生命",15,343,null,"マント",-2,0,1,0,0,0,0,10]
[null,null,null,null,null,null,null,null,null,null,null,null,null,null,null,null,null,null,null,null,null,null,null,null,null,null,null,null,null,null,null,null,null,null,null,null,null,null,null,null,null,null,null,null,null,null,null,null,null,null,null,null,null,null,null,null,null,null,null,null,null,null,null,null,"竜血","祖竜術","付与呪文","生命","--",343,null,"10フィートの棒",0,0,0,0,0,0,0,1]
[null,null,null,null,null,null,null,null,null,null,null,null,null,null,null,null,null,null,null,null,null,null,null,null,null,null,null,null,null,null,null,null,null,null,null,null,null,null,null,null,null,null,null,null,null,null,null,null,null,null,null,null,null,null,null,null,null,null,null,null,null,null,null,null,"竜命","祖竜術","付与呪文","火、闇、生命",10,344,null,"軍馬",0,0,0,0,0,0,0,400]
[null,null,null,null,null,null,null,null,null,null,null,null,null,null,null,null,null,null,null,null,null,null,null,null,null,null,null,null,null,null,null,null,null,null,null,null,null,null,null,null,null,null,null,null,null,null,null,null,null,null,null,null,null,null,null,null,null,null,null,null,null,null,null,null,"竜息（火）","祖竜術","攻撃呪文","火",10,345,null,"乗用馬",0,0,0,0,0,0,0,80]
[null,null,null,null,null,null,null,null,null,null,null,null,null,null,null,null,null,null,null,null,null,null,null,null,null,null,null,null,null,null,null,null,null,null,null,null,null,null,null,null,null,null,null,null,null,null,null,null,null,null,null,null,null,null,null,null,null,null,null,null,null,null,null,null,"竜息（稲妻）","祖竜術","攻撃呪文","風",10,345,null,"ロバ",0,0,0,0,0,0,0,10]
[null,null,null,null,null,null,null,null,null,null,null,null,null,null,null,null,null,null,null,null,null,null,null,null,null,null,null,null,null,null,null,null,null,null,null,null,null,null,null,null,null,null,null,null,null,null,null,null,null,null,null,null,null,null,null,null,null,null,null,null,null,null,null,null,"竜息（氷）","祖竜術","攻撃呪文","水",10,345,null,"馬車",0,0,0,0,0,0,0,100]
[null,null,null,null,null,null,null,null,null,null,null,null,null,null,null,null,null,null,null,null,null,null,null,null,null,null,null,null,null,null,null,null,null,null,null,null,null,null,null,null,null,null,null,null,null,null,null,null,null,null,null,null,null,null,null,null,null,null,null,null,null,null,null,null,"竜息（毒）","祖竜術","攻撃呪文","闇",10,345,null,"携帯食",0,0,0,0,0,0,0,2]
[null,null,null,null,null,null,null,null,null,null,null,null,null,null,null,null,null,null,null,null,null,null,null,null,null,null,null,null,null,null,null,null,null,null,null,null,null,null,null,null,null,null,null,null,null,null,null,null,null,null,null,null,null,null,null,null,null,null,null,null,null,null,null,null,"竜吠","祖竜術","支配呪文","精神",15,346,null,"酒類：火酒",0,0,0,0,0,0,0,1]
[null,null,null,null,null,null,null,null,null,null,null,null,null,null,null,null,null,null,null,null,null,null,null,null,null,null,null,null,null,null,null,null,null,null,null,null,null,null,null,null,null,null,null,null,null,null,null,null,null,null,null,null,null,null,null,null,null,null,null,null,null,null,null,null,"対決","祖竜術","支配呪文","精神",10,346,null,"酒類：麦酒",0,0,0,0,0,0,0,2]
[null,null,null,null,null,null,null,null,null,null,null,null,null,null,null,null,null,null,null,null,null,null,null,null,null,null,null,null,null,null,null,null,null,null,null,null,null,null,null,null,null,null,null,null,null,null,null,null,null,null,null,null,null,null,null,null,null,null,null,null,null,null,null,null,"擬竜","祖竜術","付与呪文","生命",10,347,null,"酒類：葡萄酒",0,0,0,0,0,0,0,2]
[null,null,null,null,null,null,null,null,null,null,null,null,null,null,null,null,null,null,null,null,null,null,null,null,null,null,null,null,null,null,null,null,null,null,null,null,null,null,null,null,null,null,null,null,null,null,null,null,null,null,null,null,null,null,null,null,null,null,null,null,null,null,null,null,"賦活（祖霊術）","祖竜術","治癒呪文","生命",10,347,null,"酒類：蒸留酒",0,0,0,0,0,0,0,3]
[null,null,null,null,null,null,null,null,null,null,null,null,null,null,null,null,null,null,null,null,null,null,null,null,null,null,null,null,null,null,null,null,null,null,null,null,null,null,null,null,null,null,null,null,null,null,null,null,null,null,null,null,null,null,null,null,null,null,null,null,null,null,null,null,"小癒（祖霊術）","祖竜術","治癒呪文","生命",5,347,null,"調味料セット",0,0,0,0,0,0,0,5]
[null,null,null,null,null,null,null,null,null,null,null,null,null,null,null,null,null,null,null,null,null,null,null,null,null,null,null,null,null,null,null,null,null,null,null,null,null,null,null,null,null,null,null,null,null,null,null,null,null,null,null,null,null,null,null,null,null,null,null,null,null,null,null,null,"胃石","祖竜術","付与呪文","生命",10,348,null,"香辛料",0,0,0,0,0,0,0,3]
[null,null,null,null,null,null,null,null,null,null,null,null,null,null,null,null,null,null,null,null,null,null,null,null,null,null,null,null,null,null,null,null,null,null,null,null,null,null,null,null,null,null,null,null,null,null,null,null,null,null,null,null,null,null,null,null,null,null,null,null,null,null,null,null,"腐食","祖竜術","汎用呪文","風、時間",5,348,null,"チーズ",0,0,0,0,0,0,0,10]
[null,null,null,null,null,null,null,null,null,null,null,null,null,null,null,null,null,null,null,null,null,null,null,null,null,null,null,null,null,null,null,null,null,null,null,null,null,null,null,null,null,null,null,null,null,null,null,null,null,null,null,null,null,null,null,null,null,null,null,null,null,null,null,null,"竜翼","祖竜術","付与呪文","生命",20,348,null,"干した果物",0,0,0,0,0,0,0,5]
[null,null,null,null,null,null,null,null,null,null,null,null,null,null,null,null,null,null,null,null,null,null,null,null,null,null,null,null,null,null,null,null,null,null,null,null,null,null,null,null,null,null,null,null,null,null,null,null,null,null,null,null,null,null,null,null,null,null,null,null,null,null,null,null,"命水","精霊術","治癒呪文","水、生命",10,349,null,"塩漬け肉",0,0,0,0,0,0,0,3]
[null,null,null,null,null,null,null,null,null,null,null,null,null,null,null,null,null,null,null,null,null,null,null,null,null,null,null,null,null,null,null,null,null,null,null,null,null,null,null,null,null,null,null,null,null,null,null,null,null,null,null,null,null,null,null,null,null,null,null,null,null,null,null,null,"燐光","精霊術","付与呪文","光",5,350,null,"化膿止めの軟膏：5",0,0,0,0,0,0,0,10]
[null,null,null,null,null,null,null,null,null,null,null,null,null,null,null,null,null,null,null,null,null,null,null,null,null,null,null,null,null,null,null,null,null,null,null,null,null,null,null,null,null,null,null,null,null,null,null,null,null,null,null,null,null,null,null,null,null,null,null,null,null,null,null,null,"隠蔽","精霊術","付与呪文","水",15,350,null,"治癒の水薬",0,0,0,0,0,0,0,10]
[null,null,null,null,null,null,null,null,null,null,null,null,null,null,null,null,null,null,null,null,null,null,null,null,null,null,null,null,null,null,null,null,null,null,null,null,null,null,null,null,null,null,null,null,null,null,null,null,null,null,null,null,null,null,null,null,null,null,null,null,null,null,null,null,"風化","精霊術","支配呪文","風、時間",5,351,null,"強壮の水薬",0,0,0,0,0,0,0,10]
[null,null,null,null,null,null,null,null,null,null,null,null,null,null,null,null,null,null,null,null,null,null,null,null,null,null,null,null,null,null,null,null,null,null,null,null,null,null,null,null,null,null,null,null,null,null,null,null,null,null,null,null,null,null,null,null,null,null,null,null,null,null,null,null,"水歩","精霊術","付与呪文","水、風",10,351,null,"解毒薬",0,0,0,0,0,0,0,10]
[null,null,null,null,null,null,null,null,null,null,null,null,null,null,null,null,null,null,null,null,null,null,null,null,null,null,null,null,null,null,null,null,null,null,null,null,null,null,null,null,null,null,null,null,null,null,null,null,null,null,null,null,null,null,null,null,null,null,null,null,null,null,null,null,"猫目","精霊術","付与呪文","闇",10,352,null,"能力上昇の秘薬(器用)",0,0,0,0,0,0,0,50]
[null,null,null,null,null,null,null,null,null,null,null,null,null,null,null,null,null,null,null,null,null,null,null,null,null,null,null,null,null,null,null,null,null,null,null,null,null,null,null,null,null,null,null,null,null,null,null,null,null,null,null,null,null,null,null,null,null,null,null,null,null,null,null,null,"雨乞","精霊術","支配呪文","水、風",10,353,null,"能力上昇の秘薬(筋力)",0,0,0,0,0,0,0,50]
[null,null,null,null,null,null,null,null,null,null,null,null,null,null,null,null,null,null,null,null,null,null,null,null,null,null,null,null,null,null,null,null,null,null,null,null,null,null,null,null,null,null,null,null,null,null,null,null,null,null,null,null,null,null,null,null,null,null,null,null,null,null,null,null,"使役","精霊術","支配呪文","火、水、土、風",10,354,null,"能力上昇の秘薬(精神)",0,0,0,0,0,0,0,50]
[null,null,null,null,null,null,null,null,null,null,null,null,null,null,null,null,null,null,null,null,null,null,null,null,null,null,null,null,null,null,null,null,null,null,null,null,null,null,null,null,null,null,null,null,null,null,null,null,null,null,null,null,null,null,null,null,null,null,null,null,null,null,null,null,"雷矢","精霊術","攻撃呪文","風",10,354,null,"能力上昇の秘薬(走力)",0,0,0,0,0,0,0,50]
[null,null,null,null,null,null,null,null,null,null,null,null,null,null,null,null,null,null,null,null,null,null,null,null,null,null,null,null,null,null,null,null,null,null,null,null,null,null,null,null,null,null,null,null,null,null,null,null,null,null,null,null,null,null,null,null,null,null,null,null,null,null,null,null,"石弾","精霊術","攻撃呪文","土",10,355,null,"能力上昇の秘薬(体力)",0,0,0,0,0,0,0,50]
[null,null,null,null,null,null,null,null,null,null,null,null,null,null,null,null,null,null,null,null,null,null,null,null,null,null,null,null,null,null,null,null,null,null,null,null,null,null,null,null,null,null,null,null,null,null,null,null,null,null,null,null,null,null,null,null,null,null,null,null,null,null,null,null,"泥罠","精霊術","創造呪文","水、土",10,355,null,"能力上昇の秘薬(知覚)",0,0,0,0,0,0,0,50]
[null,null,null,null,null,null,null,null,null,null,null,null,null,null,null,null,null,null,null,null,null,null,null,null,null,null,null,null,null,null,null,null,null,null,null,null,null,null,null,null,null,null,null,null,null,null,null,null,null,null,null,null,null,null,null,null,null,null,null,null,null,null,null,null,"霊壁","精霊術","創造呪文","火、水、土、風、物質",15,356,null,"能力上昇の秘薬(敏捷)",0,0,0,0,0,0,0,50]
[null,null,null,null,null,null,null,null,null,null,null,null,null,null,null,null,null,null,null,null,null,null,null,null,null,null,null,null,null,null,null,null,null,null,null,null,null,null,null,null,null,null,null,null,null,null,null,null,null,null,null,null,null,null,null,null,null,null,null,null,null,null,null,null,"暗黒","精霊術","支配呪文","闇",10,357,null,"鎮痛剤",0,0,0,0,0,0,0,25]
[null,null,null,null,null,null,null,null,null,null,null,null,null,null,null,null,null,null,null,null,null,null,null,null,null,null,null,null,null,null,null,null,null,null,null,null,null,null,null,null,null,null,null,null,null,null,null,null,null,null,null,null,null,null,null,null,null,null,null,null,null,null,null,null,"追風","精霊術","支配呪文","風",5,357,null,"気付け薬",0,0,0,0,0,0,0,20]
[null,null,null,null,null,null,null,null,null,null,null,null,null,null,null,null,null,null,null,null,null,null,null,null,null,null,null,null,null,null,null,null,null,null,null,null,null,null,null,null,null,null,null,null,null,null,null,null,null,null,null,null,null,null,null,null,null,null,null,null,null,null,null,null,"着火","精霊術","創造呪文","火",5,358,null,"トリカブトの毒",0,0,0,0,0,0,0,50]
[null,null,null,null,null,null,null,null,null,null,null,null,null,null,null,null,null,null,null,null,null,null,null,null,null,null,null,null,null,null,null,null,null,null,null,null,null,null,null,null,null,null,null,null,null,null,null,null,null,null,null,null,null,null,null,null,null,null,null,null,null,null,null,null,"酩酊","精霊術","支配呪文","水、精神",10,358,null,"燃える水",0,0,0,0,0,0,0,50]
[null,null,null,null,null,null,null,null,null,null,null,null,null,null,null,null,null,null,null,null,null,null,null,null,null,null,null,null,null,null,null,null,null,null,null,null,null,null,null,null,null,null,null,null,null,null,null,null,null,null,null,null,null,null,null,null,null,null,null,null,null,null,null,null,"隧道","精霊術","支配呪文","水、精神",15,359,null,"物探しの蝋燭",0,0,0,0,0,0,0,250]
[null,null,null,null,null,null,null,null,null,null,null,null,null,null,null,null,null,null,null,null,null,null,null,null,null,null,null,null,null,null,null,null,null,null,null,null,null,null,null,null,null,null,null,null,null,null,null,null,null,null,null,null,null,null,null,null,null,null,null,null,null,null,null,null,"放逐","精霊術","支配呪文","火、水、土、風、光、闇",10,359,null,"魔法の巻物",0,0,0,0,0,0,0,1500]
[null,null,null,null,null,null,null,null,null,null,null,null,null,null,null,null,null,null,null,null,null,null,null,null,null,null,null,null,null,null,null,null,null,null,null,null,null,null,null,null,null,null,null,null,null,null,null,null,null,null,null,null,null,null,null,null,null,null,null,null,null,null,null,null,"力球","精霊術","攻撃呪文","火、風、空間",20,359,null,"精霊の手紙",0,0,0,0,0,0,0,0]
[null,null,null,null,null,null,null,null,null,null,null,null,null,null,null,null,null,null,null,null,null,null,null,null,null,null,null,null,null,null,null,null,null,null,null,null,null,null,null,null,null,null,null,null,null,null,null,null,null,null,null,null,null,null,null,null,null,null,null,null,null,null,null,null,"熱波","精霊術","付与呪文","火",10,360,null,"手紙",0,0,0,0,0,0,0,0]
[null,null,null,null,null,null,null,null,null,null,null,null,null,null,null,null,null,null,null,null,null,null,null,null,null,null,null,null,null,null,null,null,null,null,null,null,null,null,null,null,null,null,null,null,null,null,null,null,null,null,null,null,null,null,null,null,null,null,null,null,null,null,null,null,"火矢（精霊術）","精霊術","攻撃呪文","火",5,360,null,"髪飾り",0,0,0,0,0,0,0,3]
[null,null,null,null,null,null,null,null,null,null,null,null,null,null,null,null,null,null,null,null,null,null,null,null,null,null,null,null,null,null,null,null,null,null,null,null,null,null,null,null,null,null,null,null,null,null,null,null,null,null,null,null,null,null,null,null,null,null,null,null,null,null,null,null,"恐怖","精霊術","支配呪文","風、精神",10,361,null,"魔法の手鏡",0,0,0,0,0,0,0,400]
[null,null,null,null,null,null,null,null,null,null,null,null,null,null,null,null,null,null,null,null,null,null,null,null,null,null,null,null,null,null,null,null,null,null,null,null,null,null,null,null,null,null,null,null,null,null,null,null,null,null,null,null,null,null,null,null,null,null,null,null,null,null,null,null,"降下","精霊術","付与呪文","土、空間",10,362,null,"竜息の松明",0,0,0,0,0,0,0,120]
[null,null,null,null,null,null,null,null,null,null,null,null,null,null,null,null,null,null,null,null,null,null,null,null,null,null,null,null,null,null,null,null,null,null,null,null,null,null,null,null,null,null,null,null,null,null,null,null,null,null,null,null,null,null,null,null,null,null,null,null,null,null,null,null,"吹雪（精霊術）","精霊術","攻撃呪文","水、風",20,362,null,"竜吠の銀鈴",0,0,0,0,0,0,0,120]
[null,null,null,null,null,null,null,null,null,null,null,null,null,null,null,null,null,null,null,null,null,null,null,null,null,null,null,null,null,null,null,null,null,null,null,null,null,null,null,null,null,null,null,null,null,null,null,null,null,null,null,null,null,null,null,null,null,null,null,null,null,null,null,null,"呼気","精霊術","付与呪文","水、風",10,363,null,"龍涎の御香",0,0,0,0,0,0,0,120]
[null,null,null,null,null,null,null,null,null,null,null,null,null,null,null,null,null,null,null,null,null,null,null,null,null,null,null,null,null,null,null,null,null,null,null,null,null,null,null,null,null,null,null,null,null,null,null,null,null,null,null,null,null,null,null,null,null,null,null,null,null,null,null,null,"捕縛","精霊術","支配呪文","風",10,363,null,"竜命の丸薬",0,0,0,0,0,0,0,120]
[null,null,null,null,null,null,null,null,null,null,null,null,null,null,null,null,null,null,null,null,null,null,null,null,null,null,null,null,null,null,null,null,null,null,null,null,null,null,null,null,null,null,null,null,null,null,null,null,null,null,null,null,null,null,null,null,null,null,null,null,null,null,null,null,"なし","-","-","-","-","-",null,"竜血の塗り薬",0,0,0,0,0,0,0,120]
[null,null,null,null,null,null,null,null,null,null,null,null,null,null,null,null,null,null,null,null,null,null,null,null,null,null,null,null,null,null,null,null,null,null,null,null,null,null,null,null,null,null,null,null,null,null,null,null,null,null,null,null,null,null,null,null,null,null,null,null,null,null,null,null,null,null,null,null,null,null,null,"竜眼の触媒",0,0,0,0,0,0,0,120]
[null,null,null,null,null,null,null,null,null,null,null,null,null,null,null,null,null,null,null,null,null,null,null,null,null,null,null,null,null,null,null,null,null,null,null,null,null,null,null,null,null,null,null,null,null,null,null,null,null,null,null,null,null,null,null,null,null,null,null,null,null,null,null,null,null,null,null,null,null,null,null,"竜の鱗",0,0,0,0,0,0,0,120]
[null,null,null,null,null,null,null,null,null,null,null,null,null,null,null,null,null,null,null,null,null,null,null,null,null,null,null,null,null,null,null,null,null,null,null,null,null,null,null,null,null,null,null,null,null,null,null,null,null,null,null,null,null,null,null,null,null,null,null,null,null,null,null,null,null,null,null,null,null,null,null,"粗悪な剣",0,0,0,0,0,0,0,5]
[null,null,null,null,null,null,null,null,null,null,null,null,null,null,null,null,null,null,null,null,null,null,null,null,null,null,null,null,null,null,null,null,null,null,null,null,null,null,null,null,null,null,null,null,null,null,null,null,null,null,null,null,null,null,null,null,null,null,null,null,null,null,null,null,null,null,null,null,null,null,null,"短剣",0,0,0,0,0,0,0,10]
[null,null,null,null,null,null,null,null,null,null,null,null,null,null,null,null,null,null,null,null,null,null,null,null,null,null,null,null,null,null,null,null,null,null,null,null,null,null,null,null,null,null,null,null,null,null,null,null,null,null,null,null,null,null,null,null,null,null,null,null,null,null,null,null,null,null,null,null,null,null,null,"拳剣",0,0,0,0,0,0,0,12]
[null,null,null,null,null,null,null,null,null,null,null,null,null,null,null,null,null,null,null,null,null,null,null,null,null,null,null,null,null,null,null,null,null,null,null,null,null,null,null,null,null,null,null,null,null,null,null,null,null,null,null,null,null,null,null,null,null,null,null,null,null,null,null,null,null,null,null,null,null,null,null,"黒曜の剣",0,0,0,0,0,0,0,10]
[null,null,null,null,null,null,null,null,null,null,null,null,null,null,null,null,null,null,null,null,null,null,null,null,null,null,null,null,null,null,null,null,null,null,null,null,null,null,null,null,null,null,null,null,null,null,null,null,null,null,null,null,null,null,null,null,null,null,null,null,null,null,null,null,null,null,null,null,null,null,null,"舶刀",0,0,0,0,0,0,0,15]
[null,null,null,null,null,null,null,null,null,null,null,null,null,null,null,null,null,null,null,null,null,null,null,null,null,null,null,null,null,null,null,null,null,null,null,null,null,null,null,null,null,null,null,null,null,null,null,null,null,null,null,null,null,null,null,null,null,null,null,null,null,null,null,null,null,null,null,null,null,null,null,"小剣",0,0,0,0,0,0,0,20]
[null,null,null,null,null,null,null,null,null,null,null,null,null,null,null,null,null,null,null,null,null,null,null,null,null,null,null,null,null,null,null,null,null,null,null,null,null,null,null,null,null,null,null,null,null,null,null,null,null,null,null,null,null,null,null,null,null,null,null,null,null,null,null,null,null,null,null,null,null,null,null,"偃月刀",0,0,0,0,0,0,0,20]
[null,null,null,null,null,null,null,null,null,null,null,null,null,null,null,null,null,null,null,null,null,null,null,null,null,null,null,null,null,null,null,null,null,null,null,null,null,null,null,null,null,null,null,null,null,null,null,null,null,null,null,null,null,null,null,null,null,null,null,null,null,null,null,null,null,null,null,null,null,null,null,"突剣",0,0,0,0,0,0,0,20]
[null,null,null,null,null,null,null,null,null,null,null,null,null,null,null,null,null,null,null,null,null,null,null,null,null,null,null,null,null,null,null,null,null,null,null,null,null,null,null,null,null,null,null,null,null,null,null,null,null,null,null,null,null,null,null,null,null,null,null,null,null,null,null,null,null,null,null,null,null,null,null,"広刃の剣",0,0,0,0,0,0,0,30]
[null,null,null,null,null,null,null,null,null,null,null,null,null,null,null,null,null,null,null,null,null,null,null,null,null,null,null,null,null,null,null,null,null,null,null,null,null,null,null,null,null,null,null,null,null,null,null,null,null,null,null,null,null,null,null,null,null,null,null,null,null,null,null,null,null,null,null,null,null,null,null,"曲刀",0,0,0,0,0,0,0,25]
[null,null,null,null,null,null,null,null,null,null,null,null,null,null,null,null,null,null,null,null,null,null,null,null,null,null,null,null,null,null,null,null,null,null,null,null,null,null,null,null,null,null,null,null,null,null,null,null,null,null,null,null,null,null,null,null,null,null,null,null,null,null,null,null,null,null,null,null,null,null,null,"長剣",0,0,0,0,0,0,0,50]
[null,null,null,null,null,null,null,null,null,null,null,null,null,null,null,null,null,null,null,null,null,null,null,null,null,null,null,null,null,null,null,null,null,null,null,null,null,null,null,null,null,null,null,null,null,null,null,null,null,null,null,null,null,null,null,null,null,null,null,null,null,null,null,null,null,null,null,null,null,null,null,"鮫刃の剣",0,0,0,0,0,0,0,30]
[null,null,null,null,null,null,null,null,null,null,null,null,null,null,null,null,null,null,null,null,null,null,null,null,null,null,null,null,null,null,null,null,null,null,null,null,null,null,null,null,null,null,null,null,null,null,null,null,null,null,null,null,null,null,null,null,null,null,null,null,null,null,null,null,null,null,null,null,null,null,null,"湾刀",0,0,0,0,0,0,0,45]
[null,null,null,null,null,null,null,null,null,null,null,null,null,null,null,null,null,null,null,null,null,null,null,null,null,null,null,null,null,null,null,null,null,null,null,null,null,null,null,null,null,null,null,null,null,null,null,null,null,null,null,null,null,null,null,null,null,null,null,null,null,null,null,null,null,null,null,null,null,null,null,"片手半剣",0,0,0,0,0,0,0,65]
[null,null,null,null,null,null,null,null,null,null,null,null,null,null,null,null,null,null,null,null,null,null,null,null,null,null,null,null,null,null,null,null,null,null,null,null,null,null,null,null,null,null,null,null,null,null,null,null,null,null,null,null,null,null,null,null,null,null,null,null,null,null,null,null,null,null,null,null,null,null,null,"鎧通し",0,0,0,0,0,0,0,45]
[null,null,null,null,null,null,null,null,null,null,null,null,null,null,null,null,null,null,null,null,null,null,null,null,null,null,null,null,null,null,null,null,null,null,null,null,null,null,null,null,null,null,null,null,null,null,null,null,null,null,null,null,null,null,null,null,null,null,null,null,null,null,null,null,null,null,null,null,null,null,null,"炎紋剣",0,0,0,0,0,0,0,100]
[null,null,null,null,null,null,null,null,null,null,null,null,null,null,null,null,null,null,null,null,null,null,null,null,null,null,null,null,null,null,null,null,null,null,null,null,null,null,null,null,null,null,null,null,null,null,null,null,null,null,null,null,null,null,null,null,null,null,null,null,null,null,null,null,null,null,null,null,null,null,null,"大剣",0,0,0,0,0,0,0,85]
[null,null,null,null,null,null,null,null,null,null,null,null,null,null,null,null,null,null,null,null,null,null,null,null,null,null,null,null,null,null,null,null,null,null,null,null,null,null,null,null,null,null,null,null,null,null,null,null,null,null,null,null,null,null,null,null,null,null,null,null,null,null,null,null,null,null,null,null,null,null,null,"袋棍",0,0,0,0,0,0,0,5]
[null,null,null,null,null,null,null,null,null,null,null,null,null,null,null,null,null,null,null,null,null,null,null,null,null,null,null,null,null,null,null,null,null,null,null,null,null,null,null,null,null,null,null,null,null,null,null,null,null,null,null,null,null,null,null,null,null,null,null,null,null,null,null,null,null,null,null,null,null,null,null,"棍棒",0,0,0,0,0,0,0,6]
[null,null,null,null,null,null,null,null,null,null,null,null,null,null,null,null,null,null,null,null,null,null,null,null,null,null,null,null,null,null,null,null,null,null,null,null,null,null,null,null,null,null,null,null,null,null,null,null,null,null,null,null,null,null,null,null,null,null,null,null,null,null,null,null,null,null,null,null,null,null,null,"戦棍",0,0,0,0,0,0,0,20]
[null,null,null,null,null,null,null,null,null,null,null,null,null,null,null,null,null,null,null,null,null,null,null,null,null,null,null,null,null,null,null,null,null,null,null,null,null,null,null,null,null,null,null,null,null,null,null,null,null,null,null,null,null,null,null,null,null,null,null,null,null,null,null,null,null,null,null,null,null,null,null,"片鶴嘴",0,0,0,0,0,0,0,20]
[null,null,null,null,null,null,null,null,null,null,null,null,null,null,null,null,null,null,null,null,null,null,null,null,null,null,null,null,null,null,null,null,null,null,null,null,null,null,null,null,null,null,null,null,null,null,null,null,null,null,null,null,null,null,null,null,null,null,null,null,null,null,null,null,null,null,null,null,null,null,null,"槌鉾",0,0,0,0,0,0,0,30]
[null,null,null,null,null,null,null,null,null,null,null,null,null,null,null,null,null,null,null,null,null,null,null,null,null,null,null,null,null,null,null,null,null,null,null,null,null,null,null,null,null,null,null,null,null,null,null,null,null,null,null,null,null,null,null,null,null,null,null,null,null,null,null,null,null,null,null,null,null,null,null,"刺鉄球",0,0,0,0,0,0,0,25]
[null,null,null,null,null,null,null,null,null,null,null,null,null,null,null,null,null,null,null,null,null,null,null,null,null,null,null,null,null,null,null,null,null,null,null,null,null,null,null,null,null,null,null,null,null,null,null,null,null,null,null,null,null,null,null,null,null,null,null,null,null,null,null,null,null,null,null,null,null,null,null,"戦嘴",0,0,0,0,0,0,0,20]
[null,null,null,null,null,null,null,null,null,null,null,null,null,null,null,null,null,null,null,null,null,null,null,null,null,null,null,null,null,null,null,null,null,null,null,null,null,null,null,null,null,null,null,null,null,null,null,null,null,null,null,null,null,null,null,null,null,null,null,null,null,null,null,null,null,null,null,null,null,null,null,"大戦槌",0,0,0,0,0,0,0,40]
[null,null,null,null,null,null,null,null,null,null,null,null,null,null,null,null,null,null,null,null,null,null,null,null,null,null,null,null,null,null,null,null,null,null,null,null,null,null,null,null,null,null,null,null,null,null,null,null,null,null,null,null,null,null,null,null,null,null,null,null,null,null,null,null,null,null,null,null,null,null,null,"大金棒",0,0,0,0,0,0,0,90]
[null,null,null,null,null,null,null,null,null,null,null,null,null,null,null,null,null,null,null,null,null,null,null,null,null,null,null,null,null,null,null,null,null,null,null,null,null,null,null,null,null,null,null,null,null,null,null,null,null,null,null,null,null,null,null,null,null,null,null,null,null,null,null,null,null,null,null,null,null,null,null,"短弓",0,0,0,0,0,0,0,40]
[null,null,null,null,null,null,null,null,null,null,null,null,null,null,null,null,null,null,null,null,null,null,null,null,null,null,null,null,null,null,null,null,null,null,null,null,null,null,null,null,null,null,null,null,null,null,null,null,null,null,null,null,null,null,null,null,null,null,null,null,null,null,null,null,null,null,null,null,null,null,null,"投矢銃",0,0,0,0,0,0,0,50]
[null,null,null,null,null,null,null,null,null,null,null,null,null,null,null,null,null,null,null,null,null,null,null,null,null,null,null,null,null,null,null,null,null,null,null,null,null,null,null,null,null,null,null,null,null,null,null,null,null,null,null,null,null,null,null,null,null,null,null,null,null,null,null,null,null,null,null,null,null,null,null,"弩",0,0,0,0,0,0,0,40]
[null,null,null,null,null,null,null,null,null,null,null,null,null,null,null,null,null,null,null,null,null,null,null,null,null,null,null,null,null,null,null,null,null,null,null,null,null,null,null,null,null,null,null,null,null,null,null,null,null,null,null,null,null,null,null,null,null,null,null,null,null,null,null,null,null,null,null,null,null,null,null,"長弓",0,0,0,0,0,0,0,115]
[null,null,null,null,null,null,null,null,null,null,null,null,null,null,null,null,null,null,null,null,null,null,null,null,null,null,null,null,null,null,null,null,null,null,null,null,null,null,null,null,null,null,null,null,null,null,null,null,null,null,null,null,null,null,null,null,null,null,null,null,null,null,null,null,null,null,null,null,null,null,null,"大弓",0,0,0,0,0,0,0,125]
[null,null,null,null,null,null,null,null,null,null,null,null,null,null,null,null,null,null,null,null,null,null,null,null,null,null,null,null,null,null,null,null,null,null,null,null,null,null,null,null,null,null,null,null,null,null,null,null,null,null,null,null,null,null,null,null,null,null,null,null,null,null,null,null,null,null,null,null,null,null,null,"弩砲",0,0,0,0,0,0,0,110]
[null,null,null,null,null,null,null,null,null,null,null,null,null,null,null,null,null,null,null,null,null,null,null,null,null,null,null,null,null,null,null,null,null,null,null,null,null,null,null,null,null,null,null,null,null,null,null,null,null,null,null,null,null,null,null,null,null,null,null,null,null,null,null,null,null,null,null,null,null,null,null,"抱大筒",0,0,0,0,0,0,0,630]
[null,null,null,null,null,null,null,null,null,null,null,null,null,null,null,null,null,null,null,null,null,null,null,null,null,null,null,null,null,null,null,null,null,null,null,null,null,null,null,null,null,null,null,null,null,null,null,null,null,null,null,null,null,null,null,null,null,null,null,null,null,null,null,null,null,null,null,null,null,null,null,"投石",0,0,0,0,0,0,0,0]
[null,null,null,null,null,null,null,null,null,null,null,null,null,null,null,null,null,null,null,null,null,null,null,null,null,null,null,null,null,null,null,null,null,null,null,null,null,null,null,null,null,null,null,null,null,null,null,null,null,null,null,null,null,null,null,null,null,null,null,null,null,null,null,null,null,null,null,null,null,null,null,"投矢",0,0,0,0,0,0,0,3]
[null,null,null,null,null,null,null,null,null,null,null,null,null,null,null,null,null,null,null,null,null,null,null,null,null,null,null,null,null,null,null,null,null,null,null,null,null,null,null,null,null,null,null,null,null,null,null,null,null,null,null,null,null,null,null,null,null,null,null,null,null,null,null,null,null,null,null,null,null,null,null,"投分銅",0,0,0,0,0,0,0,15]
[null,null,null,null,null,null,null,null,null,null,null,null,null,null,null,null,null,null,null,null,null,null,null,null,null,null,null,null,null,null,null,null,null,null,null,null,null,null,null,null,null,null,null,null,null,null,null,null,null,null,null,null,null,null,null,null,null,null,null,null,null,null,null,null,null,null,null,null,null,null,null,"飛棍",0,0,0,0,0,0,0,15]
[null,null,null,null,null,null,null,null,null,null,null,null,null,null,null,null,null,null,null,null,null,null,null,null,null,null,null,null,null,null,null,null,null,null,null,null,null,null,null,null,null,null,null,null,null,null,null,null,null,null,null,null,null,null,null,null,null,null,null,null,null,null,null,null,null,null,null,null,null,null,null,"投石紐",0,0,0,0,0,0,0,1]
[null,null,null,null,null,null,null,null,null,null,null,null,null,null,null,null,null,null,null,null,null,null,null,null,null,null,null,null,null,null,null,null,null,null,null,null,null,null,null,null,null,null,null,null,null,null,null,null,null,null,null,null,null,null,null,null,null,null,null,null,null,null,null,null,null,null,null,null,null,null,null,"飛刀",0,0,0,0,0,0,0,20]
[null,null,null,null,null,null,null,null,null,null,null,null,null,null,null,null,null,null,null,null,null,null,null,null,null,null,null,null,null,null,null,null,null,null,null,null,null,null,null,null,null,null,null,null,null,null,null,null,null,null,null,null,null,null,null,null,null,null,null,null,null,null,null,null,null,null,null,null,null,null,null,"戦輪",0,0,0,0,0,0,0,25]
[null,null,null,null,null,null,null,null,null,null,null,null,null,null,null,null,null,null,null,null,null,null,null,null,null,null,null,null,null,null,null,null,null,null,null,null,null,null,null,null,null,null,null,null,null,null,null,null,null,null,null,null,null,null,null,null,null,null,null,null,null,null,null,null,null,null,null,null,null,null,null,"南洋式投げナイフ",0,0,0,0,0,0,0,40]
[null,null,null,null,null,null,null,null,null,null,null,null,null,null,null,null,null,null,null,null,null,null,null,null,null,null,null,null,null,null,null,null,null,null,null,null,null,null,null,null,null,null,null,null,null,null,null,null,null,null,null,null,null,null,null,null,null,null,null,null,null,null,null,null,null,null,null,null,null,null,null,"投石杖",0,0,0,0,0,0,0,30]
[null,null,null,null,null,null,null,null,null,null,null,null,null,null,null,null,null,null,null,null,null,null,null,null,null,null,null,null,null,null,null,null,null,null,null,null,null,null,null,null,null,null,null,null,null,null,null,null,null,null,null,null,null,null,null,null,null,null,null,null,null,null,null,null,null,null,null,null,null,null,null,"血滴子",0,0,0,0,0,0,0,70]
[null,null,null,null,null,null,null,null,null,null,null,null,null,null,null,null,null,null,null,null,null,null,null,null,null,null,null,null,null,null,null,null,null,null,null,null,null,null,null,null,null,null,null,null,null,null,null,null,null,null,null,null,null,null,null,null,null,null,null,null,null,null,null,null,null,null,null,null,null,null,null,"粗悪な斧",0,0,0,0,0,0,0,5]
[null,null,null,null,null,null,null,null,null,null,null,null,null,null,null,null,null,null,null,null,null,null,null,null,null,null,null,null,null,null,null,null,null,null,null,null,null,null,null,null,null,null,null,null,null,null,null,null,null,null,null,null,null,null,null,null,null,null,null,null,null,null,null,null,null,null,null,null,null,null,null,"鉈",0,0,0,0,0,0,0,15]
[null,null,null,null,null,null,null,null,null,null,null,null,null,null,null,null,null,null,null,null,null,null,null,null,null,null,null,null,null,null,null,null,null,null,null,null,null,null,null,null,null,null,null,null,null,null,null,null,null,null,null,null,null,null,null,null,null,null,null,null,null,null,null,null,null,null,null,null,null,null,null,"手斧",0,0,0,0,0,0,0,15]
[null,null,null,null,null,null,null,null,null,null,null,null,null,null,null,null,null,null,null,null,null,null,null,null,null,null,null,null,null,null,null,null,null,null,null,null,null,null,null,null,null,null,null,null,null,null,null,null,null,null,null,null,null,null,null,null,null,null,null,null,null,null,null,null,null,null,null,null,null,null,null,"投斧",0,0,0,0,0,0,0,30]
[null,null,null,null,null,null,null,null,null,null,null,null,null,null,null,null,null,null,null,null,null,null,null,null,null,null,null,null,null,null,null,null,null,null,null,null,null,null,null,null,null,null,null,null,null,null,null,null,null,null,null,null,null,null,null,null,null,null,null,null,null,null,null,null,null,null,null,null,null,null,null,"戦斧",0,0,0,0,0,0,0,35]
[null,null,null,null,null,null,null,null,null,null,null,null,null,null,null,null,null,null,null,null,null,null,null,null,null,null,null,null,null,null,null,null,null,null,null,null,null,null,null,null,null,null,null,null,null,null,null,null,null,null,null,null,null,null,null,null,null,null,null,null,null,null,null,null,null,null,null,null,null,null,null,"大斧",0,0,0,0,0,0,0,40]
[null,null,null,null,null,null,null,null,null,null,null,null,null,null,null,null,null,null,null,null,null,null,null,null,null,null,null,null,null,null,null,null,null,null,null,null,null,null,null,null,null,null,null,null,null,null,null,null,null,null,null,null,null,null,null,null,null,null,null,null,null,null,null,null,null,null,null,null,null,null,null,"斧槍",0,0,0,0,0,0,0,40]
[null,null,null,null,null,null,null,null,null,null,null,null,null,null,null,null,null,null,null,null,null,null,null,null,null,null,null,null,null,null,null,null,null,null,null,null,null,null,null,null,null,null,null,null,null,null,null,null,null,null,null,null,null,null,null,null,null,null,null,null,null,null,null,null,null,null,null,null,null,null,null,"粗悪な槍",0,0,0,0,0,0,0,5]
[null,null,null,null,null,null,null,null,null,null,null,null,null,null,null,null,null,null,null,null,null,null,null,null,null,null,null,null,null,null,null,null,null,null,null,null,null,null,null,null,null,null,null,null,null,null,null,null,null,null,null,null,null,null,null,null,null,null,null,null,null,null,null,null,null,null,null,null,null,null,null,"投槍",0,0,0,0,0,0,0,20]
[null,null,null,null,null,null,null,null,null,null,null,null,null,null,null,null,null,null,null,null,null,null,null,null,null,null,null,null,null,null,null,null,null,null,null,null,null,null,null,null,null,null,null,null,null,null,null,null,null,null,null,null,null,null,null,null,null,null,null,null,null,null,null,null,null,null,null,null,null,null,null,"短槍",0,0,0,0,0,0,0,15]
[null,null,null,null,null,null,null,null,null,null,null,null,null,null,null,null,null,null,null,null,null,null,null,null,null,null,null,null,null,null,null,null,null,null,null,null,null,null,null,null,null,null,null,null,null,null,null,null,null,null,null,null,null,null,null,null,null,null,null,null,null,null,null,null,null,null,null,null,null,null,null,"小槍",0,0,0,0,0,0,0,30]
[null,null,null,null,null,null,null,null,null,null,null,null,null,null,null,null,null,null,null,null,null,null,null,null,null,null,null,null,null,null,null,null,null,null,null,null,null,null,null,null,null,null,null,null,null,null,null,null,null,null,null,null,null,null,null,null,null,null,null,null,null,null,null,null,null,null,null,null,null,null,null,"鉄小槍",0,0,0,0,0,0,0,55]
[null,null,null,null,null,null,null,null,null,null,null,null,null,null,null,null,null,null,null,null,null,null,null,null,null,null,null,null,null,null,null,null,null,null,null,null,null,null,null,null,null,null,null,null,null,null,null,null,null,null,null,null,null,null,null,null,null,null,null,null,null,null,null,null,null,null,null,null,null,null,null,"農叉",0,0,0,0,0,0,0,15]
[null,null,null,null,null,null,null,null,null,null,null,null,null,null,null,null,null,null,null,null,null,null,null,null,null,null,null,null,null,null,null,null,null,null,null,null,null,null,null,null,null,null,null,null,null,null,null,null,null,null,null,null,null,null,null,null,null,null,null,null,null,null,null,null,null,null,null,null,null,null,null,"三叉槍",0,0,0,0,0,0,0,35]
[null,null,null,null,null,null,null,null,null,null,null,null,null,null,null,null,null,null,null,null,null,null,null,null,null,null,null,null,null,null,null,null,null,null,null,null,null,null,null,null,null,null,null,null,null,null,null,null,null,null,null,null,null,null,null,null,null,null,null,null,null,null,null,null,null,null,null,null,null,null,null,"長槍",0,0,0,0,0,0,0,55]
[null,null,null,null,null,null,null,null,null,null,null,null,null,null,null,null,null,null,null,null,null,null,null,null,null,null,null,null,null,null,null,null,null,null,null,null,null,null,null,null,null,null,null,null,null,null,null,null,null,null,null,null,null,null,null,null,null,null,null,null,null,null,null,null,null,null,null,null,null,null,null,"薙刀",0,0,0,0,0,0,0,70]
[null,null,null,null,null,null,null,null,null,null,null,null,null,null,null,null,null,null,null,null,null,null,null,null,null,null,null,null,null,null,null,null,null,null,null,null,null,null,null,null,null,null,null,null,null,null,null,null,null,null,null,null,null,null,null,null,null,null,null,null,null,null,null,null,null,null,null,null,null,null,null,"戦槍",0,0,0,0,0,0,0,40]
[null,null,null,null,null,null,null,null,null,null,null,null,null,null,null,null,null,null,null,null,null,null,null,null,null,null,null,null,null,null,null,null,null,null,null,null,null,null,null,null,null,null,null,null,null,null,null,null,null,null,null,null,null,null,null,null,null,null,null,null,null,null,null,null,null,null,null,null,null,null,null,"紅玉の杖",0,0,0,0,0,0,0,50]
[null,null,null,null,null,null,null,null,null,null,null,null,null,null,null,null,null,null,null,null,null,null,null,null,null,null,null,null,null,null,null,null,null,null,null,null,null,null,null,null,null,null,null,null,null,null,null,null,null,null,null,null,null,null,null,null,null,null,null,null,null,null,null,null,null,null,null,null,null,null,null,"錫杖",0,0,0,0,0,0,0,50]
[null,null,null,null,null,null,null,null,null,null,null,null,null,null,null,null,null,null,null,null,null,null,null,null,null,null,null,null,null,null,null,null,null,null,null,null,null,null,null,null,null,null,null,null,null,null,null,null,null,null,null,null,null,null,null,null,null,null,null,null,null,null,null,null,null,null,null,null,null,null,null,"司教杖",0,0,0,0,0,0,0,180]
[null,null,null,null,null,null,null,null,null,null,null,null,null,null,null,null,null,null,null,null,null,null,null,null,null,null,null,null,null,null,null,null,null,null,null,null,null,null,null,null,null,null,null,null,null,null,null,null,null,null,null,null,null,null,null,null,null,null,null,null,null,null,null,null,null,null,null,null,null,null,null,"六尺棒",0,0,0,0,0,0,0,18]
[null,null,null,null,null,null,null,null,null,null,null,null,null,null,null,null,null,null,null,null,null,null,null,null,null,null,null,null,null,null,null,null,null,null,null,null,null,null,null,null,null,null,null,null,null,null,null,null,null,null,null,null,null,null,null,null,null,null,null,null,null,null,null,null,null,null,null,null,null,null,null,"双節棍",0,0,0,0,0,0,0,20]
[null,null,null,null,null,null,null,null,null,null,null,null,null,null,null,null,null,null,null,null,null,null,null,null,null,null,null,null,null,null,null,null,null,null,null,null,null,null,null,null,null,null,null,null,null,null,null,null,null,null,null,null,null,null,null,null,null,null,null,null,null,null,null,null,null,null,null,null,null,null,null,"打狗棒",0,0,0,0,0,0,0,60]
[null,null,null,null,null,null,null,null,null,null,null,null,null,null,null,null,null,null,null,null,null,null,null,null,null,null,null,null,null,null,null,null,null,null,null,null,null,null,null,null,null,null,null,null,null,null,null,null,null,null,null,null,null,null,null,null,null,null,null,null,null,null,null,null,null,null,null,null,null,null,null,"連節棍",0,0,0,0,0,0,0,20]
[null,null,null,null,null,null,null,null,null,null,null,null,null,null,null,null,null,null,null,null,null,null,null,null,null,null,null,null,null,null,null,null,null,null,null,null,null,null,null,null,null,null,null,null,null,null,null,null,null,null,null,null,null,null,null,null,null,null,null,null,null,null,null,null,null,null,null,null,null,null,null,"金砕棒",0,0,0,0,0,0,0,80]
[null,null,null,null,null,null,null,null,null,null,null,null,null,null,null,null,null,null,null,null,null,null,null,null,null,null,null,null,null,null,null,null,null,null,null,null,null,null,null,null,null,null,null,null,null,null,null,null,null,null,null,null,null,null,null,null,null,null,null,null,null,null,null,null,null,null,null,null,null,null,null,"鞭",0,0,0,0,0,0,0,10]
[null,null,null,null,null,null,null,null,null,null,null,null,null,null,null,null,null,null,null,null,null,null,null,null,null,null,null,null,null,null,null,null,null,null,null,null,null,null,null,null,null,null,null,null,null,null,null,null,null,null,null,null,null,null,null,null,null,null,null,null,null,null,null,null,null,null,null,null,null,null,null,"聖鞭",0,0,0,0,0,0,0,145]
[null,null,null,null,null,null,null,null,null,null,null,null,null,null,null,null,null,null,null,null,null,null,null,null,null,null,null,null,null,null,null,null,null,null,null,null,null,null,null,null,null,null,null,null,null,null,null,null,null,null,null,null,null,null,null,null,null,null,null,null,null,null,null,null,null,null,null,null,null,null,null,"拳帯",0,0,0,0,0,0,0,18]
[null,null,null,null,null,null,null,null,null,null,null,null,null,null,null,null,null,null,null,null,null,null,null,null,null,null,null,null,null,null,null,null,null,null,null,null,null,null,null,null,null,null,null,null,null,null,null,null,null,null,null,null,null,null,null,null,null,null,null,null,null,null,null,null,null,null,null,null,null,null,null,"打布槍",0,0,0,0,0,0,0,10]
[null,null,null,null,null,null,null,null,null,null,null,null,null,null,null,null,null,null,null,null,null,null,null,null,null,null,null,null,null,null,null,null,null,null,null,null,null,null,null,null,null,null,null,null,null,null,null,null,null,null,null,null,null,null,null,null,null,null,null,null,null,null,null,null,null,null,null,null,null,null,null,"旋棍",0,0,0,0,0,0,0,25]
[null,null,null,null,null,null,null,null,null,null,null,null,null,null,null,null,null,null,null,null,null,null,null,null,null,null,null,null,null,null,null,null,null,null,null,null,null,null,null,null,null,null,null,null,null,null,null,null,null,null,null,null,null,null,null,null,null,null,null,null,null,null,null,null,null,null,null,null,null,null,null,"虎爪",0,0,0,0,0,0,0,30]
[null,null,null,null,null,null,null,null,null,null,null,null,null,null,null,null,null,null,null,null,null,null,null,null,null,null,null,null,null,null,null,null,null,null,null,null,null,null,null,null,null,null,null,null,null,null,null,null,null,null,null,null,null,null,null,null,null,null,null,null,null,null,null,null,null,null,null,null,null,null,null,"長傘",0,0,0,0,0,0,0,20]
[null,null,null,null,null,null,null,null,null,null,null,null,null,null,null,null,null,null,null,null,null,null,null,null,null,null,null,null,null,null,null,null,null,null,null,null,null,null,null,null,null,null,null,null,null,null,null,null,null,null,null,null,null,null,null,null,null,null,null,null,null,null,null,null,null,null,null,null,null,null,null,"鉄靴",0,0,0,0,0,0,0,25]
[null,null,null,null,null,null,null,null,null,null,null,null,null,null,null,null,null,null,null,null,null,null,null,null,null,null,null,null,null,null,null,null,null,null,null,null,null,null,null,null,null,null,null,null,null,null,null,null,null,null,null,null,null,null,null,null,null,null,null,null,null,null,null,null,null,null,null,null,null,null,null,"拳鍔",0,0,0,0,0,0,0,55]
[null,null,null,null,null,null,null,null,null,null,null,null,null,null,null,null,null,null,null,null,null,null,null,null,null,null,null,null,null,null,null,null,null,null,null,null,null,null,null,null,null,null,null,null,null,null,null,null,null,null,null,null,null,null,null,null,null,null,null,null,null,null,null,null,null,null,null,null,null,null,null,"鉄拳",0,0,0,0,0,0,0,70]
[null,null,null,null,null,null,null,null,null,null,null,null,null,null,null,null,null,null,null,null,null,null,null,null,null,null,null,null,null,null,null,null,null,null,null,null,null,null,null,null,null,null,null,null,null,null,null,null,null,null,null,null,null,null,null,null,null,null,null,null,null,null,null,null,null,null,null,null,null,null,null,"朝露の短剣",0,0,0,0,0,0,0,1100]
[null,null,null,null,null,null,null,null,null,null,null,null,null,null,null,null,null,null,null,null,null,null,null,null,null,null,null,null,null,null,null,null,null,null,null,null,null,null,null,null,null,null,null,null,null,null,null,null,null,null,null,null,null,null,null,null,null,null,null,null,null,null,null,null,null,null,null,null,null,null,null,"魔法の短剣（＋１）",0,0,0,0,0,0,0,150]
[null,null,null,null,null,null,null,null,null,null,null,null,null,null,null,null,null,null,null,null,null,null,null,null,null,null,null,null,null,null,null,null,null,null,null,null,null,null,null,null,null,null,null,null,null,null,null,null,null,null,null,null,null,null,null,null,null,null,null,null,null,null,null,null,null,null,null,null,null,null,null,"銀の短剣",0,0,0,0,0,0,0,30]
[null,null,null,null,null,null,null,null,null,null,null,null,null,null,null,null,null,null,null,null,null,null,null,null,null,null,null,null,null,null,null,null,null,null,null,null,null,null,null,null,null,null,null,null,null,null,null,null,null,null,null,null,null,null,null,null,null,null,null,null,null,null,null,null,null,null,null,null,null,null,null,"魔法の短剣（＋２）",0,0,0,0,0,0,0,1100]
[null,null,null,null,null,null,null,null,null,null,null,null,null,null,null,null,null,null,null,null,null,null,null,null,null,null,null,null,null,null,null,null,null,null,null,null,null,null,null,null,null,null,null,null,null,null,null,null,null,null,null,null,null,null,null,null,null,null,null,null,null,null,null,null,null,null,null,null,null,null,null,"外套",0,0,0,0,0,0,0,12]
[null,null,null,null,null,null,null,null,null,null,null,null,null,null,null,null,null,null,null,null,null,null,null,null,null,null,null,null,null,null,null,null,null,null,null,null,null,null,null,null,null,null,null,null,null,null,null,null,null,null,null,null,null,null,null,null,null,null,null,null,null,null,null,null,null,null,null,null,null,null,null,"布鎧",0,0,0,0,0,0,0,15]
[null,null,null,null,null,null,null,null,null,null,null,null,null,null,null,null,null,null,null,null,null,null,null,null,null,null,null,null,null,null,null,null,null,null,null,null,null,null,null,null,null,null,null,null,null,null,null,null,null,null,null,null,null,null,null,null,null,null,null,null,null,null,null,null,null,null,null,null,null,null,null,"旅人の外套",0,0,0,0,0,0,0,25]
[null,null,null,null,null,null,null,null,null,null,null,null,null,null,null,null,null,null,null,null,null,null,null,null,null,null,null,null,null,null,null,null,null,null,null,null,null,null,null,null,null,null,null,null,null,null,null,null,null,null,null,null,null,null,null,null,null,null,null,null,null,null,null,null,null,null,null,null,null,null,null,"綿鎧",0,0,0,0,0,0,0,30]
[null,null,null,null,null,null,null,null,null,null,null,null,null,null,null,null,null,null,null,null,null,null,null,null,null,null,null,null,null,null,null,null,null,null,null,null,null,null,null,null,null,null,null,null,null,null,null,null,null,null,null,null,null,null,null,null,null,null,null,null,null,null,null,null,null,null,null,null,null,null,null,"神官服",0,0,0,0,0,0,0,25]
[null,null,null,null,null,null,null,null,null,null,null,null,null,null,null,null,null,null,null,null,null,null,null,null,null,null,null,null,null,null,null,null,null,null,null,null,null,null,null,null,null,null,null,null,null,null,null,null,null,null,null,null,null,null,null,null,null,null,null,null,null,null,null,null,null,null,null,null,null,null,null,"司教服",0,0,0,0,0,0,0,80]
[null,null,null,null,null,null,null,null,null,null,null,null,null,null,null,null,null,null,null,null,null,null,null,null,null,null,null,null,null,null,null,null,null,null,null,null,null,null,null,null,null,null,null,null,null,null,null,null,null,null,null,null,null,null,null,null,null,null,null,null,null,null,null,null,null,null,null,null,null,null,null,"野伏の外套",0,0,0,0,0,0,0,35]
[null,null,null,null,null,null,null,null,null,null,null,null,null,null,null,null,null,null,null,null,null,null,null,null,null,null,null,null,null,null,null,null,null,null,null,null,null,null,null,null,null,null,null,null,null,null,null,null,null,null,null,null,null,null,null,null,null,null,null,null,null,null,null,null,null,null,null,null,null,null,null,"狩人の外套",0,0,0,0,0,0,0,40]
[null,null,null,null,null,null,null,null,null,null,null,null,null,null,null,null,null,null,null,null,null,null,null,null,null,null,null,null,null,null,null,null,null,null,null,null,null,null,null,null,null,null,null,null,null,null,null,null,null,null,null,null,null,null,null,null,null,null,null,null,null,null,null,null,null,null,null,null,null,null,null,"革鎧",0,0,0,0,0,0,0,30]
[null,null,null,null,null,null,null,null,null,null,null,null,null,null,null,null,null,null,null,null,null,null,null,null,null,null,null,null,null,null,null,null,null,null,null,null,null,null,null,null,null,null,null,null,null,null,null,null,null,null,null,null,null,null,null,null,null,null,null,null,null,null,null,null,null,null,null,null,null,null,null,"硬い革鎧",0,0,0,0,0,0,0,40]
[null,null,null,null,null,null,null,null,null,null,null,null,null,null,null,null,null,null,null,null,null,null,null,null,null,null,null,null,null,null,null,null,null,null,null,null,null,null,null,null,null,null,null,null,null,null,null,null,null,null,null,null,null,null,null,null,null,null,null,null,null,null,null,null,null,null,null,null,null,null,null,"胸甲",0,0,0,0,0,0,0,85]
[null,null,null,null,null,null,null,null,null,null,null,null,null,null,null,null,null,null,null,null,null,null,null,null,null,null,null,null,null,null,null,null,null,null,null,null,null,null,null,null,null,null,null,null,null,null,null,null,null,null,null,null,null,null,null,null,null,null,null,null,null,null,null,null,null,null,null,null,null,null,null,"下着鎧",0,0,0,0,0,0,0,150]
[null,null,null,null,null,null,null,null,null,null,null,null,null,null,null,null,null,null,null,null,null,null,null,null,null,null,null,null,null,null,null,null,null,null,null,null,null,null,null,null,null,null,null,null,null,null,null,null,null,null,null,null,null,null,null,null,null,null,null,null,null,null,null,null,null,null,null,null,null,null,null,"鋲付きの革鎧",0,0,0,0,0,0,0,60]
[null,null,null,null,null,null,null,null,null,null,null,null,null,null,null,null,null,null,null,null,null,null,null,null,null,null,null,null,null,null,null,null,null,null,null,null,null,null,null,null,null,null,null,null,null,null,null,null,null,null,null,null,null,null,null,null,null,null,null,null,null,null,null,null,null,null,null,null,null,null,null,"鎖帷子",0,0,0,0,0,0,0,85]
[null,null,null,null,null,null,null,null,null,null,null,null,null,null,null,null,null,null,null,null,null,null,null,null,null,null,null,null,null,null,null,null,null,null,null,null,null,null,null,null,null,null,null,null,null,null,null,null,null,null,null,null,null,null,null,null,null,null,null,null,null,null,null,null,null,null,null,null,null,null,null,"鱗状鎧",0,0,0,0,0,0,0,120]
[null,null,null,null,null,null,null,null,null,null,null,null,null,null,null,null,null,null,null,null,null,null,null,null,null,null,null,null,null,null,null,null,null,null,null,null,null,null,null,null,null,null,null,null,null,null,null,null,null,null,null,null,null,null,null,null,null,null,null,null,null,null,null,null,null,null,null,null,null,null,null,"板状鎧",0,0,0,0,0,0,0,135]
[null,null,null,null,null,null,null,null,null,null,null,null,null,null,null,null,null,null,null,null,null,null,null,null,null,null,null,null,null,null,null,null,null,null,null,null,null,null,null,null,null,null,null,null,null,null,null,null,null,null,null,null,null,null,null,null,null,null,null,null,null,null,null,null,null,null,null,null,null,null,null,"小札鎧",0,0,0,0,0,0,0,195]
[null,null,null,null,null,null,null,null,null,null,null,null,null,null,null,null,null,null,null,null,null,null,null,null,null,null,null,null,null,null,null,null,null,null,null,null,null,null,null,null,null,null,null,null,null,null,null,null,null,null,null,null,null,null,null,null,null,null,null,null,null,null,null,null,null,null,null,null,null,null,null,"胴鎧",0,0,0,0,0,0,0,270]
[null,null,null,null,null,null,null,null,null,null,null,null,null,null,null,null,null,null,null,null,null,null,null,null,null,null,null,null,null,null,null,null,null,null,null,null,null,null,null,null,null,null,null,null,null,null,null,null,null,null,null,null,null,null,null,null,null,null,null,null,null,null,null,null,null,null,null,null,null,null,null,"板金鎧",0,0,0,0,0,0,0,460]
[null,null,null,null,null,null,null,null,null,null,null,null,null,null,null,null,null,null,null,null,null,null,null,null,null,null,null,null,null,null,null,null,null,null,null,null,null,null,null,null,null,null,null,null,null,null,null,null,null,null,null,null,null,null,null,null,null,null,null,null,null,null,null,null,null,null,null,null,null,null,null,"当世具足",0,0,0,0,0,0,0,600]
[null,null,null,null,null,null,null,null,null,null,null,null,null,null,null,null,null,null,null,null,null,null,null,null,null,null,null,null,null,null,null,null,null,null,null,null,null,null,null,null,null,null,null,null,null,null,null,null,null,null,null,null,null,null,null,null,null,null,null,null,null,null,null,null,null,null,null,null,null,null,null,"魔法の鋲付きの革鎧（＋１）",0,0,0,0,0,0,0,400]
[null,null,null,null,null,null,null,null,null,null,null,null,null,null,null,null,null,null,null,null,null,null,null,null,null,null,null,null,null,null,null,null,null,null,null,null,null,null,null,null,null,null,null,null,null,null,null,null,null,null,null,null,null,null,null,null,null,null,null,null,null,null,null,null,null,null,null,null,null,null,null,"魔法の鋲付きの革鎧（＋２）",0,0,0,0,0,0,0,1600]
[null,null,null,null,null,null,null,null,null,null,null,null,null,null,null,null,null,null,null,null,null,null,null,null,null,null,null,null,null,null,null,null,null,null,null,null,null,null,null,null,null,null,null,null,null,null,null,null,null,null,null,null,null,null,null,null,null,null,null,null,null,null,null,null,null,null,null,null,null,null,null,"大篭手",0,0,0,0,0,0,0,13]
[null,null,null,null,null,null,null,null,null,null,null,null,null,null,null,null,null,null,null,null,null,null,null,null,null,null,null,null,null,null,null,null,null,null,null,null,null,null,null,null,null,null,null,null,null,null,null,null,null,null,null,null,null,null,null,null,null,null,null,null,null,null,null,null,null,null,null,null,null,null,null,"小盾",0,0,0,0,0,0,0,25]
[null,null,null,null,null,null,null,null,null,null,null,null,null,null,null,null,null,null,null,null,null,null,null,null,null,null,null,null,null,null,null,null,null,null,null,null,null,null,null,null,null,null,null,null,null,null,null,null,null,null,null,null,null,null,null,null,null,null,null,null,null,null,null,null,null,null,null,null,null,null,null,"円盾",0,0,0,0,0,0,0,35]
[null,null,null,null,null,null,null,null,null,null,null,null,null,null,null,null,null,null,null,null,null,null,null,null,null,null,null,null,null,null,null,null,null,null,null,null,null,null,null,null,null,null,null,null,null,null,null,null,null,null,null,null,null,null,null,null,null,null,null,null,null,null,null,null,null,null,null,null,null,null,null,"吊盾",0,0,0,0,0,0,0,40]
[null,null,null,null,null,null,null,null,null,null,null,null,null,null,null,null,null,null,null,null,null,null,null,null,null,null,null,null,null,null,null,null,null,null,null,null,null,null,null,null,null,null,null,null,null,null,null,null,null,null,null,null,null,null,null,null,null,null,null,null,null,null,null,null,null,null,null,null,null,null,null,"投火盾",0,0,0,0,0,0,0,85]
[null,null,null,null,null,null,null,null,null,null,null,null,null,null,null,null,null,null,null,null,null,null,null,null,null,null,null,null,null,null,null,null,null,null,null,null,null,null,null,null,null,null,null,null,null,null,null,null,null,null,null,null,null,null,null,null,null,null,null,null,null,null,null,null,null,null,null,null,null,null,null,"尖盾",0,0,0,0,0,0,0,45]
[null,null,null,null,null,null,null,null,null,null,null,null,null,null,null,null,null,null,null,null,null,null,null,null,null,null,null,null,null,null,null,null,null,null,null,null,null,null,null,null,null,null,null,null,null,null,null,null,null,null,null,null,null,null,null,null,null,null,null,null,null,null,null,null,null,null,null,null,null,null,null,"馬上盾",0,0,0,0,0,0,0,50]
[null,null,null,null,null,null,null,null,null,null,null,null,null,null,null,null,null,null,null,null,null,null,null,null,null,null,null,null,null,null,null,null,null,null,null,null,null,null,null,null,null,null,null,null,null,null,null,null,null,null,null,null,null,null,null,null,null,null,null,null,null,null,null,null,null,null,null,null,null,null,null,"騎士盾",0,0,0,0,0,0,0,70]
[null,null,null,null,null,null,null,null,null,null,null,null,null,null,null,null,null,null,null,null,null,null,null,null,null,null,null,null,null,null,null,null,null,null,null,null,null,null,null,null,null,null,null,null,null,null,null,null,null,null,null,null,null,null,null,null,null,null,null,null,null,null,null,null,null,null,null,null,null,null,null,"大盾",0,0,0,0,0,0,0,80]
[null,null,null,null,null,null,null,null,null,null,null,null,null,null,null,null,null,null,null,null,null,null,null,null,null,null,null,null,null,null,null,null,null,null,null,null,null,null,null,null,null,null,null,null,null,null,null,null,null,null,null,null,null,null,null,null,null,null,null,null,null,null,null,null,null,null,null,null,null,null,null,"魔法の小盾（＋１）",0,0,0,0,0,0,0,225]
[null,null,null,null,null,null,null,null,null,null,null,null,null,null,null,null,null,null,null,null,null,null,null,null,null,null,null,null,null,null,null,null,null,null,null,null,null,null,null,null,null,null,null,null,null,null,null,null,null,null,null,null,null,null,null,null,null,null,null,null,null,null,null,null,null,null,null,null,null,null,null,"邪紋の短剣",0,0,0,0,0,0,0,1100]
[null,null,null,null,null,null,null,null,null,null,null,null,null,null,null,null,null,null,null,null,null,null,null,null,null,null,null,null,null,null,null,null,null,null,null,null,null,null,null,null,null,null,null,null,null,null,null,null,null,null,null,null,null,null,null,null,null,null,null,null,null,null,null,null,null,null,null,null,null,null,null,"竜髭の短弓",0,0,0,0,0,0,0,1400]
[null,null,null,null,null,null,null,null,null,null,null,null,null,null,null,null,null,null,null,null,null,null,null,null,null,null,null,null,null,null,null,null,null,null,null,null,null,null,null,null,null,null,null,null,null,null,null,null,null,null,null,null,null,null,null,null,null,null,null,null,null,null,null,null,null,null,null,null,null,null,null,"竜鱗の吊盾",0,0,0,0,0,0,0,1400]
[null,null,null,null,null,null,null,null,null,null,null,null,null,null,null,null,null,null,null,null,null,null,null,null,null,null,null,null,null,null,null,null,null,null,null,null,null,null,null,null,null,null,null,null,null,null,null,null,null,null,null,null,null,null,null,null,null,null,null,null,null,null,null,null,null,null,null,null,null,null,null,"邪紋の短剣（＋２）",0,0,0,0,0,0,0,10300]
[null,null,null,null,null,null,null,null,null,null,null,null,null,null,null,null,null,null,null,null,null,null,null,null,null,null,null,null,null,null,null,null,null,null,null,null,null,null,null,null,null,null,null,null,null,null,null,null,null,null,null,null,null,null,null,null,null,null,null,null,null,null,null,null,null,null,null,null,null,null,null,"銀の矢",0,0,0,0,0,0,0,5]
[null,null,null,null,null,null,null,null,null,null,null,null,null,null,null,null,null,null,null,null,null,null,null,null,null,null,null,null,null,null,null,null,null,null,null,null,null,null,null,null,null,null,null,null,null,null,null,null,null,null,null,null,null,null,null,null,null,null,null,null,null,null,null,null,null,null,null,null,null,null,null,"黄金の蜂蜜酒",0,0,0,0,0,0,0,360]
[null,null,null,null,null,null,null,null,null,null,null,null,null,null,null,null,null,null,null,null,null,null,null,null,null,null,null,null,null,null,null,null,null,null,null,null,null,null,null,null,null,null,null,null,null,null,null,null,null,null,null,null,null,null,null,null,null,null,null,null,null,null,null,null,null,null,null,null,null,null,null,"蜂蜜",0,0,0,0,0,0,0,3]
[null,null,null,null,null,null,null,null,null,null,null,null,null,null,null,null,null,null,null,null,null,null,null,null,null,null,null,null,null,null,null,null,null,null,null,null,null,null,null,null,null,null,null,null,null,null,null,null,null,null,null,null,null,null,null,null,null,null,null,null,null,null,null,null,null,null,null,null,null,null,null,"巨大鼠の尻尾",0,0,0,0,0,0,0,0]
[null,null,null,null,null,null,null,null,null,null,null,null,null,null,null,null,null,null,null,null,null,null,null,null,null,null,null,null,null,null,null,null,null,null,null,null,null,null,null,null,null,null,null,null,null,null,null,null,null,null,null,null,null,null,null,null,null,null,null,null,null,null,null,null,null,null,null,null,null,null,null,"巨大鼠の尻尾x2",0,0,0,0,0,0,0,0]
[null,null,null,null,null,null,null,null,null,null,null,null,null,null,null,null,null,null,null,null,null,null,null,null,null,null,null,null,null,null,null,null,null,null,null,null,null,null,null,null,null,null,null,null,null,null,null,null,null,null,null,null,null,null,null,null,null,null,null,null,null,null,null,null,null,null,null,null,null,null,null,"巨大鼠の尻尾x3",0,0,0,0,0,0,0,0]
[null,null,null,null,null,null,null,null,null,null,null,null,null,null,null,null,null,null,null,null,null,null,null,null,null,null,null,null,null,null,null,null,null,null,null,null,null,null,null,null,null,null,null,null,null,null,null,null,null,null,null,null,null,null,null,null,null,null,null,null,null,null,null,null,null,null,null,null,null,null,null,"巨大鼠の尻尾x4",0,0,0,0,0,0,0,0]
[null,null,null,null,null,null,null,null,null,null,null,null,null,null,null,null,null,null,null,null,null,null,null,null,null,null,null,null,null,null,null,null,null,null,null,null,null,null,null,null,null,null,null,null,null,null,null,null,null,null,null,null,null,null,null,null,null,null,null,null,null,null,null,null,null,null,null,null,null,null,null,"巨大鼠の尻尾x5",0,0,0,0,0,0,0,0]
[null,null,null,null,null,null,null,null,null,null,null,null,null,null,null,null,null,null,null,null,null,null,null,null,null,null,null,null,null,null,null,null,null,null,null,null,null,null,null,null,null,null,null,null,null,null,null,null,null,null,null,null,null,null,null,null,null,null,null,null,null,null,null,null,null,null,null,null,null,null,null,"体力強化の指輪（＋１）",0,0,0,0,0,0,0,2000]
[null,null,null,null,null,null,null,null,null,null,null,null,null,null,null,null,null,null,null,null,null,null,null,null,null,null,null,null,null,null,null,null,null,null,null,null,null,null,null,null,null,null,null,null,null,null,null,null,null,null,null,null,null,null,null,null,null,null,null,null,null,null,null,null,null,null,null,null,null,null,null,"体力強化の指輪（＋２）",0,0,0,0,0,0,0,5000]
[null,null,null,null,null,null,null,null,null,null,null,null,null,null,null,null,null,null,null,null,null,null,null,null,null,null,null,null,null,null,null,null,null,null,null,null,null,null,null,null,null,null,null,null,null,null,null,null,null,null,null,null,null,null,null,null,null,null,null,null,null,null,null,null,null,null,null,null,null,null,null,"体力強化の指輪（＋３）",0,0,0,0,0,0,0,20000]
[null,null,null,null,null,null,null,null,null,null,null,null,null,null,null,null,null,null,null,null,null,null,null,null,null,null,null,null,null,null,null,null,null,null,null,null,null,null,null,null,null,null,null,null,null,null,null,null,null,null,null,null,null,null,null,null,null,null,null,null,null,null,null,null,null,null,null,null,null,null,null,"魂魄強化の指輪（＋１）",0,0,0,0,0,0,0,2000]
[null,null,null,null,null,null,null,null,null,null,null,null,null,null,null,null,null,null,null,null,null,null,null,null,null,null,null,null,null,null,null,null,null,null,null,null,null,null,null,null,null,null,null,null,null,null,null,null,null,null,null,null,null,null,null,null,null,null,null,null,null,null,null,null,null,null,null,null,null,null,null,"魂魄強化の指輪（＋２）",0,0,0,0,0,0,0,5000]
[null,null,null,null,null,null,null,null,null,null,null,null,null,null,null,null,null,null,null,null,null,null,null,null,null,null,null,null,null,null,null,null,null,null,null,null,null,null,null,null,null,null,null,null,null,null,null,null,null,null,null,null,null,null,null,null,null,null,null,null,null,null,null,null,null,null,null,null,null,null,null,"魂魄強化の指輪（＋３）",0,0,0,0,0,0,0,20000]
[null,null,null,null,null,null,null,null,null,null,null,null,null,null,null,null,null,null,null,null,null,null,null,null,null,null,null,null,null,null,null,null,null,null,null,null,null,null,null,null,null,null,null,null,null,null,null,null,null,null,null,null,null,null,null,null,null,null,null,null,null,null,null,null,null,null,null,null,null,null,null,"技量強化の指輪（＋１）",0,0,0,0,0,0,0,2000]
[null,null,null,null,null,null,null,null,null,null,null,null,null,null,null,null,null,null,null,null,null,null,null,null,null,null,null,null,null,null,null,null,null,null,null,null,null,null,null,null,null,null,null,null,null,null,null,null,null,null,null,null,null,null,null,null,null,null,null,null,null,null,null,null,null,null,null,null,null,null,null,"技量強化の指輪（＋２）",0,0,0,0,0,0,0,5000]
[null,null,null,null,null,null,null,null,null,null,null,null,null,null,null,null,null,null,null,null,null,null,null,null,null,null,null,null,null,null,null,null,null,null,null,null,null,null,null,null,null,null,null,null,null,null,null,null,null,null,null,null,null,null,null,null,null,null,null,null,null,null,null,null,null,null,null,null,null,null,null,"技量強化の指輪（＋３）",0,0,0,0,0,0,0,20000]
[null,null,null,null,null,null,null,null,null,null,null,null,null,null,null,null,null,null,null,null,null,null,null,null,null,null,null,null,null,null,null,null,null,null,null,null,null,null,null,null,null,null,null,null,null,null,null,null,null,null,null,null,null,null,null,null,null,null,null,null,null,null,null,null,null,null,null,null,null,null,null,"知力強化の指輪（＋１）",0,0,0,0,0,0,0,2000]
[null,null,null,null,null,null,null,null,null,null,null,null,null,null,null,null,null,null,null,null,null,null,null,null,null,null,null,null,null,null,null,null,null,null,null,null,null,null,null,null,null,null,null,null,null,null,null,null,null,null,null,null,null,null,null,null,null,null,null,null,null,null,null,null,null,null,null,null,null,null,null,"知力強化の指輪（＋２）",0,0,0,0,0,0,0,5000]
[null,null,null,null,null,null,null,null,null,null,null,null,null,null,null,null,null,null,null,null,null,null,null,null,null,null,null,null,null,null,null,null,null,null,null,null,null,null,null,null,null,null,null,null,null,null,null,null,null,null,null,null,null,null,null,null,null,null,null,null,null,null,null,null,null,null,null,null,null,null,null,"知力強化の指輪（＋３）",0,0,0,0,0,0,0,20000]
[null,null,null,null,null,null,null,null,null,null,null,null,null,null,null,null,null,null,null,null,null,null,null,null,null,null,null,null,null,null,null,null,null,null,null,null,null,null,null,null,null,null,null,null,null,null,null,null,null,null,null,null,null,null,null,null,null,null,null,null,null,null,null,null,null,null,null,null,null,null,null,"剣術熟達の腕輪（＋１）",0,0,0,0,0,0,0,1000]
[null,null,null,null,null,null,null,null,null,null,null,null,null,null,null,null,null,null,null,null,null,null,null,null,null,null,null,null,null,null,null,null,null,null,null,null,null,null,null,null,null,null,null,null,null,null,null,null,null,null,null,null,null,null,null,null,null,null,null,null,null,null,null,null,null,null,null,null,null,null,null,"剣術熟達の腕輪（＋２）",0,0,0,0,0,0,0,2500]
[null,null,null,null,null,null,null,null,null,null,null,null,null,null,null,null,null,null,null,null,null,null,null,null,null,null,null,null,null,null,null,null,null,null,null,null,null,null,null,null,null,null,null,null,null,null,null,null,null,null,null,null,null,null,null,null,null,null,null,null,null,null,null,null,null,null,null,null,null,null,null,"剣術熟達の腕輪（＋３）",0,0,0,0,0,0,0,10000]
[null,null,null,null,null,null,null,null,null,null,null,null,null,null,null,null,null,null,null,null,null,null,null,null,null,null,null,null,null,null,null,null,null,null,null,null,null,null,null,null,null,null,null,null,null,null,null,null,null,null,null,null,null,null,null,null,null,null,null,null,null,null,null,null,null,null,null,null,null,null,null,"斧術熟達の腕輪（＋１）",0,0,0,0,0,0,0,1000]
[null,null,null,null,null,null,null,null,null,null,null,null,null,null,null,null,null,null,null,null,null,null,null,null,null,null,null,null,null,null,null,null,null,null,null,null,null,null,null,null,null,null,null,null,null,null,null,null,null,null,null,null,null,null,null,null,null,null,null,null,null,null,null,null,null,null,null,null,null,null,null,"斧術熟達の腕輪（＋２）",0,0,0,0,0,0,0,2500]
[null,null,null,null,null,null,null,null,null,null,null,null,null,null,null,null,null,null,null,null,null,null,null,null,null,null,null,null,null,null,null,null,null,null,null,null,null,null,null,null,null,null,null,null,null,null,null,null,null,null,null,null,null,null,null,null,null,null,null,null,null,null,null,null,null,null,null,null,null,null,null,"斧術熟達の腕輪（＋３）",0,0,0,0,0,0,0,10000]
[null,null,null,null,null,null,null,null,null,null,null,null,null,null,null,null,null,null,null,null,null,null,null,null,null,null,null,null,null,null,null,null,null,null,null,null,null,null,null,null,null,null,null,null,null,null,null,null,null,null,null,null,null,null,null,null,null,null,null,null,null,null,null,null,null,null,null,null,null,null,null,"槍術熟達の腕輪（＋１）",0,0,0,0,0,0,0,1000]
[null,null,null,null,null,null,null,null,null,null,null,null,null,null,null,null,null,null,null,null,null,null,null,null,null,null,null,null,null,null,null,null,null,null,null,null,null,null,null,null,null,null,null,null,null,null,null,null,null,null,null,null,null,null,null,null,null,null,null,null,null,null,null,null,null,null,null,null,null,null,null,"槍術熟達の腕輪（＋２）",0,0,0,0,0,0,0,2500]
[null,null,null,null,null,null,null,null,null,null,null,null,null,null,null,null,null,null,null,null,null,null,null,null,null,null,null,null,null,null,null,null,null,null,null,null,null,null,null,null,null,null,null,null,null,null,null,null,null,null,null,null,null,null,null,null,null,null,null,null,null,null,null,null,null,null,null,null,null,null,null,"槍術熟達の腕輪（＋３）",0,0,0,0,0,0,0,10000]
[null,null,null,null,null,null,null,null,null,null,null,null,null,null,null,null,null,null,null,null,null,null,null,null,null,null,null,null,null,null,null,null,null,null,null,null,null,null,null,null,null,null,null,null,null,null,null,null,null,null,null,null,null,null,null,null,null,null,null,null,null,null,null,null,null,null,null,null,null,null,null,"槌術熟達の腕輪（＋１）",0,0,0,0,0,0,0,1000]
[null,null,null,null,null,null,null,null,null,null,null,null,null,null,null,null,null,null,null,null,null,null,null,null,null,null,null,null,null,null,null,null,null,null,null,null,null,null,null,null,null,null,null,null,null,null,null,null,null,null,null,null,null,null,null,null,null,null,null,null,null,null,null,null,null,null,null,null,null,null,null,"槌術熟達の腕輪（＋２）",0,0,0,0,0,0,0,2500]
[null,null,null,null,null,null,null,null,null,null,null,null,null,null,null,null,null,null,null,null,null,null,null,null,null,null,null,null,null,null,null,null,null,null,null,null,null,null,null,null,null,null,null,null,null,null,null,null,null,null,null,null,null,null,null,null,null,null,null,null,null,null,null,null,null,null,null,null,null,null,null,"槌術熟達の腕輪（＋３）",0,0,0,0,0,0,0,10000]
[null,null,null,null,null,null,null,null,null,null,null,null,null,null,null,null,null,null,null,null,null,null,null,null,null,null,null,null,null,null,null,null,null,null,null,null,null,null,null,null,null,null,null,null,null,null,null,null,null,null,null,null,null,null,null,null,null,null,null,null,null,null,null,null,null,null,null,null,null,null,null,"棍術熟達の腕輪（＋１）",0,0,0,0,0,0,0,1000]
[null,null,null,null,null,null,null,null,null,null,null,null,null,null,null,null,null,null,null,null,null,null,null,null,null,null,null,null,null,null,null,null,null,null,null,null,null,null,null,null,null,null,null,null,null,null,null,null,null,null,null,null,null,null,null,null,null,null,null,null,null,null,null,null,null,null,null,null,null,null,null,"棍術熟達の腕輪（＋２）",0,0,0,0,0,0,0,2500]
[null,null,null,null,null,null,null,null,null,null,null,null,null,null,null,null,null,null,null,null,null,null,null,null,null,null,null,null,null,null,null,null,null,null,null,null,null,null,null,null,null,null,null,null,null,null,null,null,null,null,null,null,null,null,null,null,null,null,null,null,null,null,null,null,null,null,null,null,null,null,null,"棍術熟達の腕輪（＋３）",0,0,0,0,0,0,0,10000]
[null,null,null,null,null,null,null,null,null,null,null,null,null,null,null,null,null,null,null,null,null,null,null,null,null,null,null,null,null,null,null,null,null,null,null,null,null,null,null,null,null,null,null,null,null,null,null,null,null,null,null,null,null,null,null,null,null,null,null,null,null,null,null,null,null,null,null,null,null,null,null,"武術熟達の腕輪（＋１）",0,0,0,0,0,0,0,1000]
[null,null,null,null,null,null,null,null,null,null,null,null,null,null,null,null,null,null,null,null,null,null,null,null,null,null,null,null,null,null,null,null,null,null,null,null,null,null,null,null,null,null,null,null,null,null,null,null,null,null,null,null,null,null,null,null,null,null,null,null,null,null,null,null,null,null,null,null,null,null,null,"武術熟達の腕輪（＋２）",0,0,0,0,0,0,0,2500]
[null,null,null,null,null,null,null,null,null,null,null,null,null,null,null,null,null,null,null,null,null,null,null,null,null,null,null,null,null,null,null,null,null,null,null,null,null,null,null,null,null,null,null,null,null,null,null,null,null,null,null,null,null,null,null,null,null,null,null,null,null,null,null,null,null,null,null,null,null,null,null,"武術熟達の腕輪（＋３）",0,0,0,0,0,0,0,10000]
[null,null,null,null,null,null,null,null,null,null,null,null,null,null,null,null,null,null,null,null,null,null,null,null,null,null,null,null,null,null,null,null,null,null,null,null,null,null,null,null,null,null,null,null,null,null,null,null,null,null,null,null,null,null,null,null,null,null,null,null,null,null,null,null,null,null,null,null,null,null,null,"投術熟達の腕輪（＋１）",0,0,0,0,0,0,0,1000]
[null,null,null,null,null,null,null,null,null,null,null,null,null,null,null,null,null,null,null,null,null,null,null,null,null,null,null,null,null,null,null,null,null,null,null,null,null,null,null,null,null,null,null,null,null,null,null,null,null,null,null,null,null,null,null,null,null,null,null,null,null,null,null,null,null,null,null,null,null,null,null,"投術熟達の腕輪（＋２）",0,0,0,0,0,0,0,2500]
[null,null,null,null,null,null,null,null,null,null,null,null,null,null,null,null,null,null,null,null,null,null,null,null,null,null,null,null,null,null,null,null,null,null,null,null,null,null,null,null,null,null,null,null,null,null,null,null,null,null,null,null,null,null,null,null,null,null,null,null,null,null,null,null,null,null,null,null,null,null,null,"投術熟達の腕輪（＋３）",0,0,0,0,0,0,0,10000]
[null,null,null,null,null,null,null,null,null,null,null,null,null,null,null,null,null,null,null,null,null,null,null,null,null,null,null,null,null,null,null,null,null,null,null,null,null,null,null,null,null,null,null,null,null,null,null,null,null,null,null,null,null,null,null,null,null,null,null,null,null,null,null,null,null,null,null,null,null,null,null,"弓術熟達の腕輪（＋１）",0,0,0,0,0,0,0,1000]
[null,null,null,null,null,null,null,null,null,null,null,null,null,null,null,null,null,null,null,null,null,null,null,null,null,null,null,null,null,null,null,null,null,null,null,null,null,null,null,null,null,null,null,null,null,null,null,null,null,null,null,null,null,null,null,null,null,null,null,null,null,null,null,null,null,null,null,null,null,null,null,"弓術熟達の腕輪（＋２）",0,0,0,0,0,0,0,2500]
[null,null,null,null,null,null,null,null,null,null,null,null,null,null,null,null,null,null,null,null,null,null,null,null,null,null,null,null,null,null,null,null,null,null,null,null,null,null,null,null,null,null,null,null,null,null,null,null,null,null,null,null,null,null,null,null,null,null,null,null,null,null,null,null,null,null,null,null,null,null,null,"弓術熟達の腕輪（＋３）",0,0,0,0,0,0,0,10000]
[null,null,null,null,null,null,null,null,null,null,null,null,null,null,null,null,null,null,null,null,null,null,null,null,null,null,null,null,null,null,null,null,null,null,null,null,null,null,null,null,null,null,null,null,null,null,null,null,null,null,null,null,null,null,null,null,null,null,null,null,null,null,null,null,null,null,null,null,null,null,null,"水中呼吸の指輪",0,0,0,0,0,0,0,500]
[null,null,null,null,null,null,null,null,null,null,null,null,null,null,null,null,null,null,null,null,null,null,null,null,null,null,null,null,null,null,null,null,null,null,null,null,null,null,null,null,null,null,null,null,null,null,null,null,null,null,null,null,null,null,null,null,null,null,null,null,null,null,null,null,null,null,null,null,null,null,null,"体力抵抗の指輪",0,0,0,0,0,0,0,1000]
[null,null,null,null,null,null,null,null,null,null,null,null,null,null,null,null,null,null,null,null,null,null,null,null,null,null,null,null,null,null,null,null,null,null,null,null,null,null,null,null,null,null,null,null,null,null,null,null,null,null,null,null,null,null,null,null,null,null,null,null,null,null,null,null,null,null,null,null,null,null,null,"魂魄抵抗の指輪",0,0,0,0,0,0,0,1000]
[null,null,null,null,null,null,null,null,null,null,null,null,null,null,null,null,null,null,null,null,null,null,null,null,null,null,null,null,null,null,null,null,null,null,null,null,null,null,null,null,null,null,null,null,null,null,null,null,null,null,null,null,null,null,null,null,null,null,null,null,null,null,null,null,null,null,null,null,null,null,null,"知力抵抗の指輪",0,0,0,0,0,0,0,1000]
[null,null,null,null,null,null,null,null,null,null,null,null,null,null,null,null,null,null,null,null,null,null,null,null,null,null,null,null,null,null,null,null,null,null,null,null,null,null,null,null,null,null,null,null,null,null,null,null,null,null,null,null,null,null,null,null,null,null,null,null,null,null,null,null,null,null,null,null,null,null,null,"呪文抵抗の指輪",0,0,0,0,0,0,0,1000]
[null,null,null,null,null,null,null,null,null,null,null,null,null,null,null,null,null,null,null,null,null,null,null,null,null,null,null,null,null,null,null,null,null,null,null,null,null,null,null,null,null,null,null,null,null,null,null,null,null,null,null,null,null,null,null,null,null,null,null,null,null,null,null,null,null,null,null,null,null,null,null,"呪文結界の指輪",0,0,0,0,0,0,0,500]
[null,null,null,null,null,null,null,null,null,null,null,null,null,null,null,null,null,null,null,null,null,null,null,null,null,null,null,null,null,null,null,null,null,null,null,null,null,null,null,null,null,null,null,null,null,null,null,null,null,null,null,null,null,null,null,null,null,null,null,null,null,null,null,null,null,null,null,null,null,null,null,"体術熟達の腕輪（＋１）",0,0,0,0,0,0,0,1000]
[null,null,null,null,null,null,null,null,null,null,null,null,null,null,null,null,null,null,null,null,null,null,null,null,null,null,null,null,null,null,null,null,null,null,null,null,null,null,null,null,null,null,null,null,null,null,null,null,null,null,null,null,null,null,null,null,null,null,null,null,null,null,null,null,null,null,null,null,null,null,null,"体術熟達の腕輪（＋２）",0,0,0,0,0,0,0,2500]
[null,null,null,null,null,null,null,null,null,null,null,null,null,null,null,null,null,null,null,null,null,null,null,null,null,null,null,null,null,null,null,null,null,null,null,null,null,null,null,null,null,null,null,null,null,null,null,null,null,null,null,null,null,null,null,null,null,null,null,null,null,null,null,null,null,null,null,null,null,null,null,"体術熟達の腕輪（＋３）",0,0,0,0,0,0,0,10000]

{"sheet":"武器表","index":20,"n_rows":108,"n_cols":25,"rows_kept":108,"cut":false,"hidden":false,"merged":[]}
[null,"名前","用途","重量","持手","属性","威力","命中修正","射程","効果","価格","受け流し","強打・斬","強打・殴","刺突","威力ダイス","威力修正","真言呪文行使判定修正","奇跡行使判定修正","回避修正","移動修正","第六感判定","体術判定","祖霊術行使判定修正","精霊術行使判定修正"]
[null,"なし",{"$f":"\"-\"","v":"-"},"-","-","-","-",0,"-","-",0,-1,-1,-1,-1,{"$f":"LEFT(G2,3)","v":"-"},{"$f":"IF(P2=G2,0,VALUE( SUBSTITUTE(G2,P2,\"\") ))","v":0},-1,-1,0,0,0,0,-1,-1]
[null,"粗悪な剣","武器：片手剣","軽","片手","刺","1d3+1",-2,"近接","投擲適用",5,-1,-1,-1,-1,{"$f":"LEFT(G3,3)","v":"1d3"},{"$f":"IF(P3=G3,0,VALUE( SUBSTITUTE(G3,P3,\"\") ))","v":1},-1,-1,0,0,0,0,-1,-1]
[null,"短剣","武器：片手剣","軽","片手","斬刺","1d3+1",0,"近接","投擲適用",10,-1,-1,-1,-1,{"$f":"LEFT(G4,3)","v":"1d3"},{"$f":"IF(P4=G4,0,VALUE( SUBSTITUTE(G4,P4,\"\") ))","v":1},-1,-1,0,0,0,0,-1,-1]
[null,"拳剣","武器：片手剣","軽","片手","斬","1d3+2",-2,"近接","投擲不可",12,-1,-1,-1,-1,"1d3",2,-1,-1,0,0,0,0,-1,-1]
[null,"黒曜の剣","武器：片手剣","軽","片手","斬殴","1d6",-2,"近接","投擲適用、強打・斬(+0)、強打・殴(+0)",10,-1,0,0,-1,"1d6",0,-1,-1,0,0,0,0,-1,-1]
[null,"舶刀","武器：片手剣","軽","片手","斬刺","1d6",-2,"近接","投擲適用、受け流し(+0)、強打・斬(+1)",15,0,1,-1,-1,"1d6",0,-1,-1,0,0,0,0,-1,-1]
[null,"小剣","武器：片手剣","軽","片手","斬刺殴","1d6",-2,"近接","投擲適用、受け流し(+0)、強打・斬(+0)、刺突(+1)",20,0,0,-1,1,"1d6",0,-1,-1,0,0,0,0,-1,-1]
[null,"偃月刀","武器：片手剣","軽","片手","斬","1d6+1",-2,"近接","投擲適用、受け流し(+1)、斬落",20,1,-1,-1,-1,"1d6",1,-1,-1,0,0,0,0,-1,-1]
[null,"突剣","武器：片手剣","軽","片手","刺","1d6+1",-2,"近接","刺突(+2)",20,-1,-1,-1,2,"1d6",1,-1,-1,0,0,0,0,-1,-1]
[null,"広刃の剣","武器：片手剣","軽","片手","斬殴","1d6+3",-2,"近接","投擲適用、受け流し(+0)、強打・斬(+1)、強打・殴(+0)",30,0,1,0,-1,"1d6",3,-1,-1,0,0,0,0,-1,-1]
[null,"曲刀","武器：片手剣","軽","片手","斬","1d6+3",-2,"近接","投擲適用、受け流し(+1)、斬落",25,1,-1,-1,-1,"1d6",3,-1,-1,0,0,0,0,-1,-1]
[null,"長剣（片手）","武器：片手剣","軽","片手","斬刺殴","1d6+2",-4,"近接","投擲適用、受け流し(+0)、強打・斬(+1)",50,0,1,-1,-1,"1d6",2,-1,-1,0,0,0,0,-1,-1]
[null,"長剣（両手）","武器：片手剣","重","両手","斬刺殴","2d6+2",-2,"近接","投擲適用、受け流し(+1)、強打・斬(+2)、強打・殴(+0)、刺突(+1)",0,1,2,0,1,"2d6",2,-1,-1,0,0,0,0,-1,-1]
[null,"鮫刃の剣","武器：両手剣","重","両手","斬","1d6+2",0,"近接","強打・斬(+1)",30,-1,1,-1,-1,"1d6",2,-1,-1,0,0,0,0,-1,-1]
[null,"湾刀","武器：両手剣","重","両手","斬","2d6",0,"近接","受け流し(+1)、斬落",45,1,-1,-1,-1,{"$f":"LEFT(G16,3)","v":"2d6"},{"$f":"IF(P16=G16,0,VALUE( SUBSTITUTE(G16,P16,\"\") ))","v":0},-1,-1,0,0,0,0,-1,-1]
[null,"片手半剣（片手）","武器：両手剣","重","両手","斬刺殴","1d6+4",-6,"近接","強打・斬(+0)",65,-1,0,-1,-1,"1d6",4,-1,-1,0,0,0,0,-1,-1]
[null,"片手半剣（両手）","武器：両手剣","重","両手","斬刺殴","2d6+3",-2,"近接","受け流し(+0)、強打・斬(+1)、強打・殴(0)、刺突(+1)",0,0,1,0,1,{"$f":"LEFT(G18,3)","v":"2d6"},{"$f":"IF(P18=G18,0,VALUE( SUBSTITUTE(G18,P18,\"\") ))","v":3},-1,-1,0,0,0,0,-1,-1]
[null,"鎧通し","武器：両手剣","重","両手","刺","2d6+2",-2,"近接","長大、刺突(+2)",45,-1,-1,-1,2,{"$f":"LEFT(G19,3)","v":"2d6"},{"$f":"IF(P19=G19,0,VALUE( SUBSTITUTE(G19,P19,\"\") ))","v":2},-1,-1,0,0,0,0,-1,-1]
[null,"炎紋剣","武器：両手剣","重","両手","斬刺","2d6+4",-2,"近接","長大、受け流し(+1)、強打・斬(+2)、刺突(+1)、斬落",100,1,2,-1,1,"2d6",4,-1,-1,0,0,0,0,-1,-1]
[null,"大剣","武器：両手剣","重","両手","斬刺殴","2d6+4",-2,"近接","長大、受け流し(+0)、強打・斬(+3)、強打・殴(+1)、刺突(+1)",85,1,3,1,1,"2d6",4,-1,-1,0,0,0,0,-1,-1]
[null,"袋棍","武器：戦槌","軽","片手","殴","1d3",0,"近接","投擲不可、受け流し不可、強打・殴(+0)",5,-1,-1,0,-1,"1d3",0,-1,-1,0,0,0,0,-1,-1]
[null,"棍棒","武器：戦槌","軽","片手","殴","1d3+1",-2,"近接","強打(+0)",6,-1,-1,0,-1,"1d3",1,-1,-1,0,0,0,0,-1,-1]
[null,"戦棍","武器：戦槌","軽","片手","殴","1d6",1,"近接","投擲適用、強打(+0)",20,-1,-1,0,-1,"1d6",0,-1,-1,0,0,0,0,-1,-1]
[null,"片鶴嘴","武器：戦槌","軽","片手","刺","1d6",1,"近接","投擲適用、刺突(+1)",20,-1,-1,-1,1,"1d6",0,-1,-1,0,0,0,0,-1,-1]
[null,"槌鉾","武器：戦槌","重","片手","殴","1d6+2",1,"近接","投擲適用、強打(+1)",30,-1,-1,1,-1,"1d6",2,-1,-1,0,0,0,0,-1,-1]
[null,"刺鉄球","武器：戦槌","重","片手","殴","2d6-1",-4,"近接","受け流し不可、強打・殴(+1)",25,-1,-1,1,-1,"2d6",{"$f":"IF(P27=G27,0,VALUE( SUBSTITUTE(G27,P27,\"\") ))","v":-1},-1,-1,0,0,0,0,-1,-1]
[null,"戦嘴","武器：戦槌","重","両手","刺","1d6+4",1,"近接","刺突(+2)",20,-1,-1,-1,2,"1d6",4,-1,-1,0,0,0,0,-1,-1]
[null,"大戦槌","武器：戦槌","重","両手","殴","2d6",1,"近接","長大、強打・殴(+2)",40,-1,-1,2,-1,"2d6",0,-1,-1,0,0,0,0,-1,-1]
[null,"大金棒","武器：戦槌","重","両手","殴","3d6",1,"近接","長大、投擲不可、強打・殴(+4)",90,-1,-1,4,-1,"3d6",0,-1,-1,0,0,0,0,-1,-1]
[null,"短弓","武器：弩弓","軽","両手","刺","1d6",0,"60m","刺突(+1)、速射(-4)",40,-1,-1,-1,1,"1d6",0,-1,-1,0,0,0,0,-1,-1]
[null,"投矢銃","武器：弩弓","軽","片手","刺","1d6",4,"60m","刺突(+1)",50,-1,-1,-1,1,"1d6",0,-1,-1,0,0,0,0,-1,-1]
[null,"弩","武器：弩弓","重","両手","刺","1d6+3",2,"60m","刺突(+1)",40,-1,-1,-1,1,"1d6",3,-1,-1,0,0,0,0,-1,-1]
[null,"長弓","武器：弩弓","重","両手","刺","2d6",0,"120m","長大、刺突(+1)、速射(-4)",115,-1,-1,-1,1,"2d6",0,-1,-1,0,0,0,0,-1,-1]
[null,"大弓","武器：弩弓","重","両手","刺","2d6+2",-2,"120m","長大、刺突(+2)、速射(-8)",125,-1,-1,-1,2,"2d6",2,-1,-1,0,0,0,0,-1,-1]
[null,"弩砲","武器：弩弓","重","両手","刺","2d6+4",2,"120m","投擲不可、刺突(+2)",110,-1,-1,-1,2,"2d6",4,-1,-1,0,0,0,0,-1,-1]
[null,"抱大筒","武器：弩弓","重","両手","殴","3d6",4,"60m","長大、投擲不可",630,-1,-1,-1,-1,"3d6",0,-1,-1,0,0,0,0,-1,-1]
[null,"投石","武器：投擲武器","軽","片手","殴","1d3",0,"10m","投擲専用",0,-1,-1,-1,-1,"1d3",0,-1,-1,0,0,0,0,-1,-1]
[null,"投矢","武器：投擲武器","軽","片手","刺","1d3",0,"10m","投擲専用",3,-1,-1,-1,-1,"1d3",0,-1,-1,0,0,0,0,-1,-1]
[null,"投分銅","武器：投擲武器","軽","片手","殴","1d3+1",0,"20m","投擲専用、拘束",15,-1,-1,-1,-1,"1d3",1,-1,-1,0,0,0,0,-1,-1]
[null,"飛棍","武器：投擲武器","軽","片手","殴","1d3+1",0,"30m","投擲専用、強打・殴(+0)",15,-1,-1,0,-1,"1d3",1,-1,-1,0,0,0,0,-1,-1]
[null,"投石紐","武器：投擲武器","軽","片手","殴","1d3+1",2,"30m","投擲専用、速射(-4)",1,-1,-1,-1,-1,"1d3",1,-1,-1,0,0,0,0,-1,-1]
[null,"飛刀","武器：投擲武器","軽","片手","斬刺","1d3+2",0,"20m","投擲専用、刺突(+1)",20,-1,-1,-1,1,"1d3",2,-1,-1,0,0,0,0,-1,-1]
[null,"戦輪","武器：投擲武器","軽","片手","斬","1d3+2",2,"20m","投擲専用、斬落",25,-1,-1,-1,-1,"1d3",2,-1,-1,0,0,0,0,-1,-1]
[null,"南洋式投げナイフ","武器：投擲武器","軽","片手","斬刺","1d6",4,"20m","投擲専用、強打・斬(+1)、刺突(+1)、斬落",40,-1,1,-1,1,"1d6",0,-1,-1,0,0,0,0,-1,-1]
[null,"投石杖","武器：投擲武器","軽","片手","殴","1d6+1",2,"60m","投擲専用、強打・殴(+2)、速射(-4)",30,-1,-1,2,-1,"1d6",1,-1,-1,0,0,0,0,-1,-1]
[null,"血滴子","武器：投擲武器","重","両手","斬","1d6+4",-2,"20m","投擲専用、受け流し不可、強打・斬(+2)、斬落、拘束",70,-1,2,-1,-1,"1d6",4,-1,-1,0,0,0,0,-1,-1]
[null,"粗悪な斧","武器：斧","軽","片手","斬","1d3+1",-2,"近接","投擲適用",5,-1,-1,-1,-1,"1d3",1,-1,-1,0,0,0,0,-1,-1]
[null,"鉈","武器：斧","軽","片手","斬","1d3",0,"近接","投擲特化(威力：1d6+2、命中修正：+2、射程：20m)",15,-1,-1,-1,-1,{"$f":"LEFT(G49,3)","v":"1d3"},{"$f":"IF(P49=G49,0,VALUE( SUBSTITUTE(G49,P49,\"\") ))","v":0},-1,-1,0,0,0,0,-1,-1]
[null,"手斧","武器：斧","軽","片手","斬","1d3+2",0,"近接","投擲適用",15,-1,-1,-1,-1,{"$f":"LEFT(G50,3)","v":"1d3"},{"$f":"IF(P50=G50,0,VALUE( SUBSTITUTE(G50,P50,\"\") ))","v":2},-1,-1,0,0,0,0,-1,-1]
[null,"投斧","武器：斧","軽","片手","斬","1d3+2",0,"近接","投擲特化(威力：1d6+2、命中修正：+2、射程：20m)、強打・斬(+0)",30,-1,0,-1,-1,{"$f":"LEFT(G51,3)","v":"1d3"},{"$f":"IF(P51=G51,0,VALUE( SUBSTITUTE(G51,P51,\"\") ))","v":2},-1,-1,0,0,0,0,-1,-1]
[null,"戦斧（片手）","武器：斧","重","片手","斬殴","1d6+1",-4,"近接","投擲適用、強打・斬(+1)、強打・殴(0)",35,-1,1,0,-1,{"$f":"LEFT(G52,3)","v":"1d6"},{"$f":"IF(P52=G52,0,VALUE( SUBSTITUTE(G52,P52,\"\") ))","v":1},-1,-1,0,0,0,0,-1,-1]
[null,"戦斧（両手）","武器：斧","重","両手","斬殴","1d6+4",0,"近接","投擲適用、強打・斬(+2)、強打・殴(+1)",0,-1,2,1,-1,{"$f":"LEFT(G53,3)","v":"1d6"},{"$f":"IF(P53=G53,0,VALUE( SUBSTITUTE(G53,P53,\"\") ))","v":4},-1,-1,0,0,0,0,-1,-1]
[null,"大斧","武器：斧","重","両手","斬殴","1d6+6",-2,"近接","長大、強打・斬(+2)、強打・殴(+2)",40,-1,2,2,-1,{"$f":"LEFT(G54,3)","v":"1d6"},{"$f":"IF(P54=G54,0,VALUE( SUBSTITUTE(G54,P54,\"\") ))","v":6},-1,-1,0,0,0,0,-1,-1]
[null,"斧槍","武器：斧","重","両手","斬刺","3d6",-4,"近接","長大、投擲不可、受け流し(+1)、強打・斬(+2)、刺突(+1)",40,1,2,-1,1,{"$f":"LEFT(G55,3)","v":"3d6"},{"$f":"IF(P55=G55,0,VALUE( SUBSTITUTE(G55,P55,\"\") ))","v":0},-1,-1,0,0,0,0,-1,-1]
[null,"粗悪な槍","武器：槍","軽","片手","刺","1d3+1",-2,"近接","投擲適用",5,-1,-1,-1,-1,"1d3",1,-1,-1,0,0,0,0,-1,-1]
[null,"投槍","武器：槍","軽","片手","刺","1d3+1",-2,"近接","投擲特化(威力：1d3+3、命中修正：なし、射程：20m)",20,-1,-1,-1,-1,{"$f":"LEFT(G57,3)","v":"1d3"},{"$f":"IF(P57=G57,0,VALUE( SUBSTITUTE(G57,P57,\"\") ))","v":1},-1,-1,0,0,0,0,-1,-1]
[null,"短槍","武器：槍","軽","片手","刺","1d6",0,"近接","投擲適用、刺突(+1)",15,-1,-1,-1,1,"1d6",0,-1,-1,0,0,0,0,-1,-1]
[null,"小槍（片手）","武器：槍","軽","片手","刺","1d6",-4,"近接","投擲適用、刺突(+1)",30,-1,-1,-1,1,{"$f":"LEFT(G59,3)","v":"1d6"},{"$f":"IF(P59=G59,0,VALUE( SUBSTITUTE(G59,P59,\"\") ))","v":0},-1,-1,0,0,0,0,-1,-1]
[null,"小槍（両手）","武器：槍","軽","両手","刺","1d6+3",0,"近接","投擲適用、受け流し(+0)、刺突(+1)",0,0,-1,-1,1,{"$f":"LEFT(G60,3)","v":"1d6"},{"$f":"IF(P60=G60,0,VALUE( SUBSTITUTE(G60,P60,\"\") ))","v":3},-1,-1,0,0,0,0,-1,-1]
[null,"鉄小槍（片手）","武器：槍","重","片手","刺殴","1d6+1",-4,"近接","投擲適用、刺突(+1)、強打・殴(+0)",55,-1,-1,0,1,"1d6",1,-1,-1,0,0,0,0,-1,-1]
[null,"鉄小槍（両手）","武器：槍","重","両手","刺殴","1d6+4",0,"近接","投擲適用、受け流し(+1)、刺突(+1)、強打・殴(+1)",0,1,-1,1,1,{"$f":"LEFT(G62,3)","v":"1d6"},{"$f":"IF(P62=G62,0,VALUE( SUBSTITUTE(G62,P62,\"\") ))","v":4},-1,-1,0,0,0,0,-1,-1]
[null,"農叉","武器：槍","重","両手","刺殴","2d6-1",-2,"近接","長大、刺突(+1)",15,-1,-1,-1,1,{"$f":"LEFT(G63,3)","v":"2d6"},{"$f":"IF(P63=G63,0,VALUE( SUBSTITUTE(G63,P63,\"\") ))","v":-1},-1,-1,0,0,0,0,-1,-1]
[null,"三叉槍","武器：槍","重","両手","刺殴","3d6-2",-2,"近接","長大、刺突(+1)",35,-1,-1,-1,1,{"$f":"LEFT(G64,3)","v":"3d6"},{"$f":"IF(P64=G64,0,VALUE( SUBSTITUTE(G64,P64,\"\") ))","v":-2},-1,-1,0,0,0,0,-1,-1]
[null,"長槍","武器：槍","重","両手","刺殴","3d6",-4,"近接","長大、投擲不可、刺突(+2)",55,-1,-1,-1,2,{"$f":"LEFT(G65,3)","v":"3d6"},{"$f":"IF(P65=G65,0,VALUE( SUBSTITUTE(G65,P65,\"\") ))","v":0},-1,-1,0,0,0,0,-1,-1]
[null,"薙刀","武器：槍","重","両手","斬刺殴","2d6+4",-4,"近接","長大、投擲不可、受け流し(+1)、強打・斬(+3)、斬落",70,1,3,-1,-1,{"$f":"LEFT(G66,3)","v":"2d6"},{"$f":"IF(P66=G66,0,VALUE( SUBSTITUTE(G66,P66,\"\") ))","v":4},-1,-1,0,0,0,0,-1,-1]
[null,"戦槍","武器：槍","重","両手","刺殴","3d6+2",-6,"近接","長大、投擲不可、強打・殴(+0)、刺突(+2)",40,-1,-1,0,2,"3d6",2,-1,-1,0,0,0,0,-1,-1]
[null,"投石杖（棍杖）","武器：棍杖","軽","両手","殴","1d3+1",1,"近接","なし",0,-1,-1,-1,-1,"1d3",1,-1,-1,0,0,0,0,-1,-1]
[null,"紅玉の杖","武器：棍杖","軽","両手","殴","1d3+1",1,"近接","受け流し(+1)、真言呪文の呪文行使判定に+1ボーナス",50,1,-1,-1,-1,{"$f":"LEFT(G69,3)","v":"1d3"},{"$f":"IF(P69=G69,0,VALUE( SUBSTITUTE(G69,P69,\"\") ))","v":1},1,-1,0,0,0,0,-1,-1]
[null,"錫杖","武器：棍杖","軽","両手","殴","1d3+1",1,"近接","受け流し(+1)、奇跡の呪文行使判定に+1ボーナス",50,1,-1,-1,-1,{"$f":"LEFT(G70,3)","v":"1d3"},{"$f":"IF(P70=G70,0,VALUE( SUBSTITUTE(G70,P70,\"\") ))","v":1},-1,1,0,0,0,0,-1,-1]
[null,"司教杖","武器：棍杖","軽","両手","殴","1d3+1",1,"近接","受け流し(+1)、奇跡の呪文行使判定に+2ボーナス",180,1,-1,-1,-1,{"$f":"LEFT(G71,3)","v":"1d3"},{"$f":"IF(P71=G71,0,VALUE( SUBSTITUTE(G71,P71,\"\") ))","v":1},-1,2,0,0,0,0,-1,-1]
[null,"六尺棒","武器：棍杖","軽","両手","殴","1d3+2",1,"近接","受け流し(+1)",18,1,-1,-1,-1,"1d3",2,-1,-1,0,0,0,0,-1,-1]
[null,"双節棍","武器：棍杖","軽","両手","殴","1d6+1",-2,"近接","投擲不可、受け流し不可、強打・殴(+0)",20,-1,-1,0,-1,{"$f":"LEFT(G73,3)","v":"1d6"},{"$f":"IF(P73=G73,0,VALUE( SUBSTITUTE(G73,P73,\"\") ))","v":1},-1,-1,0,0,0,0,-1,-1]
[null,"打狗棒","武器：棍杖","軽","両手","殴","1d6+4",2,"近接","受け流し(+1)、強打・殴(+2)",60,1,-1,2,-1,{"$f":"LEFT(G74,3)","v":"1d6"},{"$f":"IF(P74=G74,0,VALUE( SUBSTITUTE(G74,P74,\"\") ))","v":4},-1,-1,0,0,0,0,-1,-1]
[null,"連節棍","武器：棍杖","重","両手","殴","1d6+2",-2,"近接","投擲不可、受け流し不可、強打・殴(+1)",20,-1,-1,1,-1,"1d6",2,-1,-1,0,0,0,0,-1,-1]
[null,"金砕棒","武器：棍杖","重","両手","殴","2d6+2",2,"近接","長大、受け流し(+1)、強打・殴(+3)",80,1,-1,3,-1,"2d6",2,-1,-1,0,0,0,0,-1,-1]
[null,"鞭","武器：棍杖","軽","両手","殴","1d6-1",-4,"近接","投擲不可、受け流し不可、強打・殴(+0)、拘束",10,-1,-1,0,-1,{"$f":"LEFT(G77,3)","v":"1d6"},{"$f":"IF(P77=G77,0,VALUE( SUBSTITUTE(G77,P77,\"\") ))","v":-1},-1,-1,0,0,0,0,-1,-1]
[null,"聖鞭","武器：棍杖","軽","両手","殴","2d6",-4,"近接","投擲不可、受け流し不可、強打・殴(+1)、拘束、アンデッドに対しては威力が4d6になる",145,-1,-1,1,-1,{"$f":"LEFT(G78,3)","v":"2d6"},{"$f":"IF(P78=G78,0,VALUE( SUBSTITUTE(G78,P78,\"\") ))","v":0},-1,-1,0,0,0,0,-1,-1]
[null,"素手攻撃（片手）","武器：格闘武器","軽","片手","殴","1d3",0,"近接","投擲不可",0,-1,-1,-1,-1,"1d3",0,-1,-1,0,0,0,0,-1,-1]
[null,"素手攻撃（両手）","武器：格闘武器","軽","両手","殴","1d3+2",0,"近接","投擲不可",0,-1,-1,-1,-1,{"$f":"LEFT(G80,3)","v":"1d3"},{"$f":"IF(P80=G80,0,VALUE( SUBSTITUTE(G80,P80,\"\") ))","v":2},-1,-1,0,0,0,0,-1,-1]
[null,"拳帯（片手）","武器：格闘武器","軽","片手","殴","1d3",2,"近接","投擲不可",18,-1,-1,-1,-1,"1d3",0,-1,-1,0,0,0,0,-1,-1]
[null,"拳帯（両手）","武器：格闘武器","軽","両手","殴","1d3+3",2,"近接","投擲不可、強打・殴(+0)",0,-1,-1,-1,-1,{"$f":"LEFT(G82,3)","v":"1d3"},{"$f":"IF(P82=G82,0,VALUE( SUBSTITUTE(G82,P82,\"\") ))","v":3},-1,-1,0,0,0,0,-1,-1]
[null,"打布槍","武器：格闘武器","軽","片手","殴","1d3+1",0,"近接","投擲不可",10,-1,-1,-1,-1,"1d3",1,-1,-1,0,0,0,0,-1,-1]
[null,"旋棍","武器：格闘武器","軽","片手","殴","1d3+2",2,"近接","受け流し(+0)、強打・殴(+0)",25,0,-1,0,-1,{"$f":"LEFT(G84,3)","v":"1d3"},{"$f":"IF(P84=G84,0,VALUE( SUBSTITUTE(G84,P84,\"\") ))","v":2},-1,-1,0,0,0,0,-1,-1]
[null,"虎爪（片手）","武器：格闘武器","軽","片手","斬刺","1d3+2",2,"近接","投擲不可、受け流し(+0)、強打・斬(+0)",30,0,0,-1,-1,{"$f":"LEFT(G85,3)","v":"1d3"},{"$f":"IF(P85=G85,0,VALUE( SUBSTITUTE(G85,P85,\"\") ))","v":2},-1,-1,0,0,0,0,-1,-1]
[null,"虎爪（両手）","武器：格闘武器","軽","両手","斬刺","1d6+1",0,"近接","投擲不可、受け流し(+1)、強打・斬(+1)、刺突(+1)",0,1,1,-1,1,{"$f":"LEFT(G86,3)","v":"1d6"},{"$f":"IF(P86=G86,0,VALUE( SUBSTITUTE(G86,P86,\"\") ))","v":1},-1,-1,0,0,0,0,-1,-1]
[null,"長傘","武器：格闘武器","軽","片手","刺殴","1d6",0,"近接","受け流し(+2)、強打・殴(+0)、刺突(+1)",20,2,-1,0,1,"1d6",0,-1,-1,0,0,0,0,-1,-1]
[null,"鉄靴","武器：格闘武器","軽","特殊","殴","1d6",-2,"近接","投擲不可、強打・殴(+1)、回避修正-1、移動修正-4、両足に装備するため、両手には別の装備を装備可能",25,2,-1,0,1,{"$f":"LEFT(G88,3)","v":"1d6"},{"$f":"IF(P88=G88,0,VALUE( SUBSTITUTE(G88,P88,\"\") ))","v":0},-1,-1,-1,-4,0,0,-1,-1]
[null,"拳鍔（片手）","武器：格闘武器","軽","片手","斬刺","1d6",2,"近接","投擲不可、受け流し(+0)、強打・斬(+1)",55,0,1,-1,-1,"1d6",0,-1,-1,0,0,0,0,-1,-1]
[null,"拳鍔（両手）","武器：格闘武器","軽","両手","斬刺","2d6",0,"近接","投擲不可、受け流し(+1)、強打・斬(+2)、刺突(+1)",0,1,2,-1,1,{"$f":"LEFT(G90,3)","v":"2d6"},{"$f":"IF(P90=G90,0,VALUE( SUBSTITUTE(G90,P90,\"\") ))","v":0},-1,-1,0,0,0,0,-1,-1]
[null,"鉄拳","武器：格闘武器","軽","両手","殴","2d6+2",2,"近接","投擲不可、受け流し(+0)、強打・殴(+1)",70,0,1,-1,-1,"2d6",2,-1,-1,0,0,0,0,-1,-1]
[null,"朝露の短剣","武器：片手剣","軽","片手","斬刺","1d3+1",0,"近接","投擲適用、魔法の武器、第六感判定+1ボーナス、1時間で水袋一杯分の水を生む",1100,-1,-1,-1,-1,"1d3",1,-1,-1,0,0,1,0,-1,-1]
[null,"魔法の短剣（＋１）","武器：片手剣","軽","片手","斬刺","1d3+2",1,"近接","投擲適用、魔法の武器",150,-1,-1,-1,-1,{"$f":"LEFT(G93,3)","v":"1d3"},{"$f":"IF(P93=G93,0,VALUE( SUBSTITUTE(G93,P93,\"\") ))","v":2},-1,-1,0,0,0,0,-1,-1]
[null,"銀の短剣","武器：片手剣","軽","片手","斬刺","1d3+1",0,"近接","投擲適用、疑似的な魔法の武器",30,-1,-1,-1,-1,"1d3",1,-1,-1,0,0,0,0,-1,-1]
[null,"魔法の短剣（＋２）","武器：片手剣","軽","片手","斬刺","1d3+3",2,"近接","投擲適用、魔法の武器",1100,-1,-1,-1,-1,{"$f":"LEFT(G95,3)","v":"1d3"},{"$f":"IF(P95=G95,0,VALUE( SUBSTITUTE(G95,P95,\"\") ))","v":3},-1,-1,0,0,0,0,-1,-1]
[null,"邪紋の短剣","武器：片手剣","軽","片手","斬刺","1d3+1",0,"近接","投擲適用、魔法の武器、真言呪文行使判定+1ボーナス、不思議な小悪魔の「13刻の自由」が使える",1100,-1,-1,-1,-1,"1d3",1,1,-1,0,0,0,0,-1,-1]
[null,"竜髭の短弓","武器：弩弓","軽","両手","刺","1d6",0,"60m","刺突(+1)、速射(-4)、矢を魔法の武器にする、第六感判定+1ボーナス、体術判定+1ボーナス",1400,-1,-1,-1,1,"1d6",0,-1,-1,0,0,1,1,-1,-1]
[null,"竜の末裔初歩素手攻撃（片手）","武器：格闘武器","軽","片手","殴","1d3+1",0,"近接","投擲不可",0,-1,-1,-1,-1,"1d3",1,-1,-1,0,0,0,0,-1,-1]
[null,"竜の末裔初歩素手攻撃（両手）","武器：格闘武器","軽","両手","殴","1d3+3",0,"近接","投擲不可",0,-1,-1,-1,-1,"1d3",3,-1,-1,0,0,0,0,-1,-1]
[null,"竜の末裔習熟素手攻撃（片手）","武器：格闘武器","軽","片手","殴","1d3+2",0,"近接","投擲不可",0,-1,-1,-1,-1,{"$f":"LEFT(G100,3)","v":"1d3"},{"$f":"IF(P100=G100,0,VALUE( SUBSTITUTE(G100,P100,\"\") ))","v":2},-1,-1,0,0,0,0,-1,-1]
[null,"竜の末裔習熟素手攻撃（両手）","武器：格闘武器","軽","両手","殴","1d3+4",0,"近接","投擲不可",0,-1,-1,-1,-1,"1d3",4,-1,-1,0,0,0,0,-1,-1]
[null,"竜の末裔熟練素手攻撃（片手）","武器：格闘武器","軽","片手","殴","1d3+3",0,"近接","投擲不可",0,-1,-1,-1,-1,{"$f":"LEFT(G102,3)","v":"1d3"},{"$f":"IF(P102=G102,0,VALUE( SUBSTITUTE(G102,P102,\"\") ))","v":3},-1,-1,0,0,0,0,-1,-1]
[null,"竜の末裔熟練素手攻撃（両手）","武器：格闘武器","軽","両手","殴","1d3+5",0,"近接","投擲不可",0,-1,-1,-1,-1,"1d3",5,-1,-1,0,0,0,0,-1,-1]
[null,"邪紋の短剣（＋２）","武器：片手剣","軽","片手","斬刺","1d3+1",0,"近接","投擲適用、魔法の武器、真言呪文行使判定+2ボーナス、不思議な小悪魔の「13刻の自由」が使える",10300,-1,-1,-1,-1,"1d3",1,2,-1,0,0,0,0,-1,-1]
[null,"投石紐（店石）","武器：投擲武器","軽","片手","殴","1d3+1",3,"30m","投擲専用、速射(-4)",1,-1,-1,-1,-1,"1d3",1,-1,-1,0,0,0,0,-1,-1]
[null,"投石杖（店石）","武器：投擲武器","軽","片手","殴","1d6+1",3,"60m","投擲専用、強打・殴(+2)、速射(-4)",30,-1,-1,2,-1,"1d6",1,-1,-1,0,0,0,0,-1,-1]
[null,"松明","武器：戦槌","軽","片手","殴","1d3",-1,"近接","なし",0,-1,-1,-1,-1,{"$f":"LEFT(G107,3)","v":"1d3"},{"$f":"IF(P107=G107,0,VALUE( SUBSTITUTE(G107,P107,\"\") ))","v":0},-1,-1,0,0,0,0,-1,-1]
[null,"円匙","武器：戦槌","軽","両手","殴","1d3+2",-2,"近接","強打・殴(+0)",0,-1,-1,0,-1,{"$f":"LEFT(G108,3)","v":"1d3"},{"$f":"IF(P108=G108,0,VALUE( SUBSTITUTE(G108,P108,\"\") ))","v":2},-1,-1,0,0,0,0,-1,-1]

{"sheet":"鎧表","index":21,"n_rows":25,"n_cols":23,"rows_kept":25,"cut":false,"hidden":false,"merged":[]}
[]
[null,"名前","属性","副属性","重量","装甲値","回避修正","移動修正","隠密性","価格","荷重x","荷重y","効果","隠密性修正","水泳修正","神官or竜司祭Lv1装甲","神官or竜司祭Lv5装甲","野伏Lv1隠密","野伏Lv1回避","交渉：誘惑","神官(戦女神)：交渉：誘惑","登攀修正","跳躍修正"]
[null,"なし",{"$f":"\"-\"","v":"-"},{"$f":"\"-\"","v":"-"},{"$f":"\"-\"","v":"-"},0,0,0,"良い",0,0,100,{"$f":"\"-\"","v":"-"},{"$f":"VLOOKUP(I3,固定値!$DV$2:$DW$4,2,FALSE)","v":0},{"$f":"VLOOKUP(E3,固定値!$DX$2:$DY$4,2,FALSE)","v":0},-1,-1,-1,-1,-1,-1,{"$f":"VLOOKUP(E3,固定値!$DX$2:$DZ$4,3,FALSE)","v":0},{"$f":"VLOOKUP(E3,固定値!$DX$2:$EA$4,4,FALSE)","v":0}]
[null,"外套","鎧：衣鎧","布","軽",1,-1,0,"普通(-4)",12,0,100,"なし",{"$f":"VLOOKUP(I4,固定値!$DV$2:$DW$4,2,FALSE)","v":-4},{"$f":"VLOOKUP(E4,固定値!$DX$2:$DY$4,2,FALSE)","v":-4},-1,-1,-1,-1,-1,-1,{"$f":"VLOOKUP(E4,固定値!$DX$2:$DZ$4,3,FALSE)","v":0},{"$f":"VLOOKUP(E4,固定値!$DX$2:$EA$4,4,FALSE)","v":0}]
[null,"布鎧","鎧：衣鎧","布","軽",1,0,-2,"良い",15,0,100,"なし",{"$f":"VLOOKUP(I5,固定値!$DV$2:$DW$4,2,FALSE)","v":0},{"$f":"VLOOKUP(E5,固定値!$DX$2:$DY$4,2,FALSE)","v":-4},-1,-1,-1,-1,-1,-1,{"$f":"VLOOKUP(E5,固定値!$DX$2:$DZ$4,3,FALSE)","v":0},{"$f":"VLOOKUP(E5,固定値!$DX$2:$EA$4,4,FALSE)","v":0}]
[null,"旅人の外套","鎧：衣鎧","布","軽",2,-1,0,"普通(-4)",25,0,100,"なし",{"$f":"VLOOKUP(I6,固定値!$DV$2:$DW$4,2,FALSE)","v":-4},{"$f":"VLOOKUP(E6,固定値!$DX$2:$DY$4,2,FALSE)","v":-4},-1,-1,-1,-1,-1,-1,{"$f":"VLOOKUP(E6,固定値!$DX$2:$DZ$4,3,FALSE)","v":0},{"$f":"VLOOKUP(E6,固定値!$DX$2:$EA$4,4,FALSE)","v":0}]
[null,"綿鎧","鎧：衣鎧","布","軽",2,0,0,"普通(-4)",30,0,100,"なし",{"$f":"VLOOKUP(I7,固定値!$DV$2:$DW$4,2,FALSE)","v":-4},{"$f":"VLOOKUP(E7,固定値!$DX$2:$DY$4,2,FALSE)","v":-4},-1,-1,-1,-1,-1,-1,{"$f":"VLOOKUP(E7,固定値!$DX$2:$DZ$4,3,FALSE)","v":0},{"$f":"VLOOKUP(E7,固定値!$DX$2:$EA$4,4,FALSE)","v":0}]
[null,"神官服","鎧：衣鎧","布","軽",1,-1,0,"普通(-4)",25,0,100,"神官または竜司祭を1レベル以上で装甲値+1",{"$f":"VLOOKUP(I8,固定値!$DV$2:$DW$4,2,FALSE)","v":-4},{"$f":"VLOOKUP(E8,固定値!$DX$2:$DY$4,2,FALSE)","v":-4},1,-1,-1,-1,-1,-1,{"$f":"VLOOKUP(E8,固定値!$DX$2:$DZ$4,3,FALSE)","v":0},{"$f":"VLOOKUP(E8,固定値!$DX$2:$EA$4,4,FALSE)","v":0}]
[null,"司教服","鎧：衣鎧","布","軽",2,-1,-4,"悪い(-8)",80,0,100,"神官または竜司祭を5レベル以上で装甲値+2",{"$f":"VLOOKUP(I9,固定値!$DV$2:$DW$4,2,FALSE)","v":-8},{"$f":"VLOOKUP(E9,固定値!$DX$2:$DY$4,2,FALSE)","v":-4},-1,2,-1,-1,-1,-1,{"$f":"VLOOKUP(E9,固定値!$DX$2:$DZ$4,3,FALSE)","v":0},{"$f":"VLOOKUP(E9,固定値!$DX$2:$EA$4,4,FALSE)","v":0}]
[null,"野伏の外套","鎧：軽鎧","布","軽",2,0,0,"良い",35,0,100,"野伏を1レベル以上で隠密判定+2",{"$f":"VLOOKUP(I10,固定値!$DV$2:$DW$4,2,FALSE)","v":0},{"$f":"VLOOKUP(E10,固定値!$DX$2:$DY$4,2,FALSE)","v":-4},-1,-1,2,-1,-1,-1,{"$f":"VLOOKUP(E10,固定値!$DX$2:$DZ$4,3,FALSE)","v":0},{"$f":"VLOOKUP(E10,固定値!$DX$2:$EA$4,4,FALSE)","v":0}]
[null,"狩人の外套","鎧：軽鎧","革","軽",2,0,0,"普通(-4)",40,0,100,"野伏を1レベル以上で回避判定+1",{"$f":"VLOOKUP(I11,固定値!$DV$2:$DW$4,2,FALSE)","v":-4},{"$f":"VLOOKUP(E11,固定値!$DX$2:$DY$4,2,FALSE)","v":-4},-1,-1,-1,1,-1,-1,{"$f":"VLOOKUP(E11,固定値!$DX$2:$DZ$4,3,FALSE)","v":0},{"$f":"VLOOKUP(E11,固定値!$DX$2:$EA$4,4,FALSE)","v":0}]
[null,"革鎧","鎧：軽鎧","革","軽",2,0,0,"普通(-4)",30,0,100,"なし",{"$f":"VLOOKUP(I12,固定値!$DV$2:$DW$4,2,FALSE)","v":-4},{"$f":"VLOOKUP(E12,固定値!$DX$2:$DY$4,2,FALSE)","v":-4},-1,-1,-1,-1,-1,-1,{"$f":"VLOOKUP(E12,固定値!$DX$2:$DZ$4,3,FALSE)","v":0},{"$f":"VLOOKUP(E12,固定値!$DX$2:$EA$4,4,FALSE)","v":0}]
[null,"硬い革鎧","鎧：軽鎧","革","軽",3,-2,0,"普通(-4)",40,5,8,"荷重(5/8)",{"$f":"VLOOKUP(I13,固定値!$DV$2:$DW$4,2,FALSE)","v":-4},{"$f":"VLOOKUP(E13,固定値!$DX$2:$DY$4,2,FALSE)","v":-4},-1,-1,-1,-1,-1,-1,{"$f":"VLOOKUP(E13,固定値!$DX$2:$DZ$4,3,FALSE)","v":0},{"$f":"VLOOKUP(E13,固定値!$DX$2:$EA$4,4,FALSE)","v":0}]
[null,"胸甲","鎧：軽鎧","金属","軽",3,0,-4,"普通(-4)",85,6,10,"荷重(6/10)、斬耐性",{"$f":"VLOOKUP(I14,固定値!$DV$2:$DW$4,2,FALSE)","v":-4},{"$f":"VLOOKUP(E14,固定値!$DX$2:$DY$4,2,FALSE)","v":-4},-1,-1,-1,-1,-1,-1,{"$f":"VLOOKUP(E14,固定値!$DX$2:$DZ$4,3,FALSE)","v":0},{"$f":"VLOOKUP(E14,固定値!$DX$2:$EA$4,4,FALSE)","v":0}]
[null,"下着鎧","鎧：軽鎧","金属","軽",3,-1,-2,"普通(-4)",150,4,8,"荷重(4/8)、交渉：誘惑+2。神官(戦女神)を1レベル以上で交渉判定+2",{"$f":"VLOOKUP(I15,固定値!$DV$2:$DW$4,2,FALSE)","v":-4},{"$f":"VLOOKUP(E15,固定値!$DX$2:$DY$4,2,FALSE)","v":-4},-1,-1,-1,-1,2,2,{"$f":"VLOOKUP(E15,固定値!$DX$2:$DZ$4,3,FALSE)","v":0},{"$f":"VLOOKUP(E15,固定値!$DX$2:$EA$4,4,FALSE)","v":0}]
[null,"鋲付きの革鎧","鎧：軽鎧","革","軽",4,-2,-4,"普通(-4)",60,6,10,"荷重(6/10)",{"$f":"VLOOKUP(I16,固定値!$DV$2:$DW$4,2,FALSE)","v":-4},{"$f":"VLOOKUP(E16,固定値!$DX$2:$DY$4,2,FALSE)","v":-4},-1,-1,-1,-1,-1,-1,{"$f":"VLOOKUP(E16,固定値!$DX$2:$DZ$4,3,FALSE)","v":0},{"$f":"VLOOKUP(E16,固定値!$DX$2:$EA$4,4,FALSE)","v":0}]
[null,"鎖帷子","鎧：重鎧","金属","重",4,-2,-6,"悪い(-8)",85,8,16,"荷重(8/14)、斬耐性",{"$f":"VLOOKUP(I17,固定値!$DV$2:$DW$4,2,FALSE)","v":-8},{"$f":"VLOOKUP(E17,固定値!$DX$2:$DY$4,2,FALSE)","v":-12},-1,-1,-1,-1,-1,-1,{"$f":"VLOOKUP(E17,固定値!$DX$2:$DZ$4,3,FALSE)","v":-4},{"$f":"VLOOKUP(E17,固定値!$DX$2:$EA$4,4,FALSE)","v":-4}]
[null,"鱗状鎧","鎧：重鎧","金属","重",4,-2,-4,"悪い(-8)",120,6,12,"荷重(6/12)、斬耐性",{"$f":"VLOOKUP(I18,固定値!$DV$2:$DW$4,2,FALSE)","v":-8},{"$f":"VLOOKUP(E18,固定値!$DX$2:$DY$4,2,FALSE)","v":-12},-1,-1,-1,-1,-1,-1,{"$f":"VLOOKUP(E18,固定値!$DX$2:$DZ$4,3,FALSE)","v":-4},{"$f":"VLOOKUP(E18,固定値!$DX$2:$EA$4,4,FALSE)","v":-4}]
[null,"板状鎧","鎧：重鎧","金属","重",4,-2,-2,"悪い(-8)",135,6,10,"荷重(6/10)",{"$f":"VLOOKUP(I19,固定値!$DV$2:$DW$4,2,FALSE)","v":-8},{"$f":"VLOOKUP(E19,固定値!$DX$2:$DY$4,2,FALSE)","v":-12},-1,-1,-1,-1,-1,-1,{"$f":"VLOOKUP(E19,固定値!$DX$2:$DZ$4,3,FALSE)","v":-4},{"$f":"VLOOKUP(E19,固定値!$DX$2:$EA$4,4,FALSE)","v":-4}]
[null,"小札鎧","鎧：重鎧","金属","重",5,-2,-4,"普通(-4)",195,7,12,"荷重(7/12)、斬耐性",{"$f":"VLOOKUP(I20,固定値!$DV$2:$DW$4,2,FALSE)","v":-4},{"$f":"VLOOKUP(E20,固定値!$DX$2:$DY$4,2,FALSE)","v":-12},-1,-1,-1,-1,-1,-1,{"$f":"VLOOKUP(E20,固定値!$DX$2:$DZ$4,3,FALSE)","v":-4},{"$f":"VLOOKUP(E20,固定値!$DX$2:$EA$4,4,FALSE)","v":-4}]
[null,"胴鎧","鎧：重鎧","金属","重",6,-2,-4,"普通(-4)",270,7,14,"荷重(7/14)、斬耐性",{"$f":"VLOOKUP(I21,固定値!$DV$2:$DW$4,2,FALSE)","v":-4},{"$f":"VLOOKUP(E21,固定値!$DX$2:$DY$4,2,FALSE)","v":-12},-1,-1,-1,-1,-1,-1,{"$f":"VLOOKUP(E21,固定値!$DX$2:$DZ$4,3,FALSE)","v":-4},{"$f":"VLOOKUP(E21,固定値!$DX$2:$EA$4,4,FALSE)","v":-4}]
[null,"板金鎧","鎧：重鎧","金属","重",7,-4,-10,"悪い(-8)",460,9,16,"荷重(9/16)、斬耐性、刺耐性",{"$f":"VLOOKUP(I22,固定値!$DV$2:$DW$4,2,FALSE)","v":-8},{"$f":"VLOOKUP(E22,固定値!$DX$2:$DY$4,2,FALSE)","v":-12},-1,-1,-1,-1,-1,-1,{"$f":"VLOOKUP(E22,固定値!$DX$2:$DZ$4,3,FALSE)","v":-4},{"$f":"VLOOKUP(E22,固定値!$DX$2:$EA$4,4,FALSE)","v":-4}]
[null,"当世具足","鎧：重鎧","金属","重",7,-4,-6,"悪い(-8)",600,7,12,"荷重(7/12)、斬耐性、刺耐性",{"$f":"VLOOKUP(I23,固定値!$DV$2:$DW$4,2,FALSE)","v":-8},{"$f":"VLOOKUP(E23,固定値!$DX$2:$DY$4,2,FALSE)","v":-12},-1,-1,-1,-1,-1,-1,{"$f":"VLOOKUP(E23,固定値!$DX$2:$DZ$4,3,FALSE)","v":-4},{"$f":"VLOOKUP(E23,固定値!$DX$2:$EA$4,4,FALSE)","v":-4}]
[null,"魔法の鋲付きの革鎧（＋１）","鎧：軽鎧","革","軽",5,-1,-4,"普通(-4)",400,6,10,"荷重(6/10)",{"$f":"VLOOKUP(I24,固定値!$DV$2:$DW$4,2,FALSE)","v":-4},{"$f":"VLOOKUP(E24,固定値!$DX$2:$DY$4,2,FALSE)","v":-4},-1,-1,-1,-1,-1,-1,{"$f":"VLOOKUP(E24,固定値!$DX$2:$DZ$4,3,FALSE)","v":0},{"$f":"VLOOKUP(E24,固定値!$DX$2:$EA$4,4,FALSE)","v":0}]
[null,"魔法の鋲付きの革鎧（＋２）","鎧：軽鎧","革","軽",6,0,-4,"普通(-4)",1600,6,10,"荷重(6/10)",{"$f":"VLOOKUP(I25,固定値!$DV$2:$DW$4,2,FALSE)","v":-4},{"$f":"VLOOKUP(E25,固定値!$DX$2:$DY$4,2,FALSE)","v":-4},-1,-1,-1,-1,-1,-1,{"$f":"VLOOKUP(E25,固定値!$DX$2:$DZ$4,3,FALSE)","v":0},{"$f":"VLOOKUP(E25,固定値!$DX$2:$EA$4,4,FALSE)","v":0}]

{"sheet":"盾表","index":22,"n_rows":14,"n_cols":12,"rows_kept":14,"cut":false,"hidden":false,"merged":[]}
[]
[null,"名前","種別","副種別","重量","盾受け修正","盾受け値","隠密性","価格","効果","受け流し","隠密性修正"]
[null,"なし","-","-","-",0,0,"良い",0,"-",-1,{"$f":"VLOOKUP(H3,固定値!$DV$2:$DW$4,2,FALSE)","v":0}]
[null,"大篭手","小型盾","金属","軽",2,1,"良い",13,"投擲不可",-1,{"$f":"VLOOKUP(H4,固定値!$DV$2:$DW$4,2,FALSE)","v":0}]
[null,"小盾","小型盾","木","軽",3,2,"良い",25,"受け流し(+1)",1,{"$f":"VLOOKUP(H5,固定値!$DV$2:$DW$4,2,FALSE)","v":0}]
[null,"円盾","小型盾","木","軽",4,3,"普通(-4)",35,"なし",-1,{"$f":"VLOOKUP(H6,固定値!$DV$2:$DW$4,2,FALSE)","v":-4}]
[null,"吊盾","小型盾","木、革","軽",5,3,"普通(-4)",40,"受け流し(+1)",1,{"$f":"VLOOKUP(H7,固定値!$DV$2:$DW$4,2,FALSE)","v":-4}]
[null,"投火盾","小型盾","木、金属","軽",3,3,"悪い(-8)",85,"受け流し(+1)",1,{"$f":"VLOOKUP(H8,固定値!$DV$2:$DW$4,2,FALSE)","v":-8}]
[null,"尖盾","大型盾","木、金属","重",4,3,"悪い(-8)",45,"なし",-1,{"$f":"VLOOKUP(H9,固定値!$DV$2:$DW$4,2,FALSE)","v":-8}]
[null,"馬上盾","大型盾","木、金属","重",4,4,"悪い(-8)",50,"馬上中受け流し(+1)",1,{"$f":"VLOOKUP(H10,固定値!$DV$2:$DW$4,2,FALSE)","v":-8}]
[null,"騎士盾","大型盾","木、金属","重",5,4,"悪い(-8)",70,"馬上中受け流し(+2)",2,{"$f":"VLOOKUP(H11,固定値!$DV$2:$DW$4,2,FALSE)","v":-8}]
[null,"大盾","大型盾","木、金属","重",5,5,"悪い(-8)",80,"なし",-1,{"$f":"VLOOKUP(H12,固定値!$DV$2:$DW$4,2,FALSE)","v":-8}]
[null,"魔法の小盾（＋１）","小型盾","木","軽",4,3,"良い",225,"受け流し(+1)",1,{"$f":"VLOOKUP(H13,固定値!$DV$2:$DW$4,2,FALSE)","v":0}]
[null,"竜鱗の吊盾","小型盾","木、龍麟","軽",6,4,"普通(-4)",1400,"受け流し(+1)、呪文に対する装甲+4",1,{"$f":"VLOOKUP(H14,固定値!$DV$2:$DW$4,2,FALSE)","v":-4}]

{"sheet":"指輪腕輪","index":23,"n_rows":47,"n_cols":21,"rows_kept":47,"cut":false,"hidden":false,"merged":[]}
[null,"指輪腕輪","価格","体力","魂魄","技量","知力","武器：片手剣","武器：両手剣","武器：斧","武器：槍","武器：戦槌","武器：棍杖","武器：格闘","武器：投擲","武器：弩弓","体力抵抗","魂魄抵抗","知力抵抗","呪文抵抗","体術"]
[null,"なし",0,0,0,0,0,0,0,0,0,0,0,0,0,0,0,0,0,0,0]
[null,"体力強化の指輪（＋１）",2000,1,0,0,0,0,0,0,0,0,0,0,0,0,0,0,0,0,0]
[null,"体力強化の指輪（＋２）",5000,2,0,0,0,0,0,0,0,0,0,0,0,0,0,0,0,0,0]
[null,"体力強化の指輪（＋３）",20000,3,0,0,0,0,0,0,0,0,0,0,0,0,0,0,0,0,0]
[null,"魂魄強化の指輪（＋１）",2000,0,1,0,0,0,0,0,0,0,0,0,0,0,0,0,0,0,0]
[null,"魂魄強化の指輪（＋２）",5000,0,2,0,0,0,0,0,0,0,0,0,0,0,0,0,0,0,0]
[null,"魂魄強化の指輪（＋３）",20000,0,3,0,0,0,0,0,0,0,0,0,0,0,0,0,0,0,0]
[null,"技量強化の指輪（＋１）",2000,0,0,1,0,0,0,0,0,0,0,0,0,0,0,0,0,0,0]
[null,"技量強化の指輪（＋２）",5000,0,0,2,0,0,0,0,0,0,0,0,0,0,0,0,0,0,0]
[null,"技量強化の指輪（＋３）",20000,0,0,3,0,0,0,0,0,0,0,0,0,0,0,0,0,0,0]
[null,"知力強化の指輪（＋１）",2000,0,0,0,1,0,0,0,0,0,0,0,0,0,0,0,0,0,0]
[null,"知力強化の指輪（＋２）",5000,0,0,0,2,0,0,0,0,0,0,0,0,0,0,0,0,0,0]
[null,"知力強化の指輪（＋３）",20000,0,0,0,3,0,0,0,0,0,0,0,0,0,0,0,0,0,0]
[null,"剣術熟達の腕輪（＋１）",1000,0,0,0,0,1,1,0,0,0,0,0,0,0,0,0,0,0,0]
[null,"剣術熟達の腕輪（＋２）",2500,0,0,0,0,2,2,0,0,0,0,0,0,0,0,0,0,0,0]
[null,"剣術熟達の腕輪（＋３）",10000,0,0,0,0,3,3,0,0,0,0,0,0,0,0,0,0,0,0]
[null,"斧術熟達の腕輪（＋１）",1000,0,0,0,0,0,0,1,0,0,0,0,0,0,0,0,0,0,0]
[null,"斧術熟達の腕輪（＋２）",2500,0,0,0,0,0,0,2,0,0,0,0,0,0,0,0,0,0,0]
[null,"斧術熟達の腕輪（＋３）",10000,0,0,0,0,0,0,3,0,0,0,0,0,0,0,0,0,0,0]
[null,"槍術熟達の腕輪（＋１）",1000,0,0,0,0,0,0,0,1,0,0,0,0,0,0,0,0,0,0]
[null,"槍術熟達の腕輪（＋２）",2500,0,0,0,0,0,0,0,2,0,0,0,0,0,0,0,0,0,0]
[null,"槍術熟達の腕輪（＋３）",10000,0,0,0,0,0,0,0,3,0,0,0,0,0,0,0,0,0,0]
[null,"槌術熟達の腕輪（＋１）",1000,0,0,0,0,0,0,0,0,1,0,0,0,0,0,0,0,0,0]
[null,"槌術熟達の腕輪（＋２）",2500,0,0,0,0,0,0,0,0,2,0,0,0,0,0,0,0,0,0]
[null,"槌術熟達の腕輪（＋３）",10000,0,0,0,0,0,0,0,0,3,0,0,0,0,0,0,0,0,0]
[null,"棍術熟達の腕輪（＋１）",1000,0,0,0,0,0,0,0,0,0,1,0,0,0,0,0,0,0,0]
[null,"棍術熟達の腕輪（＋２）",2500,0,0,0,0,0,0,0,0,0,2,0,0,0,0,0,0,0,0]
[null,"棍術熟達の腕輪（＋３）",10000,0,0,0,0,0,0,0,0,0,3,0,0,0,0,0,0,0,0]
[null,"武術熟達の腕輪（＋１）",1000,0,0,0,0,0,0,0,0,0,0,1,0,0,0,0,0,0,0]
[null,"武術熟達の腕輪（＋２）",2500,0,0,0,0,0,0,0,0,0,0,2,0,0,0,0,0,0,0]
[null,"武術熟達の腕輪（＋３）",10000,0,0,0,0,0,0,0,0,0,0,3,0,0,0,0,0,0,0]
[null,"投術熟達の腕輪（＋１）",1000,0,0,0,0,0,0,0,0,0,0,0,1,0,0,0,0,0,0]
[null,"投術熟達の腕輪（＋２）",2500,0,0,0,0,0,0,0,0,0,0,0,2,0,0,0,0,0,0]
[null,"投術熟達の腕輪（＋３）",10000,0,0,0,0,0,0,0,0,0,0,0,3,0,0,0,0,0,0]
[null,"弓術熟達の腕輪（＋１）",1000,0,0,0,0,0,0,0,0,0,0,0,0,1,0,0,0,0,0]
[null,"弓術熟達の腕輪（＋２）",2500,0,0,0,0,0,0,0,0,0,0,0,0,2,0,0,0,0,0]
[null,"弓術熟達の腕輪（＋３）",10000,0,0,0,0,0,0,0,0,0,0,0,0,3,0,0,0,0,0]
[null,"水中呼吸の指輪",500,0,0,0,0,0,0,0,0,0,0,0,0,0,0,0,0,0,0]
[null,"体力抵抗の指輪",1000,0,0,0,0,0,0,0,0,0,0,0,0,0,2,0,0,0,0]
[null,"魂魄抵抗の指輪",1000,0,0,0,0,0,0,0,0,0,0,0,0,0,0,2,0,0,0]
[null,"知力抵抗の指輪",1000,0,0,0,0,0,0,0,0,0,0,0,0,0,0,0,2,0,0]
[null,"呪文抵抗の指輪",1000,0,0,0,0,0,0,0,0,0,0,0,0,0,0,0,0,2,0]
[null,"呪文結界の指輪",500,0,0,0,0,0,0,0,0,0,0,0,0,0,0,0,0,0,0]
[null,"体術熟達の腕輪（＋１）",1000,0,0,0,0,0,0,0,0,0,0,0,0,0,0,0,0,0,1]
[null,"体術熟達の腕輪（＋２）",2500,0,0,0,0,0,0,0,0,0,0,0,0,0,0,0,0,0,2]
[null,"体術熟達の腕輪（＋３）",10000,0,0,0,0,0,0,0,0,0,0,0,0,0,0,0,0,0,3]

{"sheet":"計算シート","index":24,"n_rows":2,"n_cols":2,"rows_kept":2,"cut":false,"hidden":false,"merged":[[1,1,43,1]]}
[]
[null,{"$f":"テキストシート!B1&CHAR(10)&テキストシート!B2&CHAR(10)&テキストシート!B3&CHAR(10)&テキストシート!B4&CHAR(10)&テキストシート!B5&CHAR(10)&テキストシート!B6&CHAR(10)&テキストシート!B7&CHAR(10)&テキストシート!B8&CHAR(10)&能力値!B16&CHAR(10)&能力値!B17&CHAR(10)&能力値!B18&CHAR(10)&能力値!B19&CHAR(10)&能力値!B20&CHAR(10)&能力値!B21&CHAR(10)&能力値!B22&CHAR(10)&能力値!B23&CHAR(10)&能力値!B24&CHAR(10)&能力値!B25&CHAR(10)&能力値!B26&CHAR(10)&能力値!B27&CHAR(10)&能力値!B28&CHAR(10)&テキストシート!B11&CHAR(10)&テキストシート!B12&CHAR(10)&テキストシート!B13&CHAR(10)&テキストシート!B14&CHAR(10)&テキストシート!B16&CHAR(10)&テキストシート!B17&CHAR(10)&テキストシート!B18&CHAR(10)&テキストシート!B19&CHAR(10)&テキストシート!B20&CHAR(10)&テキストシート!B21&CHAR(10)&テキストシート!B23&CHAR(10)&テキストシート!B24&CHAR(10)&テキストシート!B25&CHAR(10)&テキストシート!B26&CHAR(10)&テキストシート!B28&CHAR(10)&テキストシート!B29&CHAR(10)&テキストシート!B31&CHAR(10)&テキストシート!B33&CHAR(10)&テキストシート!B35&CHAR(10)&テキストシート!B36&CHAR(10)&テキストシート!B37&CHAR(10)&テキストシート!B38&CHAR(10)&テキストシート!B43&CHAR(10)&テキストシート!B45&CHAR(10)&テキストシート!B46&CHAR(10)&テキストシート!B47&CHAR(10)&テキストシート!B49&CHAR(10)&テキストシート!B50&CHAR(10)&テキストシート!B52&CHAR(10)&テキストシート!B53&CHAR(10)&テキストシート!B54&CHAR(10)&テキストシート!B55&CHAR(10)&テキストシート!B57&CHAR(10)&テキストシート!B58&CHAR(10)&テキストシート!B60","v":"────────────────ゴブリンスレイヤーTRPG冒険記録用紙──────────────────\n名前：【何か書いてください】　　種族：【只人】　　性別：【不明】　　年齢：【不明】\n経歴：【農民／平穏／家族】　　等級：【白磁等級】\n身体的特徴：【何か書いてください】\n経験点：【3000／3000】　　成長点【10／10】\n───────────────────────　 設定 　───────────────────────\n【冒険者になった動機】腕試しのため\n何か書いてください\n──────────────────────────────────────────────────\n　　　　┌───┬───┬───┬───┐\n　　　　│体力点│魂魄点│技量点│知力点│\n　　　　│　３　│　２　│　３　│　３　│\n┌───┼───┼───┼───┼───┤\n│集中度│　　　│　　　│　　　│　　　│\n│　２　│　５　│　４　│　５　│　５　│\n├───┼───┼───┼───┼───┤\n│持久度│　　　│　　　│　　　│　　　│\n│　４　│　７　│　６　│　７　│　７　│\n├───┼───┼───┼───┼───┤\n│反射度│　　　│　　　│　　　│　　　│\n│　２　│　５　│　４　│　５　│　５　│\n└───┴───┴───┴───┴───┘\n生命力：【14】　 　 生命力2倍：【28】　　　負傷点：【0】 \n移動力：【21】　　呪文使用回数：【1】　 □\n呪文抵抗基準値（魂魄反射＋冒険者LV+呪文抵抗）：【5】 \n因果点：【3】\n◆消耗　\n　 1　　□□□□□　　全判定－２ \n　 2　　□□□□　　　全判定－３　移動力半減 \n　 3　　□□□　　　　全判定－４　移動力と生命力半減  \n　 4　　□□　　　　　気絶　移動不可　生命力半減   \n　 5　　□　　　　　　死亡   \n◆継戦カウンター \n□□□□○　5　□□○□□10　○□□○□15　○□○□○20　\n○○○○○25　○○○○○30　○○○○○35　○○○○○40　\n※○１つにつき１点消耗 \n◆冒険者レベル：【1】\n 職業レベル：\n◆冒険者技能　　　　　　初歩　／　習熟　　／　熟達　　／　達人　　／　伝説　　／　効果 \n【荷重行動】　　　　　　　●　　　　　○　　　　　○　　　　　○　　 　　○　 ／\n【武器：投擲武器】　　　　●　　　　　○　　　　　○　　　　　○　　 　　○　 ／\n◆一般技能　　　　　　　初歩　／　　習熟　／　　熟達　／　効果 \n【長距離移動】　　　　　　●　　　　　○　　　　　○　 ／\n◆呪文 \n 真言呪文：呪文行使基準値（知力集中）：【５】 \n 奇跡／祖竜／精霊：呪文行使基準値（魂魄集中）：【４】 \n呪文行使 真言：【0】　　奇跡：【0】　　祖竜：【0】　　精霊：【0】 \n◎習得呪文\n◆攻撃\n命中基準値（技量集中）：【５】 \n近接：【5】　　弩弓：【5】　　投擲：【5】 \n\n◎効力値\n-１４：無し　１５－１９：＋１D６　２０－２４：＋２D６　２５－２９：＋３D６　３０－３９：＋４D６　４０：＋５D６\n◆防御 \n回避基準値（技量反射）：【５】 \n\n\n◆所持金 \n銀貨：100\n◆その他の所持品 \n移動力修正【0】\n冒険者ツール(鈎縄10m、楔10個、小槌、火口箱、背負い袋、携帯用食器、水袋、白墨、小刀、松明(6本))\n携帯食：21\n衣類"}]